Back to Multiple platform build/check report for BioC 3.12
ABCDEFGHIJKLMNOPQ[R]STUVWXYZ

BUILD report for rTRMui on nebbiolo1

This page was generated on 2021-02-22 12:35:47 -0500 (Mon, 22 Feb 2021).

To the developers/maintainers of the rTRMui package:
Please make sure to use the following settings in order to reproduce any error or warning you see on this page.
Package 1601/1974HostnameOS / ArchINSTALLBUILDCHECKBUILD BIN
rTRMui 1.28.0
Diego Diez
Snapshot Date: 2021-02-21 14:52:07 -0500 (Sun, 21 Feb 2021)
URL: https://git.bioconductor.org/packages/rTRMui
Branch: RELEASE_3_12
Last Commit: ea680aa
Last Changed Date: 2020-10-27 10:53:00 -0500 (Tue, 27 Oct 2020)
malbec1Linux (Ubuntu 18.04.5 LTS) / x86_64  OK    OK    OK  UNNEEDED, same version exists in internal repository
nebbiolo1Linux (Ubuntu 20.04.2 LTS) / x86_64  OK    OK    OK  
tokay1Windows Server 2012 R2 Standard / x64  OK    OK    OK    OK  UNNEEDED, same version exists in internal repository
merida1macOS 10.14.6 Mojave / x86_64  OK    OK    OK    OK  UNNEEDED, same version exists in internal repository

Summary

Package: rTRMui
Version: 1.28.0
Command: /home/biocbuild/bbs-3.12-bioc/R/bin/R CMD build --keep-empty-dirs --no-resave-data rTRMui
StartedAt: 2021-02-21 19:35:02 -0500 (Sun, 21 Feb 2021)
EndedAt: 2021-02-21 19:36:16 -0500 (Sun, 21 Feb 2021)
EllapsedTime: 74.3 seconds
RetCode: 0
Status:   OK  
PackageFile: rTRMui_1.28.0.tar.gz
PackageFileSize: 1.067 MiB

Command output

##############################################################################
##############################################################################
###
### Running command:
###
###   /home/biocbuild/bbs-3.12-bioc/R/bin/R CMD build --keep-empty-dirs --no-resave-data rTRMui
###
##############################################################################
##############################################################################


* checking for file ‘rTRMui/DESCRIPTION’ ... OK
* preparing ‘rTRMui’:
* checking DESCRIPTION meta-information ... OK
* installing the package to build vignettes
* creating vignettes ... OK
* checking for LF line-endings in source and make files and shell scripts
* checking for empty or unneeded directories
* building ‘rTRMui_1.28.0.tar.gz’