Back to Multiple platform build/check report for BioC 3.12
ABCDEF[G]HIJKLMNOPQRSTUVWXYZ

INSTALL report for geneClassifiers on nebbiolo1

This page was generated on 2021-01-19 11:53:31 -0500 (Tue, 19 Jan 2021).

TO THE DEVELOPERS/MAINTAINERS OF THE geneClassifiers PACKAGE: Please make sure to use the following settings in order to reproduce any error or warning you see on this page.
Package 685/1974HostnameOS / ArchINSTALLBUILDCHECKBUILD BIN
geneClassifiers 1.14.0
R Kuiper
Snapshot Date: 2021-01-18 14:42:24 -0500 (Mon, 18 Jan 2021)
URL: https://git.bioconductor.org/packages/geneClassifiers
Branch: RELEASE_3_12
Last Commit: 1267ca3
Last Changed Date: 2020-10-27 11:21:25 -0500 (Tue, 27 Oct 2020)
malbec1 Linux (Ubuntu 18.04.5 LTS) / x86_64  OK  OK  OK UNNEEDED, same version exists in internal repository
nebbiolo1 Linux (Ubuntu 20.04.1 LTS) / x86_64 [ OK ] OK  OK 
tokay1 Windows Server 2012 R2 Standard / x64  OK  OK  OK  OK UNNEEDED, same version exists in internal repository
merida1 macOS 10.14.6 Mojave / x86_64  OK  OK  OK  OK UNNEEDED, same version exists in internal repository

Summary

Package: geneClassifiers
Version: 1.14.0
Command: /home/biocbuild/bbs-3.12-bioc/R/bin/R CMD INSTALL geneClassifiers
StartedAt: 2021-01-18 16:17:23 -0500 (Mon, 18 Jan 2021)
EndedAt: 2021-01-18 16:18:28 -0500 (Mon, 18 Jan 2021)
EllapsedTime: 64.6 seconds
RetCode: 0
Status:  OK 

Command output

##############################################################################
##############################################################################
###
### Running command:
###
###   /home/biocbuild/bbs-3.12-bioc/R/bin/R CMD INSTALL geneClassifiers
###
##############################################################################
##############################################################################


* installing to library ‘/home/biocbuild/bbs-3.12-bioc/R/library’
* installing *source* package ‘geneClassifiers’ ...
** using staged installation
** R
** data
*** moving datasets to lazyload DB
** byte-compile and prepare package for lazy loading
** help
*** installing help indices
** building package indices
** installing vignettes
** testing if installed package can be loaded from temporary location
** testing if installed package can be loaded from final location
** testing if installed package keeps a record of temporary installation path
* DONE (geneClassifiers)