Back to Multiple platform build/check report for BioC 3.12
ABC[D]EFGHIJKLMNOPQRSTUVWXYZ

CHECK report for dualKS on nebbiolo1

This page was generated on 2021-01-19 11:53:23 -0500 (Tue, 19 Jan 2021).

TO THE DEVELOPERS/MAINTAINERS OF THE dualKS PACKAGE: Please make sure to use the following settings in order to reproduce any error or warning you see on this page.
Package 515/1974HostnameOS / ArchINSTALLBUILDCHECKBUILD BIN
dualKS 1.50.0
Eric J. Kort
Snapshot Date: 2021-01-18 14:42:24 -0500 (Mon, 18 Jan 2021)
URL: https://git.bioconductor.org/packages/dualKS
Branch: RELEASE_3_12
Last Commit: 5eb36a6
Last Changed Date: 2020-10-27 10:55:06 -0500 (Tue, 27 Oct 2020)
malbec1 Linux (Ubuntu 18.04.5 LTS) / x86_64  OK  OK  OK UNNEEDED, same version exists in internal repository
nebbiolo1 Linux (Ubuntu 20.04.1 LTS) / x86_64  OK  OK [ OK ]
tokay1 Windows Server 2012 R2 Standard / x64  OK  OK  OK  OK UNNEEDED, same version exists in internal repository
merida1 macOS 10.14.6 Mojave / x86_64  OK  OK  OK  OK UNNEEDED, same version exists in internal repository

Summary

Package: dualKS
Version: 1.50.0
Command: /home/biocbuild/bbs-3.12-bioc/R/bin/R CMD check --install=check:dualKS.install-out.txt --library=/home/biocbuild/bbs-3.12-bioc/R/library --no-vignettes --timings dualKS_1.50.0.tar.gz
StartedAt: 2021-01-18 21:12:21 -0500 (Mon, 18 Jan 2021)
EndedAt: 2021-01-18 21:13:10 -0500 (Mon, 18 Jan 2021)
EllapsedTime: 48.8 seconds
RetCode: 0
Status:  OK 
CheckDir: dualKS.Rcheck
Warnings: 0

Command output

##############################################################################
##############################################################################
###
### Running command:
###
###   /home/biocbuild/bbs-3.12-bioc/R/bin/R CMD check --install=check:dualKS.install-out.txt --library=/home/biocbuild/bbs-3.12-bioc/R/library --no-vignettes --timings dualKS_1.50.0.tar.gz
###
##############################################################################
##############################################################################


* using log directory ‘/home/biocbuild/bbs-3.12-bioc/meat/dualKS.Rcheck’
* using R version 4.0.3 (2020-10-10)
* using platform: x86_64-pc-linux-gnu (64-bit)
* using session charset: UTF-8
* using option ‘--no-vignettes’
* checking for file ‘dualKS/DESCRIPTION’ ... OK
* checking extension type ... Package
* this is package ‘dualKS’ version ‘1.50.0’
* checking package namespace information ... OK
* checking package dependencies ... OK
* checking if this is a source package ... OK
* checking if there is a namespace ... OK
* checking for hidden files and directories ... OK
* checking for portable file names ... OK
* checking for sufficient/correct file permissions ... OK
* checking whether package ‘dualKS’ can be installed ... OK
* checking installed package size ... OK
* checking package directory ... OK
* checking ‘build’ directory ... OK
* checking DESCRIPTION meta-information ... OK
* checking top-level files ... OK
* checking for left-over files ... OK
* checking index information ... OK
* checking package subdirectories ... OK
* checking R files for non-ASCII characters ... OK
* checking R files for syntax errors ... OK
* checking whether the package can be loaded ... OK
* checking whether the package can be loaded with stated dependencies ... OK
* checking whether the package can be unloaded cleanly ... OK
* checking whether the namespace can be loaded with stated dependencies ... OK
* checking whether the namespace can be unloaded cleanly ... OK
* checking dependencies in R code ... OK
* checking S3 generic/method consistency ... OK
* checking replacement functions ... OK
* checking foreign function calls ... OK
* checking R code for possible problems ... NOTE
dksPerm : gammaLL: no visible global function definition for ‘dgamma’
dksPerm: no visible global function definition for ‘var’
dksPerm: no visible global function definition for ‘optim’
dksWeights : ag: no visible global function definition for ‘aggregate’
plot,DKSPredicted-missing: no visible global function definition for
  ‘rainbow’
Undefined global functions or variables:
  aggregate dgamma optim rainbow var
Consider adding
  importFrom("grDevices", "rainbow")
  importFrom("stats", "aggregate", "dgamma", "optim", "var")
to your NAMESPACE file.
* checking Rd files ... OK
* checking Rd metadata ... OK
* checking Rd cross-references ... OK
* checking for missing documentation entries ... OK
* checking for code/documentation mismatches ... OK
* checking Rd \usage sections ... OK
* checking Rd contents ... OK
* checking for unstated dependencies in examples ... OK
* checking contents of ‘data’ directory ... OK
* checking data for non-ASCII characters ... OK
* checking data for ASCII and uncompressed saves ... OK
* checking files in ‘vignettes’ ... OK
* checking examples ... OK
* checking for unstated dependencies in vignettes ... OK
* checking package vignettes in ‘inst/doc’ ... OK
* checking running R code from vignettes ... SKIPPED
* checking re-building of vignette outputs ... SKIPPED
* checking PDF version of manual ... OK
* DONE

Status: 1 NOTE
See
  ‘/home/biocbuild/bbs-3.12-bioc/meat/dualKS.Rcheck/00check.log’
for details.



Installation output

dualKS.Rcheck/00install.out

##############################################################################
##############################################################################
###
### Running command:
###
###   /home/biocbuild/bbs-3.12-bioc/R/bin/R CMD INSTALL dualKS
###
##############################################################################
##############################################################################


* installing to library ‘/home/biocbuild/bbs-3.12-bioc/R/library’
* installing *source* package ‘dualKS’ ...
** using staged installation
** R
** data
** byte-compile and prepare package for lazy loading
** help
*** installing help indices
** building package indices
** installing vignettes
** testing if installed package can be loaded from temporary location
** testing if installed package can be loaded from final location
** testing if installed package keeps a record of temporary installation path
* DONE (dualKS)

Tests output


Example timings

dualKS.Rcheck/dualKS-Ex.timings

nameusersystemelapsed
KS1.6060.0601.743
dksClassify1.0930.0321.138
dksCustomClass0.0170.0000.034
dksPerm1.0220.0241.168
dksSelectGenes1.0470.0121.060
dksTrain0.7080.0080.716
dksWeights1.9790.0001.986