Back to Multiple platform build/check report for BioC 3.12
AB[C]DEFGHIJKLMNOPQRSTUVWXYZ

INSTALL report for cghMCR on nebbiolo1

This page was generated on 2020-09-19 10:16:21 -0400 (Sat, 19 Sep 2020).

TO THE DEVELOPERS/MAINTAINERS OF THE cghMCR PACKAGE: Please make sure to use the following settings in order to reproduce any error or warning you see on this page.
Package 260/1912HostnameOS / ArchINSTALLBUILDCHECKBUILD BIN
cghMCR 1.47.0
J. Zhang
Snapshot Date: 2020-09-18 14:43:25 -0400 (Fri, 18 Sep 2020)
URL: https://git.bioconductor.org/packages/cghMCR
Branch: master
Last Commit: ac6f1bb
Last Changed Date: 2020-04-27 14:13:14 -0400 (Mon, 27 Apr 2020)
malbec1 Linux (Ubuntu 18.04.4 LTS) / x86_64  OK  OK  WARNINGS UNNEEDED, same version exists in internal repository
nebbiolo1 Linux (Ubuntu 20.04.1 LTS) / x86_64 [ OK ] OK  WARNINGS 
tokay1 Windows Server 2012 R2 Standard / x64  OK  OK  WARNINGS  OK UNNEEDED, same version exists in internal repository
riesling1 Windows Server 2019 Standard / x64  OK  OK  WARNINGS  OK 
merida1 macOS 10.14.6 Mojave / x86_64  OK  OK  WARNINGS  OK UNNEEDED, same version exists in internal repository

Summary

Package: cghMCR
Version: 1.47.0
Command: /home/biocbuild/bbs-3.12-bioc/R/bin/R CMD INSTALL cghMCR
StartedAt: 2020-09-18 17:04:12 -0400 (Fri, 18 Sep 2020)
EndedAt: 2020-09-18 17:05:17 -0400 (Fri, 18 Sep 2020)
EllapsedTime: 64.5 seconds
RetCode: 0
Status:  OK 

Command output

##############################################################################
##############################################################################
###
### Running command:
###
###   /home/biocbuild/bbs-3.12-bioc/R/bin/R CMD INSTALL cghMCR
###
##############################################################################
##############################################################################


* installing to library ‘/home/biocbuild/bbs-3.12-bioc/R/library’
* installing *source* package ‘cghMCR’ ...
** using staged installation
** R
** data
** inst
** byte-compile and prepare package for lazy loading
** help
*** installing help indices
** building package indices
** installing vignettes
** testing if installed package can be loaded from temporary location
** testing if installed package can be loaded from final location
** testing if installed package keeps a record of temporary installation path
* DONE (cghMCR)