Back to Multiple platform build/check report for BioC 3.12
AB[C]DEFGHIJKLMNOPQRSTUVWXYZ

BUILD report for cellbaseR on nebbiolo1

This page was generated on 2020-09-19 10:17:44 -0400 (Sat, 19 Sep 2020).

TO THE DEVELOPERS/MAINTAINERS OF THE cellbaseR PACKAGE: Please make sure to use the following settings in order to reproduce any error or warning you see on this page.
Package 241/1912HostnameOS / ArchINSTALLBUILDCHECKBUILD BIN
cellbaseR 1.13.0
Mohammed OE Abdallah
Snapshot Date: 2020-09-18 14:43:25 -0400 (Fri, 18 Sep 2020)
URL: https://git.bioconductor.org/packages/cellbaseR
Branch: master
Last Commit: e14a517
Last Changed Date: 2020-04-27 15:07:27 -0400 (Mon, 27 Apr 2020)
malbec1 Linux (Ubuntu 18.04.4 LTS) / x86_64  OK  OK  OK UNNEEDED, same version exists in internal repository
nebbiolo1 Linux (Ubuntu 20.04.1 LTS) / x86_64  OK [ OK ] ERROR 
tokay1 Windows Server 2012 R2 Standard / x64  OK  OK  WARNINGS  OK UNNEEDED, same version exists in internal repository
riesling1 Windows Server 2019 Standard / x64  OK  OK  ERROR  OK 
merida1 macOS 10.14.6 Mojave / x86_64  OK  ERROR  skipped  skipped 

Summary

Package: cellbaseR
Version: 1.13.0
Command: /home/biocbuild/bbs-3.12-bioc/R/bin/R CMD build --keep-empty-dirs --no-resave-data cellbaseR
StartedAt: 2020-09-18 18:50:44 -0400 (Fri, 18 Sep 2020)
EndedAt: 2020-09-18 18:51:41 -0400 (Fri, 18 Sep 2020)
EllapsedTime: 56.5 seconds
RetCode: 0
Status:  OK 
PackageFile: cellbaseR_1.13.0.tar.gz
PackageFileSize: 478.7 KiB

Command output

##############################################################################
##############################################################################
###
### Running command:
###
###   /home/biocbuild/bbs-3.12-bioc/R/bin/R CMD build --keep-empty-dirs --no-resave-data cellbaseR
###
##############################################################################
##############################################################################


* checking for file ‘cellbaseR/DESCRIPTION’ ... OK
* preparing ‘cellbaseR’:
* checking DESCRIPTION meta-information ... OK
* installing the package to build vignettes
* creating vignettes ... OK
* checking for LF line-endings in source and make files and shell scripts
* checking for empty or unneeded directories
* building ‘cellbaseR_1.13.0.tar.gz’