Back to Multiple platform build/check report for BioC 3.12
AB[C]DEFGHIJKLMNOPQRSTUVWXYZ

BUILD report for celda on nebbiolo1

This page was generated on 2021-03-02 12:14:39 -0500 (Tue, 02 Mar 2021).

To the developers/maintainers of the celda package:
Please make sure to use the following settings in order to reproduce any error or warning you see on this page.
Package 248/1974HostnameOS / ArchINSTALLBUILDCHECKBUILD BIN
celda 1.6.1
Joshua Campbell
Snapshot Date: 2021-03-01 14:52:38 -0500 (Mon, 01 Mar 2021)
URL: https://git.bioconductor.org/packages/celda
Branch: RELEASE_3_12
Last Commit: c18034f
Last Changed Date: 2020-10-27 13:51:27 -0500 (Tue, 27 Oct 2020)
malbec1Linux (Ubuntu 18.04.5 LTS) / x86_64  OK    OK    OK  UNNEEDED, same version exists in internal repository
nebbiolo1Linux (Ubuntu 20.04.2 LTS) / x86_64  OK    OK    OK  
tokay1Windows Server 2012 R2 Standard / x64  OK    OK    OK    OK  UNNEEDED, same version exists in internal repository
merida1macOS 10.14.6 Mojave / x86_64  OK    OK    OK    OK  UNNEEDED, same version exists in internal repository

Summary

Package: celda
Version: 1.6.1
Command: /home/biocbuild/bbs-3.12-bioc/R/bin/R CMD build --keep-empty-dirs --no-resave-data celda
StartedAt: 2021-03-01 17:54:01 -0500 (Mon, 01 Mar 2021)
EndedAt: 2021-03-01 18:03:12 -0500 (Mon, 01 Mar 2021)
EllapsedTime: 550.6 seconds
RetCode: 0
Status:   OK  
PackageFile: celda_1.6.1.tar.gz
PackageFileSize: 1.203 MiB

Command output

##############################################################################
##############################################################################
###
### Running command:
###
###   /home/biocbuild/bbs-3.12-bioc/R/bin/R CMD build --keep-empty-dirs --no-resave-data celda
###
##############################################################################
##############################################################################


* checking for file ‘celda/DESCRIPTION’ ... OK
* preparing ‘celda’:
* checking DESCRIPTION meta-information ... OK
* cleaning src
* installing the package to build vignettes
* creating vignettes ... OK
* cleaning src
* checking for LF line-endings in source and make files and shell scripts
* checking for empty or unneeded directories
* building ‘celda_1.6.1.tar.gz’