Back to Multiple platform build/check report for BioC 3.12
A[B]CDEFGHIJKLMNOPQRSTUVWXYZ

BUILD report for blima on nebbiolo1

This page was generated on 2020-10-18 12:27:41 -0400 (Sun, 18 Oct 2020).

TO THE DEVELOPERS/MAINTAINERS OF THE blima PACKAGE: Please make sure to use the following settings in order to reproduce any error or warning you see on this page.
Package 187/1874HostnameOS / ArchINSTALLBUILDCHECKBUILD BIN
blima 1.23.0
Vojtěch Kulvait
Snapshot Date: 2020-10-17 14:41:49 -0400 (Sat, 17 Oct 2020)
URL: https://git.bioconductor.org/packages/blima
Branch: master
Last Commit: aa0de00
Last Changed Date: 2020-04-27 14:40:34 -0400 (Mon, 27 Apr 2020)
malbec1 Linux (Ubuntu 18.04.4 LTS) / x86_64  OK  OK  WARNINGS UNNEEDED, same version exists in internal repository
nebbiolo1 Linux (Ubuntu 20.04.1 LTS) / x86_64  OK [ OK ] WARNINGS 
tokay1 Windows Server 2012 R2 Standard / x64  OK  OK  WARNINGS  OK UNNEEDED, same version exists in internal repository
riesling1 Windows Server 2019 Standard / x64  OK  OK  WARNINGS  OK 
merida1 macOS 10.14.6 Mojave / x86_64  OK  OK  WARNINGS  OK UNNEEDED, same version exists in internal repository

Summary

Package: blima
Version: 1.23.0
Command: /home/biocbuild/bbs-3.12-bioc/R/bin/R CMD build --keep-empty-dirs --no-resave-data blima
StartedAt: 2020-10-17 17:38:54 -0400 (Sat, 17 Oct 2020)
EndedAt: 2020-10-17 17:43:45 -0400 (Sat, 17 Oct 2020)
EllapsedTime: 291.7 seconds
RetCode: 0
Status:  OK 
PackageFile: blima_1.23.0.tar.gz
PackageFileSize: 249.7 KiB

Command output

##############################################################################
##############################################################################
###
### Running command:
###
###   /home/biocbuild/bbs-3.12-bioc/R/bin/R CMD build --keep-empty-dirs --no-resave-data blima
###
##############################################################################
##############################################################################


* checking for file ‘blima/DESCRIPTION’ ... OK
* preparing ‘blima’:
* checking DESCRIPTION meta-information ... OK
* cleaning src
* installing the package to process help pages
* saving partial Rd database
* creating vignettes ... OK
* cleaning src
* checking for LF line-endings in source and make files and shell scripts
* checking for empty or unneeded directories
* building ‘blima_1.23.0.tar.gz’