Back to Multiple platform build/check report for BioC 3.12
A[B]CDEFGHIJKLMNOPQRSTUVWXYZ

BUILD report for blacksheepr on riesling1

This page was generated on 2020-10-18 12:33:20 -0400 (Sun, 18 Oct 2020).

TO THE DEVELOPERS/MAINTAINERS OF THE blacksheepr PACKAGE: Please make sure to use the following settings in order to reproduce any error or warning you see on this page.
Package 186/1874HostnameOS / ArchINSTALLBUILDCHECKBUILD BIN
blacksheepr 1.3.0
RugglesLab
Snapshot Date: 2020-10-17 14:41:49 -0400 (Sat, 17 Oct 2020)
URL: https://git.bioconductor.org/packages/blacksheepr
Branch: master
Last Commit: c938295
Last Changed Date: 2020-04-27 15:31:23 -0400 (Mon, 27 Apr 2020)
malbec1 Linux (Ubuntu 18.04.4 LTS) / x86_64  OK  OK  OK UNNEEDED, same version exists in internal repository
nebbiolo1 Linux (Ubuntu 20.04.1 LTS) / x86_64  OK  OK  OK 
tokay1 Windows Server 2012 R2 Standard / x64  OK  OK  OK  OK UNNEEDED, same version exists in internal repository
riesling1 Windows Server 2019 Standard / x64  OK [ OK ] OK  OK 
merida1 macOS 10.14.6 Mojave / x86_64  OK  OK  OK  OK UNNEEDED, same version exists in internal repository

Summary

Package: blacksheepr
Version: 1.3.0
Command: chmod a+r blacksheepr -R && D:\biocbuild\bbs-3.12-bioc\R\bin\R.exe CMD build --keep-empty-dirs --no-resave-data blacksheepr
StartedAt: 2020-10-17 17:40:22 -0400 (Sat, 17 Oct 2020)
EndedAt: 2020-10-17 17:42:45 -0400 (Sat, 17 Oct 2020)
EllapsedTime: 143.1 seconds
RetCode: 0
Status:  OK  
PackageFile: blacksheepr_1.3.0.tar.gz
PackageFileSize: 3.979 MiB

Command output

##############################################################################
##############################################################################
###
### Running command:
###
###   chmod a+r blacksheepr -R && D:\biocbuild\bbs-3.12-bioc\R\bin\R.exe CMD build --keep-empty-dirs --no-resave-data blacksheepr
###
##############################################################################
##############################################################################


* checking for file 'blacksheepr/DESCRIPTION' ... OK
* preparing 'blacksheepr':
* checking DESCRIPTION meta-information ... OK
* installing the package to build vignettes
* creating vignettes ... OK
* checking for LF line-endings in source and make files and shell scripts
* checking for empty or unneeded directories
* looking to see if a 'data/datalist' file should be added
* building 'blacksheepr_1.3.0.tar.gz'