Back to Multiple platform build/check report for BioC 3.12
A[B]CDEFGHIJKLMNOPQRSTUVWXYZ

BUILD BIN report for blacksheepr on riesling1

This page was generated on 2020-10-18 12:33:20 -0400 (Sun, 18 Oct 2020).

TO THE DEVELOPERS/MAINTAINERS OF THE blacksheepr PACKAGE: Please make sure to use the following settings in order to reproduce any error or warning you see on this page.
Package 186/1874HostnameOS / ArchINSTALLBUILDCHECKBUILD BIN
blacksheepr 1.3.0
RugglesLab
Snapshot Date: 2020-10-17 14:41:49 -0400 (Sat, 17 Oct 2020)
URL: https://git.bioconductor.org/packages/blacksheepr
Branch: master
Last Commit: c938295
Last Changed Date: 2020-04-27 15:31:23 -0400 (Mon, 27 Apr 2020)
malbec1 Linux (Ubuntu 18.04.4 LTS) / x86_64  OK  OK  OK UNNEEDED, same version exists in internal repository
nebbiolo1 Linux (Ubuntu 20.04.1 LTS) / x86_64  OK  OK  OK 
tokay1 Windows Server 2012 R2 Standard / x64  OK  OK  OK  OK UNNEEDED, same version exists in internal repository
riesling1 Windows Server 2019 Standard / x64  OK  OK  OK [ OK ]
merida1 macOS 10.14.6 Mojave / x86_64  OK  OK  OK  OK UNNEEDED, same version exists in internal repository

Summary

Package: blacksheepr
Version: 1.3.0
Command: rm -rf blacksheepr.buildbin-libdir && mkdir blacksheepr.buildbin-libdir && D:\biocbuild\bbs-3.12-bioc\R\bin\R.exe CMD INSTALL --merge-multiarch --build --library=blacksheepr.buildbin-libdir blacksheepr_1.3.0.tar.gz
StartedAt: 2020-10-17 22:47:44 -0400 (Sat, 17 Oct 2020)
EndedAt: 2020-10-17 22:49:52 -0400 (Sat, 17 Oct 2020)
EllapsedTime: 127.4 seconds
RetCode: 0
Status:  OK  
PackageFile: blacksheepr_1.3.0.zip
PackageFileSize: 4.053 MiB

Command output

##############################################################################
##############################################################################
###
### Running command:
###
###   rm -rf blacksheepr.buildbin-libdir && mkdir blacksheepr.buildbin-libdir && D:\biocbuild\bbs-3.12-bioc\R\bin\R.exe CMD INSTALL --merge-multiarch --build --library=blacksheepr.buildbin-libdir blacksheepr_1.3.0.tar.gz
###
##############################################################################
##############################################################################



install for i386

* installing *source* package 'blacksheepr' ...
** using staged installation
** R
** data
** inst
** byte-compile and prepare package for lazy loading
** help
*** installing help indices
  converting help for package 'blacksheepr'
    finding HTML links ... done
    annotationlist_builder                  html  
    comparison_groupings                    html  
    count_outliers                          html  
    create_heatmap                          html  
    deva                                    html  
    deva_normalization                      html  
    deva_results                            html  
    make_comparison_columns                 html  
    make_outlier_table                      html  
    outlier_analysis                        html  
    outlier_heatmap                         html  
    sample_annotationdata                   html  
    sample_phosphodata                      html  
    sample_rnadata                          html  
** building package indices
** installing vignettes
** testing if installed package can be loaded from temporary location
** testing if installed package can be loaded from final location
** testing if installed package keeps a record of temporary installation path

install for x64

* installing *source* package 'blacksheepr' ...
** testing if installed package can be loaded
* MD5 sums
packaged installation of 'blacksheepr' as blacksheepr_1.3.0.zip
* DONE (blacksheepr)