Back to Multiple platform build/check report for BioC 3.12
A[B]CDEFGHIJKLMNOPQRSTUVWXYZ

BUILD BIN report for biovizBase on riesling1

This page was generated on 2020-10-18 12:33:18 -0400 (Sun, 18 Oct 2020).

TO THE DEVELOPERS/MAINTAINERS OF THE biovizBase PACKAGE: Please make sure to use the following settings in order to reproduce any error or warning you see on this page.
Package 181/1874HostnameOS / ArchINSTALLBUILDCHECKBUILD BIN
biovizBase 1.37.0
Michael Lawrence
Snapshot Date: 2020-10-17 14:41:49 -0400 (Sat, 17 Oct 2020)
URL: https://git.bioconductor.org/packages/biovizBase
Branch: master
Last Commit: 05615a7
Last Changed Date: 2020-04-27 14:27:05 -0400 (Mon, 27 Apr 2020)
malbec1 Linux (Ubuntu 18.04.4 LTS) / x86_64  OK  OK  WARNINGS UNNEEDED, same version exists in internal repository
nebbiolo1 Linux (Ubuntu 20.04.1 LTS) / x86_64  OK  OK  WARNINGS 
tokay1 Windows Server 2012 R2 Standard / x64  OK  OK  WARNINGS  OK UNNEEDED, same version exists in internal repository
riesling1 Windows Server 2019 Standard / x64  OK  OK  WARNINGS [ OK ]
merida1 macOS 10.14.6 Mojave / x86_64  OK  OK  WARNINGS  OK UNNEEDED, same version exists in internal repository

Summary

Package: biovizBase
Version: 1.37.0
Command: rm -rf biovizBase.buildbin-libdir && mkdir biovizBase.buildbin-libdir && D:\biocbuild\bbs-3.12-bioc\R\bin\R.exe CMD INSTALL --merge-multiarch --build --library=biovizBase.buildbin-libdir biovizBase_1.37.0.tar.gz
StartedAt: 2020-10-17 22:47:26 -0400 (Sat, 17 Oct 2020)
EndedAt: 2020-10-17 22:49:33 -0400 (Sat, 17 Oct 2020)
EllapsedTime: 126.9 seconds
RetCode: 0
Status:  OK  
PackageFile: biovizBase_1.37.0.zip
PackageFileSize: 2.686 MiB

Command output

##############################################################################
##############################################################################
###
### Running command:
###
###   rm -rf biovizBase.buildbin-libdir && mkdir biovizBase.buildbin-libdir && D:\biocbuild\bbs-3.12-bioc\R\bin\R.exe CMD INSTALL --merge-multiarch --build --library=biovizBase.buildbin-libdir biovizBase_1.37.0.tar.gz
###
##############################################################################
##############################################################################



install for i386

* installing *source* package 'biovizBase' ...
** using staged installation
** libs
"C:/rtools40/mingw32/bin/"gcc  -I"D:/biocbuild/bbs-3.12-bioc/R/include" -DNDEBUG     -I"C:/extsoft/include"     -O2 -Wall  -std=gnu99 -mfpmath=sse -msse2 -mstackrealign -c R_init_biovizBase.c -o R_init_biovizBase.o
"C:/rtools40/mingw32/bin/"gcc  -I"D:/biocbuild/bbs-3.12-bioc/R/include" -DNDEBUG     -I"C:/extsoft/include"     -O2 -Wall  -std=gnu99 -mfpmath=sse -msse2 -mstackrealign -c bin_offsets.c -o bin_offsets.o
bin_offsets.c: In function 'scan_bam_bin_offsets':
bin_offsets.c:57:15: warning: pointer targets in passing argument 1 of 'strncmp' differ in signedness [-Wpointer-sign]
   if (strncmp(b, "BAI\1", 4))
               ^
In file included from D:/biocbuild/bbs-3.12-bioc/R/include/R_ext/RS.h:34,
                 from D:/biocbuild/bbs-3.12-bioc/R/include/Rdefines.h:37,
                 from bin_offsets.h:1,
                 from bin_offsets.c:3:
C:/rtools40/mingw32/i686-w64-mingw32/include/string.h:86:15: note: expected 'const char *' but argument is of type 'Rbyte *' {aka 'unsigned char *'}
   int __cdecl strncmp(const char *_Str1,const char *_Str2,size_t _MaxCount);
               ^~~~~~~
C:/rtools40/mingw32/bin/gcc -shared -s -static-libgcc -o biovizBase.dll tmp.def R_init_biovizBase.o bin_offsets.o -LC:/extsoft/lib/i386 -LC:/extsoft/lib -LD:/biocbuild/bbs-3.12-bioc/R/bin/i386 -lR
installing to D:/biocbuild/bbs-3.12-bioc/meat/biovizBase.buildbin-libdir/00LOCK-biovizBase/00new/biovizBase/libs/i386
** R
** data
*** moving datasets to lazyload DB
** inst
** byte-compile and prepare package for lazy loading
** help
*** installing help indices
  converting help for package 'biovizBase'
    finding HTML links ... done
    CRC                                     html  
    GCcontent                               html  
    addStepping-method                      html  
    aes-utils                               html  
    biovizBase-package                      html  
    colorBlindSafePal                       html  
    containLetters                          html  
    crc1.GeRL                               html  
    crunch-method                           html  
Rd warning: D:/biocbuild/bbs-3.12-bioc/tmpdir/Rtmp6b7S6v/R.INSTALL31044ecd7868/biovizBase/man/crunch-method.Rd:31: file link 'AnnotationFilter-class' in package 'AnnotationFilter' does not exist and so has been treated as a topic
    darned_hg19_subset500                   html  
    estimateCoverage-method                 html  
    flatGrl                                 html  
    genesymbol                              html  
    getBioColor                             html  
    getFormalNames                          html  
    getGaps                                 html  
    getIdeoGR                               html  
    getIdeogram                             html  
    getScale                                html  
    hg19Ideogram                            html  
    hg19IdeogramCyto                        html  
    ideo                                    html  
    ideoCyto                                html  
    isIdeogram                              html  
    isMatchedWithModel                      html  
    isSimpleIdeogram                        html  
    labs                                    html  
    maxGap-method                           html  
    mold-method                             html  
    finding level-2 HTML links ... done

    pileupAsGRanges                         html  
    pileupGRangesAsVariantTable             html  
    plotColorLegend                         html  
    scale                                   html  
    showColor                               html  
    shrinkageFun-method                     html  
    splitByFacets-method                    html  
    strip_formula_dots                      html  
    subsetArgsByFormals                     html  
    transform                               html  
    transformGRangesForEvenSpace            html  
** building package indices
** installing vignettes
** testing if installed package can be loaded from temporary location
** testing if installed package can be loaded from final location
** testing if installed package keeps a record of temporary installation path

install for x64

* installing *source* package 'biovizBase' ...
** libs
"C:/rtools40/mingw64/bin/"gcc  -I"D:/biocbuild/bbs-3.12-bioc/R/include" -DNDEBUG     -I"C:/extsoft/include"     -O2 -Wall  -std=gnu99 -mfpmath=sse -msse2 -mstackrealign -c R_init_biovizBase.c -o R_init_biovizBase.o
"C:/rtools40/mingw64/bin/"gcc  -I"D:/biocbuild/bbs-3.12-bioc/R/include" -DNDEBUG     -I"C:/extsoft/include"     -O2 -Wall  -std=gnu99 -mfpmath=sse -msse2 -mstackrealign -c bin_offsets.c -o bin_offsets.o
bin_offsets.c: In function 'scan_bam_bin_offsets':
bin_offsets.c:57:15: warning: pointer targets in passing argument 1 of 'strncmp' differ in signedness [-Wpointer-sign]
   if (strncmp(b, "BAI\1", 4))
               ^
In file included from D:/biocbuild/bbs-3.12-bioc/R/include/R_ext/RS.h:34,
                 from D:/biocbuild/bbs-3.12-bioc/R/include/Rdefines.h:37,
                 from bin_offsets.h:1,
                 from bin_offsets.c:3:
C:/rtools40/mingw64/x86_64-w64-mingw32/include/string.h:86:15: note: expected 'const char *' but argument is of type 'Rbyte *' {aka 'unsigned char *'}
   int __cdecl strncmp(const char *_Str1,const char *_Str2,size_t _MaxCount);
               ^~~~~~~
C:/rtools40/mingw64/bin/gcc -shared -s -static-libgcc -o biovizBase.dll tmp.def R_init_biovizBase.o bin_offsets.o -LC:/extsoft/lib/x64 -LC:/extsoft/lib -LD:/biocbuild/bbs-3.12-bioc/R/bin/x64 -lR
installing to D:/biocbuild/bbs-3.12-bioc/meat/biovizBase.buildbin-libdir/biovizBase/libs/x64
** testing if installed package can be loaded
* MD5 sums
packaged installation of 'biovizBase' as biovizBase_1.37.0.zip
* DONE (biovizBase)