Back to Multiple platform build/check report for BioC 3.12
A[B]CDEFGHIJKLMNOPQRSTUVWXYZ

INSTALL report for biovizBase on nebbiolo1

This page was generated on 2020-10-29 12:19:47 -0400 (Thu, 29 Oct 2020).

TO THE DEVELOPERS/MAINTAINERS OF THE biovizBase PACKAGE: Please make sure to use the following settings in order to reproduce any error or warning you see on this page.
Package 190/1974HostnameOS / ArchINSTALLBUILDCHECKBUILD BIN
biovizBase 1.38.0
Michael Lawrence
Snapshot Date: 2020-10-28 14:42:40 -0400 (Wed, 28 Oct 2020)
URL: https://git.bioconductor.org/packages/biovizBase
Branch: RELEASE_3_12
Last Commit: d0f3362
Last Changed Date: 2020-10-27 10:43:03 -0400 (Tue, 27 Oct 2020)
malbec1 Linux (Ubuntu 18.04.4 LTS) / x86_64  OK  OK  WARNINGS UNNEEDED, same version exists in internal repository
nebbiolo1 Linux (Ubuntu 20.04.1 LTS) / x86_64 [ OK ] OK  WARNINGS 
tokay1 Windows Server 2012 R2 Standard / x64  OK  OK  WARNINGS  OK UNNEEDED, same version exists in internal repository
merida1 macOS 10.14.6 Mojave / x86_64  OK  OK  WARNINGS  OK UNNEEDED, same version exists in internal repository

Summary

Package: biovizBase
Version: 1.38.0
Command: /home/biocbuild/bbs-3.12-bioc/R/bin/R CMD INSTALL biovizBase
StartedAt: 2020-10-28 16:53:55 -0400 (Wed, 28 Oct 2020)
EndedAt: 2020-10-28 16:55:03 -0400 (Wed, 28 Oct 2020)
EllapsedTime: 67.5 seconds
RetCode: 0
Status:  OK 

Command output

##############################################################################
##############################################################################
###
### Running command:
###
###   /home/biocbuild/bbs-3.12-bioc/R/bin/R CMD INSTALL biovizBase
###
##############################################################################
##############################################################################


* installing to library ‘/home/biocbuild/bbs-3.12-bioc/R/library’
* installing *source* package ‘biovizBase’ ...
** using staged installation
** libs
gcc -I"/home/biocbuild/bbs-3.12-bioc/R/include" -DNDEBUG   -I/usr/local/include   -fpic  -g -O2  -Wall -c R_init_biovizBase.c -o R_init_biovizBase.o
gcc -I"/home/biocbuild/bbs-3.12-bioc/R/include" -DNDEBUG   -I/usr/local/include   -fpic  -g -O2  -Wall -c bin_offsets.c -o bin_offsets.o
bin_offsets.c: In function ‘scan_bam_bin_offsets’:
bin_offsets.c:57:15: warning: pointer targets in passing argument 1 of ‘strncmp’ differ in signedness [-Wpointer-sign]
   57 |   if (strncmp(b, "BAI\1", 4))
      |               ^
      |               |
      |               Rbyte * {aka unsigned char *}
In file included from /home/biocbuild/bbs-3.12-bioc/R/include/R_ext/RS.h:34,
                 from /home/biocbuild/bbs-3.12-bioc/R/include/Rdefines.h:37,
                 from bin_offsets.h:1,
                 from bin_offsets.c:3:
/usr/include/string.h:140:33: note: expected ‘const char *’ but argument is of type ‘Rbyte *’ {aka ‘unsigned char *’}
  140 | extern int strncmp (const char *__s1, const char *__s2, size_t __n)
      |                     ~~~~~~~~~~~~^~~~
gcc -shared -L/home/biocbuild/bbs-3.12-bioc/R/lib -L/usr/local/lib -o biovizBase.so R_init_biovizBase.o bin_offsets.o -L/home/biocbuild/bbs-3.12-bioc/R/lib -lR
installing to /home/biocbuild/bbs-3.12-bioc/R/library/00LOCK-biovizBase/00new/biovizBase/libs
** R
** data
*** moving datasets to lazyload DB
** inst
** byte-compile and prepare package for lazy loading
** help
*** installing help indices
** building package indices
** installing vignettes
** testing if installed package can be loaded from temporary location
** checking absolute paths in shared objects and dynamic libraries
** testing if installed package can be loaded from final location
** testing if installed package keeps a record of temporary installation path
* DONE (biovizBase)