Back to Multiple platform build/check report for BioC 3.12
A[B]CDEFGHIJKLMNOPQRSTUVWXYZ

CHECK report for bioassayR on nebbiolo1

This page was generated on 2021-02-22 12:33:14 -0500 (Mon, 22 Feb 2021).

To the developers/maintainers of the bioassayR package:
Please make sure to use the following settings in order to reproduce any error or warning you see on this page.
Package 151/1974HostnameOS / ArchINSTALLBUILDCHECKBUILD BIN
bioassayR 1.28.0
Tyler Backman
Snapshot Date: 2021-02-21 14:52:07 -0500 (Sun, 21 Feb 2021)
URL: https://git.bioconductor.org/packages/bioassayR
Branch: RELEASE_3_12
Last Commit: 490f2c7
Last Changed Date: 2020-10-27 10:53:10 -0500 (Tue, 27 Oct 2020)
malbec1Linux (Ubuntu 18.04.5 LTS) / x86_64  OK    OK    ERROR  
nebbiolo1Linux (Ubuntu 20.04.2 LTS) / x86_64  OK    OK    ERROR  
tokay1Windows Server 2012 R2 Standard / x64  OK    OK    ERROR    OK  
merida1macOS 10.14.6 Mojave / x86_64  OK    OK    ERROR    OK  

Summary

Package: bioassayR
Version: 1.28.0
Command: /home/biocbuild/bbs-3.12-bioc/R/bin/R CMD check --install=check:bioassayR.install-out.txt --library=/home/biocbuild/bbs-3.12-bioc/R/library --no-vignettes --timings bioassayR_1.28.0.tar.gz
StartedAt: 2021-02-21 20:20:23 -0500 (Sun, 21 Feb 2021)
EndedAt: 2021-02-21 20:21:42 -0500 (Sun, 21 Feb 2021)
EllapsedTime: 78.9 seconds
RetCode: 1
Status:   ERROR  
CheckDir: bioassayR.Rcheck
Warnings: NA

Command output

##############################################################################
##############################################################################
###
### Running command:
###
###   /home/biocbuild/bbs-3.12-bioc/R/bin/R CMD check --install=check:bioassayR.install-out.txt --library=/home/biocbuild/bbs-3.12-bioc/R/library --no-vignettes --timings bioassayR_1.28.0.tar.gz
###
##############################################################################
##############################################################################


* using log directory ‘/home/biocbuild/bbs-3.12-bioc/meat/bioassayR.Rcheck’
* using R version 4.0.3 (2020-10-10)
* using platform: x86_64-pc-linux-gnu (64-bit)
* using session charset: UTF-8
* using option ‘--no-vignettes’
* checking for file ‘bioassayR/DESCRIPTION’ ... OK
* checking extension type ... Package
* this is package ‘bioassayR’ version ‘1.28.0’
* checking package namespace information ... OK
* checking package dependencies ... OK
* checking if this is a source package ... OK
* checking if there is a namespace ... OK
* checking for hidden files and directories ... OK
* checking for portable file names ... OK
* checking for sufficient/correct file permissions ... OK
* checking whether package ‘bioassayR’ can be installed ... OK
* checking installed package size ... OK
* checking package directory ... OK
* checking ‘build’ directory ... OK
* checking DESCRIPTION meta-information ... OK
* checking top-level files ... OK
* checking for left-over files ... OK
* checking index information ... OK
* checking package subdirectories ... OK
* checking R files for non-ASCII characters ... OK
* checking R files for syntax errors ... OK
* checking whether the package can be loaded ... OK
* checking whether the package can be loaded with stated dependencies ... OK
* checking whether the package can be unloaded cleanly ... OK
* checking whether the namespace can be loaded with stated dependencies ... OK
* checking whether the namespace can be unloaded cleanly ... OK
* checking dependencies in R code ... OK
* checking S3 generic/method consistency ... OK
* checking replacement functions ... OK
* checking foreign function calls ... OK
* checking R code for possible problems ... OK
* checking Rd files ... OK
* checking Rd metadata ... OK
* checking Rd cross-references ... OK
* checking for missing documentation entries ... OK
* checking for code/documentation mismatches ... OK
* checking Rd \usage sections ... OK
* checking Rd contents ... OK
* checking for unstated dependencies in examples ... OK
* checking contents of ‘data’ directory ... OK
* checking data for non-ASCII characters ... OK
* checking data for ASCII and uncompressed saves ... OK
* checking line endings in Makefiles ... OK
* checking for GNU extensions in Makefiles ... OK
* checking include directives in Makefiles ... OK
* checking files in ‘vignettes’ ... OK
* checking examples ... OK
* checking for unstated dependencies in ‘tests’ ... OK
* checking tests ...
  Running ‘testthat.R’
 ERROR
Running the tests in ‘tests/testthat.R’ failed.
Last 13 lines of output:
  Error: no method or default for coercing "ldiMatrix" to "lgCMatrix"
  Backtrace:
      █
   1. ├─methods::new(...) test_scaleBioassaySet.R:18:0
   2. │ ├─methods::initialize(value, ...)
   3. │ └─methods::initialize(value, ...)
   4. └─methods::as(Matrix(sparse = T), "dgCMatrix")
   5.   └─Matrix:::asMethod(object)
   6.     ├─methods::as(as(from, "lgCMatrix"), "dgCMatrix")
   7.     │ └─methods:::.class1(object)
   8.     └─methods::as(from, "lgCMatrix")
  
  [ FAIL 1 | WARN 1 | SKIP 0 | PASS 21 ]
  Error: Test failures
  Execution halted
* checking for unstated dependencies in vignettes ... OK
* checking package vignettes in ‘inst/doc’ ... OK
* checking running R code from vignettes ... SKIPPED
* checking re-building of vignette outputs ... SKIPPED
* checking PDF version of manual ... OK
* DONE

Status: 1 ERROR
See
  ‘/home/biocbuild/bbs-3.12-bioc/meat/bioassayR.Rcheck/00check.log’
for details.


Installation output

bioassayR.Rcheck/00install.out

##############################################################################
##############################################################################
###
### Running command:
###
###   /home/biocbuild/bbs-3.12-bioc/R/bin/R CMD INSTALL bioassayR
###
##############################################################################
##############################################################################


* installing to library ‘/home/biocbuild/bbs-3.12-bioc/R/library’
* installing *source* package ‘bioassayR’ ...
** using staged installation
** R
** data
** inst
** byte-compile and prepare package for lazy loading
Creating a new generic function for ‘organism’ in package ‘bioassayR’
Creating a new generic function for ‘organism<-’ in package ‘bioassayR’
** help
*** installing help indices
** building package indices
** installing vignettes
** testing if installed package can be loaded from temporary location
** testing if installed package can be loaded from final location
** testing if installed package keeps a record of temporary installation path
* DONE (bioassayR)

Tests output

bioassayR.Rcheck/tests/testthat.Rout.fail


R version 4.0.3 (2020-10-10) -- "Bunny-Wunnies Freak Out"
Copyright (C) 2020 The R Foundation for Statistical Computing
Platform: x86_64-pc-linux-gnu (64-bit)

R is free software and comes with ABSOLUTELY NO WARRANTY.
You are welcome to redistribute it under certain conditions.
Type 'license()' or 'licence()' for distribution details.

R is a collaborative project with many contributors.
Type 'contributors()' for more information and
'citation()' on how to cite R or R packages in publications.

Type 'demo()' for some demos, 'help()' for on-line help, or
'help.start()' for an HTML browser interface to help.
Type 'q()' to quit R.

> library(testthat)
> library(bioassayR)
Loading required package: DBI
Loading required package: RSQLite
Loading required package: Matrix
Loading required package: rjson
Loading required package: BiocGenerics
Loading required package: parallel

Attaching package: 'BiocGenerics'

The following objects are masked from 'package:parallel':

    clusterApply, clusterApplyLB, clusterCall, clusterEvalQ,
    clusterExport, clusterMap, parApply, parCapply, parLapply,
    parLapplyLB, parRapply, parSapply, parSapplyLB

The following objects are masked from 'package:stats':

    IQR, mad, sd, var, xtabs

The following objects are masked from 'package:base':

    Filter, Find, Map, Position, Reduce, anyDuplicated, append,
    as.data.frame, basename, cbind, colnames, dirname, do.call,
    duplicated, eval, evalq, get, grep, grepl, intersect, is.unsorted,
    lapply, mapply, match, mget, order, paste, pmax, pmax.int, pmin,
    pmin.int, rank, rbind, rownames, sapply, setdiff, sort, table,
    tapply, union, unique, unsplit, which.max, which.min


Attaching package: 'bioassayR'

The following objects are masked from 'package:BiocGenerics':

    organism, organism<-

> 
> test_check("bioassayR")
══ Failed tests ════════════════════════════════════════════════════════════════
── Error (test_scaleBioassaySet.R:18:1): (code run outside of `test_that()`) ───
Error: no method or default for coercing "ldiMatrix" to "lgCMatrix"
Backtrace:
    █
 1. ├─methods::new(...) test_scaleBioassaySet.R:18:0
 2. │ ├─methods::initialize(value, ...)
 3. │ └─methods::initialize(value, ...)
 4. └─methods::as(Matrix(sparse = T), "dgCMatrix")
 5.   └─Matrix:::asMethod(object)
 6.     ├─methods::as(as(from, "lgCMatrix"), "dgCMatrix")
 7.     │ └─methods:::.class1(object)
 8.     └─methods::as(from, "lgCMatrix")

[ FAIL 1 | WARN 1 | SKIP 0 | PASS 21 ]
Error: Test failures
Execution halted

Example timings

bioassayR.Rcheck/bioassayR-Ex.timings

nameusersystemelapsed
BioAssayDB-class0.0000.0010.001
activeAgainst0.0200.0010.022
activeTargets0.0280.0000.028
addBioassayIndex0.0120.0000.012
addDataSource0.0100.0040.014
allCids0.0010.0030.004
allTargets0.0040.0000.004
assaySetTargets0.0330.0000.033
bioactivityFingerprint0.1140.0080.121
bioassay-class0.0150.0000.015
bioassaySet-class0.0010.0000.001
connectBioassayDB0.0050.0030.010
crossReactivityProbability0.1130.0000.114
disconnectBioassayDB0.010.000.01
dropBioassay0.0390.0040.044
dropBioassayIndex0.0130.0080.021
getAssay0.0070.0000.007
getAssays0.0120.0030.016
getBioassaySetByCids0.1040.0000.104
inactiveTargets0.0070.0000.007
loadBioassay0.0230.0040.027
loadIdMapping0.0060.0040.010
newBioassayDB0.0080.0000.008
parsePubChemBioassay0.0090.0000.008
perTargetMatrix0.1210.0080.129
queryBioassayDB0.0140.0240.038
samplebioassay0.0020.0000.003
scaleBioassaySet0.0260.0000.026
screenedAtLeast0.0090.0000.008
selectiveAgainst0.0560.0080.065
targetSelectivity0.0150.0000.015
translateTargetId0.0040.0080.012
trinarySimilarity0.1060.0150.121