Back to Multiple platform build/check report for BioC 3.12 |
|
This page was generated on 2021-01-24 11:51:29 -0500 (Sun, 24 Jan 2021).
TO THE DEVELOPERS/MAINTAINERS OF THE bigmelon PACKAGE: Please make sure to use the following settings in order to reproduce any error or warning you see on this page. |
Package 148/1974 | Hostname | OS / Arch | INSTALL | BUILD | CHECK | BUILD BIN | ||||||
bigmelon 1.16.0 Tyler J. Gorrie-Stone
| malbec1 | Linux (Ubuntu 18.04.5 LTS) / x86_64 | OK | OK | OK | ![]() | ||||||
nebbiolo1 | Linux (Ubuntu 20.04.1 LTS) / x86_64 | [ OK ] | OK | OK | ||||||||
tokay1 | Windows Server 2012 R2 Standard / x64 | OK | OK | OK | OK | ![]() | ||||||
merida1 | macOS 10.14.6 Mojave / x86_64 | OK | OK | OK | OK | ![]() |
Package: bigmelon |
Version: 1.16.0 |
Command: /home/biocbuild/bbs-3.12-bioc/R/bin/R CMD INSTALL bigmelon |
StartedAt: 2021-01-23 17:24:17 -0500 (Sat, 23 Jan 2021) |
EndedAt: 2021-01-23 17:25:26 -0500 (Sat, 23 Jan 2021) |
EllapsedTime: 68.4 seconds |
RetCode: 0 |
Status: OK |
############################################################################## ############################################################################## ### ### Running command: ### ### /home/biocbuild/bbs-3.12-bioc/R/bin/R CMD INSTALL bigmelon ### ############################################################################## ############################################################################## * installing to library ‘/home/biocbuild/bbs-3.12-bioc/R/library’ * installing *source* package ‘bigmelon’ ... ** using staged installation ** R ** data ** inst ** byte-compile and prepare package for lazy loading No methods found in package ‘RSQLite’ for request: ‘dbListFields’ when loading ‘lumi’ Creating a new generic function for ‘fot’ in package ‘bigmelon’ Creating a new generic function for ‘predictSex’ in package ‘bigmelon’ ** help *** installing help indices ** building package indices ** installing vignettes ** testing if installed package can be loaded from temporary location No methods found in package ‘RSQLite’ for request: ‘dbListFields’ when loading ‘lumi’ ** testing if installed package can be loaded from final location No methods found in package ‘RSQLite’ for request: ‘dbListFields’ when loading ‘lumi’ ** testing if installed package keeps a record of temporary installation path * DONE (bigmelon)