Back to Multiple platform build/check report for BioC 3.12
A[B]CDEFGHIJKLMNOPQRSTUVWXYZ

BUILD report for baySeq on riesling1

This page was generated on 2020-10-18 12:33:13 -0400 (Sun, 18 Oct 2020).

TO THE DEVELOPERS/MAINTAINERS OF THE baySeq PACKAGE: Please make sure to use the following settings in order to reproduce any error or warning you see on this page.
Package 121/1874HostnameOS / ArchINSTALLBUILDCHECKBUILD BIN
baySeq 2.23.0
Thomas J. Hardcastle
Snapshot Date: 2020-10-17 14:41:49 -0400 (Sat, 17 Oct 2020)
URL: https://git.bioconductor.org/packages/baySeq
Branch: master
Last Commit: 2ea28df
Last Changed Date: 2020-04-27 14:20:16 -0400 (Mon, 27 Apr 2020)
malbec1 Linux (Ubuntu 18.04.4 LTS) / x86_64  OK  OK  OK UNNEEDED, same version exists in internal repository
nebbiolo1 Linux (Ubuntu 20.04.1 LTS) / x86_64  OK  OK  OK 
tokay1 Windows Server 2012 R2 Standard / x64  OK  OK  OK  OK UNNEEDED, same version exists in internal repository
riesling1 Windows Server 2019 Standard / x64  OK [ OK ] OK  OK 
merida1 macOS 10.14.6 Mojave / x86_64  OK  OK  OK  OK UNNEEDED, same version exists in internal repository

Summary

Package: baySeq
Version: 2.23.0
Command: chmod a+r baySeq -R && D:\biocbuild\bbs-3.12-bioc\R\bin\R.exe CMD build --keep-empty-dirs --no-resave-data baySeq
StartedAt: 2020-10-17 17:36:26 -0400 (Sat, 17 Oct 2020)
EndedAt: 2020-10-17 17:39:56 -0400 (Sat, 17 Oct 2020)
EllapsedTime: 209.8 seconds
RetCode: 0
Status:  OK  
PackageFile: baySeq_2.23.0.tar.gz
PackageFileSize: 1.1 MiB

Command output

##############################################################################
##############################################################################
###
### Running command:
###
###   chmod a+r baySeq -R && D:\biocbuild\bbs-3.12-bioc\R\bin\R.exe CMD build --keep-empty-dirs --no-resave-data baySeq
###
##############################################################################
##############################################################################


* checking for file 'baySeq/DESCRIPTION' ... OK
* preparing 'baySeq':
* checking DESCRIPTION meta-information ... OK
* installing the package to build vignettes
* creating vignettes ... OK
* checking for LF line-endings in source and make files and shell scripts
* checking for empty or unneeded directories
* looking to see if a 'data/datalist' file should be added
* building 'baySeq_2.23.0.tar.gz'