Back to Multiple platform build/check report for BioC 3.12
A[B]CDEFGHIJKLMNOPQRSTUVWXYZ

CHECK report for baySeq on nebbiolo1

This page was generated on 2020-09-20 10:12:55 -0400 (Sun, 20 Sep 2020).

TO THE DEVELOPERS/MAINTAINERS OF THE baySeq PACKAGE: Please make sure to use the following settings in order to reproduce any error or warning you see on this page.
Package 121/1912HostnameOS / ArchINSTALLBUILDCHECKBUILD BIN
baySeq 2.23.0
Thomas J. Hardcastle
Snapshot Date: 2020-09-19 14:40:23 -0400 (Sat, 19 Sep 2020)
URL: https://git.bioconductor.org/packages/baySeq
Branch: master
Last Commit: 2ea28df
Last Changed Date: 2020-04-27 14:20:16 -0400 (Mon, 27 Apr 2020)
malbec1 Linux (Ubuntu 18.04.4 LTS) / x86_64  OK  OK  OK UNNEEDED, same version exists in internal repository
nebbiolo1 Linux (Ubuntu 20.04.1 LTS) / x86_64  OK  OK [ OK ]
tokay1 Windows Server 2012 R2 Standard / x64  OK  OK  OK  OK UNNEEDED, same version exists in internal repository
riesling1 Windows Server 2019 Standard / x64  OK  OK  OK  OK 
merida1 macOS 10.14.6 Mojave / x86_64  OK  OK  OK  OK UNNEEDED, same version exists in internal repository

Summary

Package: baySeq
Version: 2.23.0
Command: /home/biocbuild/bbs-3.12-bioc/R/bin/R CMD check --install=check:baySeq.install-out.txt --library=/home/biocbuild/bbs-3.12-bioc/R/library --no-vignettes --timings baySeq_2.23.0.tar.gz
StartedAt: 2020-09-19 20:11:45 -0400 (Sat, 19 Sep 2020)
EndedAt: 2020-09-19 20:14:16 -0400 (Sat, 19 Sep 2020)
EllapsedTime: 150.4 seconds
RetCode: 0
Status:  OK 
CheckDir: baySeq.Rcheck
Warnings: 0

Command output

##############################################################################
##############################################################################
###
### Running command:
###
###   /home/biocbuild/bbs-3.12-bioc/R/bin/R CMD check --install=check:baySeq.install-out.txt --library=/home/biocbuild/bbs-3.12-bioc/R/library --no-vignettes --timings baySeq_2.23.0.tar.gz
###
##############################################################################
##############################################################################


* using log directory ‘/home/biocbuild/bbs-3.12-bioc/meat/baySeq.Rcheck’
* using R version 4.0.2 (2020-06-22)
* using platform: x86_64-pc-linux-gnu (64-bit)
* using session charset: UTF-8
* using option ‘--no-vignettes’
* checking for file ‘baySeq/DESCRIPTION’ ... OK
* checking extension type ... Package
* this is package ‘baySeq’ version ‘2.23.0’
* checking package namespace information ... OK
* checking package dependencies ... OK
* checking if this is a source package ... OK
* checking if there is a namespace ... OK
* checking for hidden files and directories ... OK
* checking for portable file names ... OK
* checking for sufficient/correct file permissions ... OK
* checking whether package ‘baySeq’ can be installed ... OK
* checking installed package size ... OK
* checking package directory ... OK
* checking ‘build’ directory ... OK
* checking DESCRIPTION meta-information ... OK
* checking top-level files ... OK
* checking for left-over files ... OK
* checking index information ... OK
* checking package subdirectories ... OK
* checking R files for non-ASCII characters ... OK
* checking R files for syntax errors ... OK
* checking whether the package can be loaded ... OK
* checking whether the package can be loaded with stated dependencies ... OK
* checking whether the package can be unloaded cleanly ... OK
* checking whether the namespace can be loaded with stated dependencies ... OK
* checking whether the namespace can be unloaded cleanly ... OK
* checking dependencies in R code ... OK
* checking S3 generic/method consistency ... OK
* checking replacement functions ... OK
* checking foreign function calls ... OK
* checking R code for possible problems ... OK
* checking Rd files ... OK
* checking Rd metadata ... OK
* checking Rd cross-references ... OK
* checking for missing documentation entries ... OK
* checking for code/documentation mismatches ... OK
* checking Rd \usage sections ... OK
* checking Rd contents ... OK
* checking for unstated dependencies in examples ... OK
* checking contents of ‘data’ directory ... OK
* checking data for non-ASCII characters ... OK
* checking data for ASCII and uncompressed saves ... OK
* checking files in ‘vignettes’ ... OK
* checking examples ... OK
Examples with CPU (user + system) or elapsed time > 5s
                 user system elapsed
baySeq-package 29.882  0.152  30.035
getPriors      22.465  0.080  22.546
getLikelihoods  8.098  0.056   8.155
* checking for unstated dependencies in vignettes ... OK
* checking package vignettes in ‘inst/doc’ ... OK
* checking running R code from vignettes ... SKIPPED
* checking re-building of vignette outputs ... SKIPPED
* checking PDF version of manual ... OK
* DONE

Status: OK


Installation output

baySeq.Rcheck/00install.out

##############################################################################
##############################################################################
###
### Running command:
###
###   /home/biocbuild/bbs-3.12-bioc/R/bin/R CMD INSTALL baySeq
###
##############################################################################
##############################################################################


* installing to library ‘/home/biocbuild/bbs-3.12-bioc/R/library’
* installing *source* package ‘baySeq’ ...
** using staged installation
** R
** data
** byte-compile and prepare package for lazy loading
** help
*** installing help indices
** building package indices
** installing vignettes
** testing if installed package can be loaded from temporary location
** testing if installed package can be loaded from final location
** testing if installed package keeps a record of temporary installation path
* DONE (baySeq)

Tests output


Example timings

baySeq.Rcheck/baySeq-Ex.timings

nameusersystemelapsed
allModels0.2860.0080.295
baySeq-classes0.10.00.1
baySeq-package29.882 0.15230.035
bimodalSep0.0010.0000.001
densityFunction0.0010.0000.001
getLibsizes0.0010.0040.005
getLikelihoods8.0980.0568.155
getPosteriors0.0080.0000.008
getPriors22.465 0.08022.546
getTPs0.0050.0080.012
makeOrderings0.0430.0040.047
marginaliseEqual0.2560.0080.264
marginalisePairwise0.2540.0000.254
plotMA.CD0.0200.0040.024
plotPosteriors0.0460.0030.050
plotPriors0.0310.0000.030
selectTop0.0140.0040.018
summarisePosteriors0.0020.0030.006
topCounts0.0170.0040.021