Back to Multiple platform build/check report for BioC 3.12
[A]BCDEFGHIJKLMNOPQRSTUVWXYZ

BUILD BIN report for artMS on riesling1

This page was generated on 2020-10-18 12:33:10 -0400 (Sun, 18 Oct 2020).

TO THE DEVELOPERS/MAINTAINERS OF THE artMS PACKAGE: Please make sure to use the following settings in order to reproduce any error or warning you see on this page.
Package 83/1874HostnameOS / ArchINSTALLBUILDCHECKBUILD BIN
artMS 1.7.5
David Jimenez-Morales
Snapshot Date: 2020-10-17 14:41:49 -0400 (Sat, 17 Oct 2020)
URL: https://git.bioconductor.org/packages/artMS
Branch: master
Last Commit: 4ab9bd7
Last Changed Date: 2020-05-21 01:16:54 -0400 (Thu, 21 May 2020)
malbec1 Linux (Ubuntu 18.04.4 LTS) / x86_64  OK  OK  WARNINGS UNNEEDED, same version exists in internal repository
nebbiolo1 Linux (Ubuntu 20.04.1 LTS) / x86_64  OK  OK  WARNINGS 
tokay1 Windows Server 2012 R2 Standard / x64  OK  OK  WARNINGS  OK UNNEEDED, same version exists in internal repository
riesling1 Windows Server 2019 Standard / x64  OK  OK  WARNINGS [ OK ]
merida1 macOS 10.14.6 Mojave / x86_64  OK  OK  WARNINGS  OK UNNEEDED, same version exists in internal repository

Summary

Package: artMS
Version: 1.7.5
Command: rm -rf artMS.buildbin-libdir && mkdir artMS.buildbin-libdir && D:\biocbuild\bbs-3.12-bioc\R\bin\R.exe CMD INSTALL --merge-multiarch --build --library=artMS.buildbin-libdir artMS_1.7.5.tar.gz
StartedAt: 2020-10-17 22:41:35 -0400 (Sat, 17 Oct 2020)
EndedAt: 2020-10-17 22:43:43 -0400 (Sat, 17 Oct 2020)
EllapsedTime: 127.5 seconds
RetCode: 0
Status:  OK  
PackageFile: artMS_1.7.5.zip
PackageFileSize: 6.975 MiB

Command output

##############################################################################
##############################################################################
###
### Running command:
###
###   rm -rf artMS.buildbin-libdir && mkdir artMS.buildbin-libdir && D:\biocbuild\bbs-3.12-bioc\R\bin\R.exe CMD INSTALL --merge-multiarch --build --library=artMS.buildbin-libdir artMS_1.7.5.tar.gz
###
##############################################################################
##############################################################################



install for i386

* installing *source* package 'artMS' ...
** using staged installation
** R
** data
*** moving datasets to lazyload DB
** inst
** byte-compile and prepare package for lazy loading
Warning: replacing previous import 'ComplexHeatmap::pheatmap' by 'pheatmap::pheatmap' when loading 'artMS'
** help
*** installing help indices
  converting help for package 'artMS'
    finding HTML links ... done
    artmsAnalysisQuantifications            html  
    artmsAnnotateSpecie                     html  
    artmsAnnotationUniprot                  html  
    artmsAvgIntensityRT                     html  
    artmsChangeColumnName                   html  
    artmsConvertMetabolomics                html  
    artmsDataPlots                          html  
    artmsEnrichLog2fc                       html  
    artmsEnrichProfiler                     html  
    artmsEvidenceToSAINTq                   html  
    artmsEvidenceToSaintExpress             html  
    artmsFilterEvidenceContaminants         html  
    artmsGeneratePhSiteExtended             html  
    artmsIsEvidenceNewVersion               html  
    artmsIsSpeciesSupported                 html  
    artmsLeaveOnlyUniprotEntryID            html  
    artmsMapUniprot2Entrez                  html  
    artmsMergeEvidenceAndKeys               html  
    artmsMsstatsSummary                     html  
    artmsPhosfateOutput                     html  
    artmsPhotonOutput                       html  
    artmsPlotHeatmapQuant                   html  
    artmsProtein2SiteConversion             html  
    artmsQualityControlEvidenceBasic        html  
    artmsQualityControlEvidenceExtended     html  
    artmsQualityControlMetabolomics         html  
    artmsQualityControlSummaryExtended      html  
    artmsQuantification                     html  
    artmsResultsWide                        html  
    artmsSILACtoLong                        html  
    artmsSpectralCounts                     html  
    artmsVolcanoPlot                        html  
    artmsWriteConfigYamlFile                html  
    artms_config                            html  
    artms_data_corum_mito_database          html  
    artms_data_pathogen_LPN                 html  
    artms_data_pathogen_TB                  html  
    artms_data_ph_config                    html  
    artms_data_ph_contrast                  html  
    artms_data_ph_evidence                  html  
    artms_data_ph_keys                      html  
    artms_data_ph_msstats_modelqc           html  
    artms_data_ph_msstats_results           html  
    artms_data_randomDF                     html  
** building package indices
** installing vignettes
** testing if installed package can be loaded from temporary location
Warning: replacing previous import 'ComplexHeatmap::pheatmap' by 'pheatmap::pheatmap' when loading 'artMS'
** testing if installed package can be loaded from final location
Warning: replacing previous import 'ComplexHeatmap::pheatmap' by 'pheatmap::pheatmap' when loading 'artMS'
** testing if installed package keeps a record of temporary installation path

install for x64

* installing *source* package 'artMS' ...
** testing if installed package can be loaded
Warning: replacing previous import 'ComplexHeatmap::pheatmap' by 'pheatmap::pheatmap' when loading 'artMS'
* MD5 sums
packaged installation of 'artMS' as artMS_1.7.5.zip
* DONE (artMS)