Back to Multiple platform build/check report for BioC 3.12
[A]BCDEFGHIJKLMNOPQRSTUVWXYZ

CHECK report for animalcules on tokay1

This page was generated on 2020-08-07 12:17:33 -0400 (Fri, 07 Aug 2020).

TO THE DEVELOPERS/MAINTAINERS OF THE animalcules PACKAGE: Please make sure to use the following settings in order to reproduce any error or warning you see on this page.
Package 54/1882HostnameOS / ArchINSTALLBUILDCHECKBUILD BIN
animalcules 1.5.1
Yue Zhao
Snapshot Date: 2020-08-06 14:50:46 -0400 (Thu, 06 Aug 2020)
URL: https://git.bioconductor.org/packages/animalcules
Branch: master
Last Commit: 36c4fb6
Last Changed Date: 2020-06-18 11:25:25 -0400 (Thu, 18 Jun 2020)
malbec1 Linux (Ubuntu 18.04.4 LTS) / x86_64  OK  OK  OK UNNEEDED, same version exists in internal repository
tokay1 Windows Server 2012 R2 Standard / x64  OK  OK [ OK ] OK UNNEEDED, same version exists in internal repository
merida1 macOS 10.14.6 Mojave / x86_64  OK  OK  OK  OK UNNEEDED, same version exists in internal repository

Summary

Package: animalcules
Version: 1.5.1
Command: C:\Users\biocbuild\bbs-3.12-bioc\R\bin\R.exe CMD check --force-multiarch --install=check:animalcules.install-out.txt --library=C:\Users\biocbuild\bbs-3.12-bioc\R\library --no-vignettes --timings animalcules_1.5.1.tar.gz
StartedAt: 2020-08-07 05:26:54 -0400 (Fri, 07 Aug 2020)
EndedAt: 2020-08-07 05:35:29 -0400 (Fri, 07 Aug 2020)
EllapsedTime: 514.6 seconds
RetCode: 0
Status:  OK  
CheckDir: animalcules.Rcheck
Warnings: 0

Command output

##############################################################################
##############################################################################
###
### Running command:
###
###   C:\Users\biocbuild\bbs-3.12-bioc\R\bin\R.exe CMD check --force-multiarch --install=check:animalcules.install-out.txt --library=C:\Users\biocbuild\bbs-3.12-bioc\R\library --no-vignettes --timings animalcules_1.5.1.tar.gz
###
##############################################################################
##############################################################################


* using log directory 'C:/Users/biocbuild/bbs-3.12-bioc/meat/animalcules.Rcheck'
* using R version 4.0.2 (2020-06-22)
* using platform: x86_64-w64-mingw32 (64-bit)
* using session charset: ISO8859-1
* using option '--no-vignettes'
* checking for file 'animalcules/DESCRIPTION' ... OK
* this is package 'animalcules' version '1.5.1'
* package encoding: UTF-8
* checking package namespace information ... OK
* checking package dependencies ... OK
* checking if this is a source package ... OK
* checking if there is a namespace ... OK
* checking for hidden files and directories ... OK
* checking for portable file names ... OK
* checking whether package 'animalcules' can be installed ... OK
* checking installed package size ... OK
* checking package directory ... OK
* checking 'build' directory ... OK
* checking DESCRIPTION meta-information ... OK
* checking top-level files ... OK
* checking for left-over files ... OK
* checking index information ... OK
* checking package subdirectories ... OK
* checking R files for non-ASCII characters ... OK
* checking R files for syntax errors ... OK
* loading checks for arch 'i386'
** checking whether the package can be loaded ... OK
** checking whether the package can be loaded with stated dependencies ... OK
** checking whether the package can be unloaded cleanly ... OK
** checking whether the namespace can be loaded with stated dependencies ... OK
** checking whether the namespace can be unloaded cleanly ... OK
* loading checks for arch 'x64'
** checking whether the package can be loaded ... OK
** checking whether the package can be loaded with stated dependencies ... OK
** checking whether the package can be unloaded cleanly ... OK
** checking whether the namespace can be loaded with stated dependencies ... OK
** checking whether the namespace can be unloaded cleanly ... OK
* checking dependencies in R code ... NOTE
Namespace in Imports field not imported from: 'reactable'
  All declared Imports should be used.
* checking S3 generic/method consistency ... OK
* checking replacement functions ... OK
* checking foreign function calls ... OK
* checking R code for possible problems ... NOTE
alpha_div_boxplot: no visible binding for global variable 'richness'
differential_abundance: no visible binding for global variable 'padj'
differential_abundance: no visible binding for global variable 'pValue'
differential_abundance: no visible binding for global variable
  'log2FoldChange'
diversities_help: no visible binding for global variable 'x'
find_biomarker: no visible binding for global variable 'rowname'
find_biomarker: no visible binding for global variable 'importance'
find_biomarker: no visible binding for global variable '.'
find_biomarker: no visible binding for global variable 'Overall'
find_biomarker: no visible binding for global variable 'y'
find_biomarker: no visible binding for global variable 'm'
find_biomarker: no visible binding for global variable 'd'
relabu_barplot: no visible binding for global variable '.'
relabu_boxplot: no visible binding for global variable '.'
relabu_heatmap: no visible binding for global variable '.'
upsample_counts: no visible binding for global variable '.'
Undefined global functions or variables:
  . Overall d importance log2FoldChange m pValue padj richness rowname
  x y
* checking Rd files ... OK
* checking Rd metadata ... OK
* checking Rd cross-references ... OK
* checking for missing documentation entries ... OK
* checking for code/documentation mismatches ... OK
* checking Rd \usage sections ... OK
* checking Rd contents ... OK
* checking for unstated dependencies in examples ... OK
* checking files in 'vignettes' ... OK
* checking examples ...
** running examples for arch 'i386' ... OK
Examples with CPU (user + system) or elapsed time > 5s
                        user system elapsed
find_biomarker         10.11   0.02   12.60
dimred_tsne             8.56   0.12    8.76
differential_abundance  5.45   0.25    5.70
** running examples for arch 'x64' ... OK
Examples with CPU (user + system) or elapsed time > 5s
                        user system elapsed
find_biomarker         12.23   0.03   12.27
dimred_tsne            10.22   0.02   12.28
differential_abundance  9.24   0.05   11.56
* checking for unstated dependencies in 'tests' ... OK
* checking tests ...
** running tests for arch 'i386' ...
  Running 'testthat.R'
 OK
** running tests for arch 'x64' ...
  Running 'testthat.R'
 OK
* checking for unstated dependencies in vignettes ... OK
* checking package vignettes in 'inst/doc' ... OK
* checking running R code from vignettes ... SKIPPED
* checking re-building of vignette outputs ... SKIPPED
* checking PDF version of manual ... OK
* DONE

Status: 2 NOTEs
See
  'C:/Users/biocbuild/bbs-3.12-bioc/meat/animalcules.Rcheck/00check.log'
for details.



Installation output

animalcules.Rcheck/00install.out

##############################################################################
##############################################################################
###
### Running command:
###
###   C:\cygwin\bin\curl.exe -O https://malbec1.bioconductor.org/BBS/3.12/bioc/src/contrib/animalcules_1.5.1.tar.gz && rm -rf animalcules.buildbin-libdir && mkdir animalcules.buildbin-libdir && C:\Users\biocbuild\bbs-3.12-bioc\R\bin\R.exe CMD INSTALL --merge-multiarch --build --library=animalcules.buildbin-libdir animalcules_1.5.1.tar.gz && C:\Users\biocbuild\bbs-3.12-bioc\R\bin\R.exe CMD INSTALL animalcules_1.5.1.zip && rm animalcules_1.5.1.tar.gz animalcules_1.5.1.zip
###
##############################################################################
##############################################################################


  % Total    % Received % Xferd  Average Speed   Time    Time     Time  Current
                                 Dload  Upload   Total   Spent    Left  Speed

  0     0    0     0    0     0      0      0 --:--:-- --:--:-- --:--:--     0
 27 1844k   27  512k    0     0  3787k      0 --:--:-- --:--:-- --:--:-- 3878k
100 1844k  100 1844k    0     0  10.3M      0 --:--:-- --:--:-- --:--:-- 10.5M

install for i386

* installing *source* package 'animalcules' ...
** using staged installation
** R
** inst
** byte-compile and prepare package for lazy loading
** help
*** installing help indices
  converting help for package 'animalcules'
    finding HTML links ... done
    alpha_div_boxplot                       html  
    alpha_div_test                          html  
    animalcules-package                     html  
    counts_to_logcpm                        html  
    counts_to_relabu                        html  
    df_char_to_factor                       html  
    differential_abundance                  html  
    dimred_pca                              html  
    dimred_pcoa                             html  
    dimred_tsne                             html  
    dimred_umap                             html  
    diversities                             html  
    diversities_help                        html  
    diversity_beta_boxplot                  html  
    diversity_beta_heatmap                  html  
    diversity_beta_test                     html  
    do_alpha_div_test                       html  
    filter_categorize                       html  
    filter_summary_bar_density              html  
    filter_summary_pie_box                  html  
    find_biomarker                          html  
    find_taxon_mat                          html  
    find_taxonomy                           html  
    find_taxonomy_300                       html  
    gini_simpson                            html  
    grep_tid                                html  
    inverse_simpson                         html  
    is_categorical                          html  
    is_integer0                             html  
    is_integer1                             html  
    mae_pick_organisms                      html  
    mae_pick_samples                        html  
    pct2str                                 html  
    percent                                 html  
    read_pathoscope_data                    html  
    relabu_barplot                          html  
    relabu_boxplot                          html  
    relabu_heatmap                          html  
    run_animalcules                         html  
    shannon                                 html  
    simpson_index                           html  
    upsample_counts                         html  
    write_to_biom                           html  
** building package indices
** installing vignettes
** testing if installed package can be loaded from temporary location
** testing if installed package can be loaded from final location
** testing if installed package keeps a record of temporary installation path

install for x64

* installing *source* package 'animalcules' ...
** testing if installed package can be loaded
* MD5 sums
packaged installation of 'animalcules' as animalcules_1.5.1.zip
* DONE (animalcules)
* installing to library 'C:/Users/biocbuild/bbs-3.12-bioc/R/library'
package 'animalcules' successfully unpacked and MD5 sums checked

Tests output

animalcules.Rcheck/tests_i386/testthat.Rout


R version 4.0.2 (2020-06-22) -- "Taking Off Again"
Copyright (C) 2020 The R Foundation for Statistical Computing
Platform: i386-w64-mingw32/i386 (32-bit)

R is free software and comes with ABSOLUTELY NO WARRANTY.
You are welcome to redistribute it under certain conditions.
Type 'license()' or 'licence()' for distribution details.

R is a collaborative project with many contributors.
Type 'contributors()' for more information and
'citation()' on how to cite R or R packages in publications.

Type 'demo()' for some demos, 'help()' for on-line help, or
'help.start()' for an HTML browser interface to help.
Type 'q()' to quit R.

> library(testthat)
> library(animalcules)
> 
> test_check("animalcules")
== testthat results  ===========================================================
[ OK: 39 | SKIPPED: 0 | WARNINGS: 2 | FAILED: 0 ]
> 
> proc.time()
   user  system elapsed 
  38.78    1.84   41.31 

animalcules.Rcheck/tests_x64/testthat.Rout


R version 4.0.2 (2020-06-22) -- "Taking Off Again"
Copyright (C) 2020 The R Foundation for Statistical Computing
Platform: x86_64-w64-mingw32/x64 (64-bit)

R is free software and comes with ABSOLUTELY NO WARRANTY.
You are welcome to redistribute it under certain conditions.
Type 'license()' or 'licence()' for distribution details.

R is a collaborative project with many contributors.
Type 'contributors()' for more information and
'citation()' on how to cite R or R packages in publications.

Type 'demo()' for some demos, 'help()' for on-line help, or
'help.start()' for an HTML browser interface to help.
Type 'q()' to quit R.

> library(testthat)
> library(animalcules)
> 
> test_check("animalcules")
== testthat results  ===========================================================
[ OK: 39 | SKIPPED: 0 | WARNINGS: 2 | FAILED: 0 ]
> 
> proc.time()
   user  system elapsed 
  41.18    0.98   43.28 

Example timings

animalcules.Rcheck/examples_i386/animalcules-Ex.timings

nameusersystemelapsed
alpha_div_boxplot0.840.261.40
alpha_div_test000
counts_to_logcpm000
counts_to_relabu000
df_char_to_factor000
differential_abundance5.450.255.70
dimred_pca0.190.020.20
dimred_pcoa0.250.020.32
dimred_tsne8.560.128.76
dimred_umap0.640.030.67
diversities000
diversities_help000
diversity_beta_boxplot0.270.020.28
diversity_beta_heatmap0.340.030.38
diversity_beta_test0.120.010.14
do_alpha_div_test0.050.000.05
filter_categorize0.280.100.39
filter_summary_bar_density0.390.010.41
filter_summary_pie_box0.230.030.27
find_biomarker10.11 0.0212.60
find_taxon_mat0.240.000.86
find_taxonomy0.030.000.53
find_taxonomy_3000.020.000.53
gini_simpson000
grep_tid000
inverse_simpson000
is_categorical000
is_integer0000
is_integer1000
mae_pick_organisms0.230.000.44
mae_pick_samples0.130.000.12
pct2str000
percent000
relabu_barplot1.470.012.56
relabu_boxplot0.170.020.39
relabu_heatmap0.220.010.44
run_animalcules000
shannon000
simpson_index000
upsample_counts0.010.000.01

animalcules.Rcheck/examples_x64/animalcules-Ex.timings

nameusersystemelapsed
alpha_div_boxplot0.910.080.99
alpha_div_test000
counts_to_logcpm000
counts_to_relabu000
df_char_to_factor000
differential_abundance 9.24 0.0511.56
dimred_pca0.280.060.35
dimred_pcoa0.300.090.39
dimred_tsne10.22 0.0212.28
dimred_umap0.640.030.67
diversities000
diversities_help000
diversity_beta_boxplot0.500.010.52
diversity_beta_heatmap0.400.041.06
diversity_beta_test0.160.000.16
do_alpha_div_test0.080.000.07
filter_categorize0.370.070.46
filter_summary_bar_density0.370.040.41
filter_summary_pie_box0.270.010.28
find_biomarker12.23 0.0312.27
find_taxon_mat0.320.021.00
find_taxonomy0.010.000.57
find_taxonomy_3000.030.000.58
gini_simpson000
grep_tid000
inverse_simpson000
is_categorical000
is_integer0000
is_integer1000
mae_pick_organisms0.260.000.26
mae_pick_samples0.230.000.23
pct2str000
percent000
relabu_barplot2.300.032.33
relabu_boxplot0.190.040.22
relabu_heatmap0.230.030.26
run_animalcules000
shannon000
simpson_index000
upsample_counts0.010.000.01