Back to Multiple platform build/check report for BioC 3.12
[A]BCDEFGHIJKLMNOPQRSTUVWXYZ

BUILD report for amplican on nebbiolo1

This page was generated on 2020-09-19 10:17:49 -0400 (Sat, 19 Sep 2020).

TO THE DEVELOPERS/MAINTAINERS OF THE amplican PACKAGE: Please make sure to use the following settings in order to reproduce any error or warning you see on this page.
Package 50/1912HostnameOS / ArchINSTALLBUILDCHECKBUILD BIN
amplican 1.11.1
Eivind Valen
Snapshot Date: 2020-09-18 14:43:25 -0400 (Fri, 18 Sep 2020)
URL: https://git.bioconductor.org/packages/amplican
Branch: master
Last Commit: ccd6e2a
Last Changed Date: 2020-07-03 10:24:14 -0400 (Fri, 03 Jul 2020)
malbec1 Linux (Ubuntu 18.04.4 LTS) / x86_64  OK  OK  OK UNNEEDED, same version exists in internal repository
nebbiolo1 Linux (Ubuntu 20.04.1 LTS) / x86_64  OK [ OK ] OK 
tokay1 Windows Server 2012 R2 Standard / x64  OK  OK  OK  OK UNNEEDED, same version exists in internal repository
riesling1 Windows Server 2019 Standard / x64  OK  OK  OK  OK 
merida1 macOS 10.14.6 Mojave / x86_64  OK  OK  OK  OK UNNEEDED, same version exists in internal repository

Summary

Package: amplican
Version: 1.11.1
Command: /home/biocbuild/bbs-3.12-bioc/R/bin/R CMD build --keep-empty-dirs --no-resave-data amplican
StartedAt: 2020-09-18 18:54:41 -0400 (Fri, 18 Sep 2020)
EndedAt: 2020-09-18 18:56:10 -0400 (Fri, 18 Sep 2020)
EllapsedTime: 88.8 seconds
RetCode: 0
Status:  OK 
PackageFile: amplican_1.11.1.tar.gz
PackageFileSize: 9.039 MiB

Command output

##############################################################################
##############################################################################
###
### Running command:
###
###   /home/biocbuild/bbs-3.12-bioc/R/bin/R CMD build --keep-empty-dirs --no-resave-data amplican
###
##############################################################################
##############################################################################


* checking for file ‘amplican/DESCRIPTION’ ... OK
* preparing ‘amplican’:
* checking DESCRIPTION meta-information ... OK
* cleaning src
* installing the package to build vignettes
* creating vignettes ... OK
* cleaning src
* checking for LF line-endings in source and make files and shell scripts
* checking for empty or unneeded directories
* building ‘amplican_1.11.1.tar.gz’