Back to Multiple platform build/check report for BioC 3.12
[A]BCDEFGHIJKLMNOPQRSTUVWXYZ

BUILD BIN report for alsace on riesling1

This page was generated on 2020-10-24 11:04:27 -0400 (Sat, 24 Oct 2020).

TO THE DEVELOPERS/MAINTAINERS OF THE alsace PACKAGE: Please make sure to use the following settings in order to reproduce any error or warning you see on this page.
Package 49/1974HostnameOS / ArchINSTALLBUILDCHECKBUILD BIN
alsace 1.25.0
Ron Wehrens
Snapshot Date: 2020-10-23 14:40:36 -0400 (Fri, 23 Oct 2020)
URL: https://git.bioconductor.org/packages/alsace
Branch: master
Last Commit: 1b7cacd
Last Changed Date: 2020-04-27 14:38:51 -0400 (Mon, 27 Apr 2020)
malbec1 Linux (Ubuntu 18.04.4 LTS) / x86_64  OK  OK  OK UNNEEDED, same version exists in internal repository
nebbiolo1 Linux (Ubuntu 20.04.1 LTS) / x86_64  OK  OK  OK 
tokay1 Windows Server 2012 R2 Standard / x64  OK  OK  OK  OK UNNEEDED, same version exists in internal repository
riesling1 Windows Server 2019 Standard / x64  OK  OK  OK [ OK ]
merida1 macOS 10.14.6 Mojave / x86_64  OK  OK  OK  OK UNNEEDED, same version exists in internal repository

Summary

Package: alsace
Version: 1.25.0
Command: rm -rf alsace.buildbin-libdir && mkdir alsace.buildbin-libdir && D:\biocbuild\bbs-3.12-bioc\R\bin\R.exe CMD INSTALL --merge-multiarch --build --library=alsace.buildbin-libdir alsace_1.25.0.tar.gz
StartedAt: 2020-10-24 04:45:54 -0400 (Sat, 24 Oct 2020)
EndedAt: 2020-10-24 04:47:57 -0400 (Sat, 24 Oct 2020)
EllapsedTime: 123.6 seconds
RetCode: 0
Status:  OK  
PackageFile: alsace_1.25.0.zip
PackageFileSize: 1.453 MiB

Command output

##############################################################################
##############################################################################
###
### Running command:
###
###   rm -rf alsace.buildbin-libdir && mkdir alsace.buildbin-libdir && D:\biocbuild\bbs-3.12-bioc\R\bin\R.exe CMD INSTALL --merge-multiarch --build --library=alsace.buildbin-libdir alsace_1.25.0.tar.gz
###
##############################################################################
##############################################################################



install for i386

* installing *source* package 'alsace' ...
** using staged installation
** R
** data
** inst
** byte-compile and prepare package for lazy loading
** help
*** installing help indices
  converting help for package 'alsace'
    finding HTML links ... done
    alsace-package                          html  
    components                              html  
    correctPeaks                            html  
    correctRT                               html  
    finding level-2 HTML links ... done

    doALS                                   html  
    filterPeaks                             html  
    fitpeaks                                html  
    getAllPeaks                             html  
    getPeakTable                            html  
    opa                                     html  
    preprocess                              html  
    showALSresult                           html  
    tea                                     html  
    teaMerged                               html  
    windows                                 html  
** building package indices
** installing vignettes
** testing if installed package can be loaded from temporary location
** testing if installed package can be loaded from final location
** testing if installed package keeps a record of temporary installation path

install for x64

* installing *source* package 'alsace' ...
** testing if installed package can be loaded
* MD5 sums
packaged installation of 'alsace' as alsace_1.25.0.zip
* DONE (alsace)