Back to Multiple platform build/check report for BioC 3.12
[A]BCDEFGHIJKLMNOPQRSTUVWXYZ

BUILD report for alsace on nebbiolo1

This page was generated on 2020-10-14 11:12:17 -0400 (Wed, 14 Oct 2020).

TO THE DEVELOPERS/MAINTAINERS OF THE alsace PACKAGE: Please make sure to use the following settings in order to reproduce any error or warning you see on this page.
Package 47/1930HostnameOS / ArchINSTALLBUILDCHECKBUILD BIN
alsace 1.25.0
Ron Wehrens
Snapshot Date: 2020-10-13 14:40:34 -0400 (Tue, 13 Oct 2020)
URL: https://git.bioconductor.org/packages/alsace
Branch: master
Last Commit: 1b7cacd
Last Changed Date: 2020-04-27 14:38:51 -0400 (Mon, 27 Apr 2020)
malbec1 Linux (Ubuntu 18.04.4 LTS) / x86_64  OK  OK  OK UNNEEDED, same version exists in internal repository
nebbiolo1 Linux (Ubuntu 20.04.1 LTS) / x86_64  OK [ OK ] OK 
tokay1 Windows Server 2012 R2 Standard / x64  OK  OK  OK  OK UNNEEDED, same version exists in internal repository
riesling1 Windows Server 2019 Standard / x64  OK  OK  OK  OK 
merida1 macOS 10.14.6 Mojave / x86_64  OK  OK  OK  OK UNNEEDED, same version exists in internal repository

Summary

Package: alsace
Version: 1.25.0
Command: /home/biocbuild/bbs-3.12-bioc/R/bin/R CMD build --keep-empty-dirs --no-resave-data alsace
StartedAt: 2020-10-13 18:23:01 -0400 (Tue, 13 Oct 2020)
EndedAt: 2020-10-13 18:24:25 -0400 (Tue, 13 Oct 2020)
EllapsedTime: 83.6 seconds
RetCode: 0
Status:  OK 
PackageFile: alsace_1.25.0.tar.gz
PackageFileSize: 1.377 MiB

Command output

##############################################################################
##############################################################################
###
### Running command:
###
###   /home/biocbuild/bbs-3.12-bioc/R/bin/R CMD build --keep-empty-dirs --no-resave-data alsace
###
##############################################################################
##############################################################################


* checking for file ‘alsace/DESCRIPTION’ ... OK
* preparing ‘alsace’:
* checking DESCRIPTION meta-information ... OK
* installing the package to build vignettes
* creating vignettes ... OK
* checking for LF line-endings in source and make files and shell scripts
* checking for empty or unneeded directories
* looking to see if a ‘data/datalist’ file should be added
* building ‘alsace_1.25.0.tar.gz’