Back to Multiple platform build/check report for BioC 3.12
[A]BCDEFGHIJKLMNOPQRSTUVWXYZ

BUILD BIN report for acde on riesling1

This page was generated on 2020-10-18 12:33:01 -0400 (Sun, 18 Oct 2020).

TO THE DEVELOPERS/MAINTAINERS OF THE acde PACKAGE: Please make sure to use the following settings in order to reproduce any error or warning you see on this page.
Package 11/1874HostnameOS / ArchINSTALLBUILDCHECKBUILD BIN
acde 1.19.0
Juan Pablo Acosta
Snapshot Date: 2020-10-17 14:41:49 -0400 (Sat, 17 Oct 2020)
URL: https://git.bioconductor.org/packages/acde
Branch: master
Last Commit: b0efcae
Last Changed Date: 2020-04-27 14:49:17 -0400 (Mon, 27 Apr 2020)
malbec1 Linux (Ubuntu 18.04.4 LTS) / x86_64  OK  OK  OK UNNEEDED, same version exists in internal repository
nebbiolo1 Linux (Ubuntu 20.04.1 LTS) / x86_64  OK  OK  OK 
tokay1 Windows Server 2012 R2 Standard / x64  OK  OK  OK  OK UNNEEDED, same version exists in internal repository
riesling1 Windows Server 2019 Standard / x64  OK  OK  OK [ OK ]
merida1 macOS 10.14.6 Mojave / x86_64  OK  OK  OK  OK UNNEEDED, same version exists in internal repository

Summary

Package: acde
Version: 1.19.0
Command: rm -rf acde.buildbin-libdir && mkdir acde.buildbin-libdir && D:\biocbuild\bbs-3.12-bioc\R\bin\R.exe CMD INSTALL --merge-multiarch --build --library=acde.buildbin-libdir acde_1.19.0.tar.gz
StartedAt: 2020-10-17 22:39:02 -0400 (Sat, 17 Oct 2020)
EndedAt: 2020-10-17 22:39:40 -0400 (Sat, 17 Oct 2020)
EllapsedTime: 37.7 seconds
RetCode: 0
Status:  OK  
PackageFile: acde_1.19.0.zip
PackageFileSize: 8.012 MiB

Command output

##############################################################################
##############################################################################
###
### Running command:
###
###   rm -rf acde.buildbin-libdir && mkdir acde.buildbin-libdir && D:\biocbuild\bbs-3.12-bioc\R\bin\R.exe CMD INSTALL --merge-multiarch --build --library=acde.buildbin-libdir acde_1.19.0.tar.gz
###
##############################################################################
##############################################################################



install for i386

* installing *source* package 'acde' ...
** using staged installation
** R
** data
*** moving datasets to lazyload DB
** inst
** byte-compile and prepare package for lazy loading
** help
*** installing help indices
  converting help for package 'acde'
    finding HTML links ... done
    ac                                      html  
    acde-package                            html  
    bcaFDR                                  html  
    fdr                                     html  
    phytophthora                            html  
    plot.STP                                html  
    plot.TC                                 html  
    print.STP                               html  
    print.TC                                html  
    qval                                    html  
    stp                                     html  
    tc                                      html  
** building package indices
** installing vignettes
** testing if installed package can be loaded from temporary location
** testing if installed package can be loaded from final location
** testing if installed package keeps a record of temporary installation path

install for x64

* installing *source* package 'acde' ...
** testing if installed package can be loaded
* MD5 sums
packaged installation of 'acde' as acde_1.19.0.zip
* DONE (acde)