Back to Multiple platform build/check report for BioC 3.12
[A]BCDEFGHIJKLMNOPQRSTUVWXYZ

CHECK report for abseqR on nebbiolo1

This page was generated on 2020-09-20 10:14:20 -0400 (Sun, 20 Sep 2020).

TO THE DEVELOPERS/MAINTAINERS OF THE abseqR PACKAGE: Please make sure to use the following settings in order to reproduce any error or warning you see on this page.
Package 9/1912HostnameOS / ArchINSTALLBUILDCHECKBUILD BIN
abseqR 1.7.0
JiaHong Fong
Snapshot Date: 2020-09-19 14:40:23 -0400 (Sat, 19 Sep 2020)
URL: https://git.bioconductor.org/packages/abseqR
Branch: master
Last Commit: 8a4126d
Last Changed Date: 2020-04-27 15:21:22 -0400 (Mon, 27 Apr 2020)
malbec1 Linux (Ubuntu 18.04.4 LTS) / x86_64  OK  OK  OK UNNEEDED, same version exists in internal repository
nebbiolo1 Linux (Ubuntu 20.04.1 LTS) / x86_64  OK  OK [ OK ]
tokay1 Windows Server 2012 R2 Standard / x64  OK  OK  OK  OK UNNEEDED, same version exists in internal repository
riesling1 Windows Server 2019 Standard / x64  OK  OK  OK  OK 
merida1 macOS 10.14.6 Mojave / x86_64  OK  OK  OK  OK UNNEEDED, same version exists in internal repository

Summary

Package: abseqR
Version: 1.7.0
Command: /home/biocbuild/bbs-3.12-bioc/R/bin/R CMD check --install=check:abseqR.install-out.txt --library=/home/biocbuild/bbs-3.12-bioc/R/library --no-vignettes --timings abseqR_1.7.0.tar.gz
StartedAt: 2020-09-19 22:10:00 -0400 (Sat, 19 Sep 2020)
EndedAt: 2020-09-19 22:11:35 -0400 (Sat, 19 Sep 2020)
EllapsedTime: 95.4 seconds
RetCode: 0
Status:  OK 
CheckDir: abseqR.Rcheck
Warnings: 0

Command output

##############################################################################
##############################################################################
###
### Running command:
###
###   /home/biocbuild/bbs-3.12-bioc/R/bin/R CMD check --install=check:abseqR.install-out.txt --library=/home/biocbuild/bbs-3.12-bioc/R/library --no-vignettes --timings abseqR_1.7.0.tar.gz
###
##############################################################################
##############################################################################


* using log directory ‘/home/biocbuild/bbs-3.12-bioc/meat/abseqR.Rcheck’
* using R version 4.0.2 (2020-06-22)
* using platform: x86_64-pc-linux-gnu (64-bit)
* using session charset: UTF-8
* using option ‘--no-vignettes’
* checking for file ‘abseqR/DESCRIPTION’ ... OK
* checking extension type ... Package
* this is package ‘abseqR’ version ‘1.7.0’
* package encoding: UTF-8
* checking package namespace information ... OK
* checking package dependencies ... OK
* checking if this is a source package ... OK
* checking if there is a namespace ... OK
* checking for hidden files and directories ... OK
* checking for portable file names ... OK
* checking for sufficient/correct file permissions ... OK
* checking whether package ‘abseqR’ can be installed ... OK
* checking installed package size ... OK
* checking package directory ... OK
* checking ‘build’ directory ... OK
* checking DESCRIPTION meta-information ... OK
* checking top-level files ... OK
* checking for left-over files ... OK
* checking index information ... OK
* checking package subdirectories ... OK
* checking R files for non-ASCII characters ... OK
* checking R files for syntax errors ... OK
* checking whether the package can be loaded ... OK
* checking whether the package can be loaded with stated dependencies ... OK
* checking whether the package can be unloaded cleanly ... OK
* checking whether the namespace can be loaded with stated dependencies ... OK
* checking whether the namespace can be unloaded cleanly ... OK
* checking dependencies in R code ... OK
* checking S3 generic/method consistency ... OK
* checking replacement functions ... OK
* checking foreign function calls ... OK
* checking R code for possible problems ... NOTE
.aminoAcidBar: no visible binding for global variable ‘position’
.aminoAcidBar: no visible binding for global variable ‘proportion’
.aminoAcidBar: no visible binding for global variable ‘aa’
.boxPlot: no visible binding for global variable ‘x’
.boxPlot: no visible binding for global variable ‘y’
.cloneDistHist: no visible binding for global variable ‘prop’
.cloneDistHist: no visible binding for global variable ‘..count..’
.cloneDistMarginal: no visible binding for global variable ‘prop’
.cloneDistMarginal: no visible binding for global variable ‘..scaled..’
.hmFromMatrix: no visible binding for global variable ‘Var2’
.hmFromMatrix: no visible binding for global variable ‘Var1’
.hmFromMatrix: no visible binding for global variable ‘value’
.plotDist: no visible binding for global variable ‘x’
.plotDist: no visible binding for global variable ‘y’
.plotDuplication: no visible binding for global variable ‘x’
.plotDuplication: no visible binding for global variable ‘y’
.plotDuplication: no visible binding for global variable ‘region’
.plotRarefaction: no visible binding for global variable ‘x’
.plotRarefaction: no visible binding for global variable ‘y’
.plotRarefaction: no visible binding for global variable ‘region’
.plotRarefaction: no visible binding for global variable ‘ci’
.plotRarefaction: no visible binding for global variable ‘compound’
.plotRecapture: no visible binding for global variable ‘x’
.plotRecapture: no visible binding for global variable ‘y’
.plotRecapture: no visible binding for global variable ‘region’
.plotRecapture: no visible binding for global variable ‘ci’
.plotRecapture: no visible binding for global variable ‘compound’
.plotSpectratype: no visible binding for global variable ‘percent’
.productivityPlot: no visible binding for global variable ‘Percentage’
.productivityPlot: no visible binding for global variable ‘Reason’
.regionAnalysis: no visible binding for global variable ‘cdr3’
.regionAnalysis: no visible binding for global variable ‘value’
.regionAnalysis: no visible binding for global variable ‘variable’
.scatterPlot: no visible binding for global variable ‘Count.x’
.scatterPlot: no visible binding for global variable ‘Count.y’
.scatterPlotComplex: no visible binding for global variable ‘prop.x’
.scatterPlotComplex: no visible binding for global variable ‘prop.y’
.topNDist: no visible binding for global variable ‘normPerc’
.topNDist: no visible binding for global variable ‘Clonotype’
Undefined global functions or variables:
  ..count.. ..scaled.. Clonotype Count.x Count.y Percentage Reason Var1
  Var2 aa cdr3 ci compound normPerc percent position prop prop.x prop.y
  proportion region value variable x y
* checking Rd files ... OK
* checking Rd metadata ... OK
* checking Rd cross-references ... OK
* checking for missing documentation entries ... OK
* checking for code/documentation mismatches ... OK
* checking Rd \usage sections ... OK
* checking Rd contents ... OK
* checking for unstated dependencies in examples ... OK
* checking files in ‘vignettes’ ... OK
* checking examples ... OK
* checking for unstated dependencies in ‘tests’ ... OK
* checking tests ...
  Running ‘testthat.R’
 OK
* checking for unstated dependencies in vignettes ... OK
* checking package vignettes in ‘inst/doc’ ... OK
* checking running R code from vignettes ... SKIPPED
* checking re-building of vignette outputs ... SKIPPED
* checking PDF version of manual ... OK
* DONE

Status: 1 NOTE
See
  ‘/home/biocbuild/bbs-3.12-bioc/meat/abseqR.Rcheck/00check.log’
for details.



Installation output

abseqR.Rcheck/00install.out

##############################################################################
##############################################################################
###
### Running command:
###
###   /home/biocbuild/bbs-3.12-bioc/R/bin/R CMD INSTALL abseqR
###
##############################################################################
##############################################################################


* installing to library ‘/home/biocbuild/bbs-3.12-bioc/R/library’
* installing *source* package ‘abseqR’ ...
** using staged installation
** R
** inst
** byte-compile and prepare package for lazy loading
** help
*** installing help indices
*** copying figures
** building package indices
** installing vignettes
** testing if installed package can be loaded from temporary location
** testing if installed package can be loaded from final location
** testing if installed package keeps a record of temporary installation path
* DONE (abseqR)

Tests output

abseqR.Rcheck/tests/testthat.Rout


R version 4.0.2 (2020-06-22) -- "Taking Off Again"
Copyright (C) 2020 The R Foundation for Statistical Computing
Platform: x86_64-pc-linux-gnu (64-bit)

R is free software and comes with ABSOLUTELY NO WARRANTY.
You are welcome to redistribute it under certain conditions.
Type 'license()' or 'licence()' for distribution details.

R is a collaborative project with many contributors.
Type 'contributors()' for more information and
'citation()' on how to cite R or R packages in publications.

Type 'demo()' for some demos, 'help()' for on-line help, or
'help.start()' for an HTML browser interface to help.
Type 'q()' to quit R.

> library(testthat)
> library(abseqR)
> 
> test_check("abseqR")
══ testthat results  ═══════════════════════════════════════════════════════════
[ OK: 30 | SKIPPED: 0 | WARNINGS: 1 | FAILED: 0 ]
> 
> proc.time()
   user  system elapsed 
 33.615   0.601  34.232 

Example timings

abseqR.Rcheck/abseqR-Ex.timings

nameusersystemelapsed
AbSeqCRep-class0.5010.0510.601
AbSeqRep-class0.0180.0200.038
abseqReport0.0290.0120.041
plus-AbSeqCRep-AbSeqCRep-method0.020.020.04
plus-AbSeqCRep-AbSeqRep-method0.0240.0160.040
plus-AbSeqRep-AbSeqCRep-method0.0270.0120.040
plus-AbSeqRep-AbSeqRep-method0.0250.0160.041
report0.0240.0160.040