Back to Multiple platform build/check report for BioC 3.12
[A]BCDEFGHIJKLMNOPQRSTUVWXYZ

BUILD report for aCGH on riesling1

This page was generated on 2020-10-24 11:04:23 -0400 (Sat, 24 Oct 2020).

TO THE DEVELOPERS/MAINTAINERS OF THE aCGH PACKAGE: Please make sure to use the following settings in order to reproduce any error or warning you see on this page.
Package 13/1974HostnameOS / ArchINSTALLBUILDCHECKBUILD BIN
aCGH 1.67.0
Peter Dimitrov
Snapshot Date: 2020-10-23 14:40:36 -0400 (Fri, 23 Oct 2020)
URL: https://git.bioconductor.org/packages/aCGH
Branch: master
Last Commit: a8f3d34
Last Changed Date: 2020-04-27 14:09:56 -0400 (Mon, 27 Apr 2020)
malbec1 Linux (Ubuntu 18.04.4 LTS) / x86_64  OK  OK  OK UNNEEDED, same version exists in internal repository
nebbiolo1 Linux (Ubuntu 20.04.1 LTS) / x86_64  OK  OK  OK 
tokay1 Windows Server 2012 R2 Standard / x64  OK  OK  OK  OK UNNEEDED, same version exists in internal repository
riesling1 Windows Server 2019 Standard / x64  OK [ OK ] OK  OK 
merida1 macOS 10.14.6 Mojave / x86_64  OK  OK  OK  OK UNNEEDED, same version exists in internal repository

Summary

Package: aCGH
Version: 1.67.0
Command: chmod a+r aCGH -R && D:\biocbuild\bbs-3.12-bioc\R\bin\R.exe CMD build --keep-empty-dirs --no-resave-data aCGH
StartedAt: 2020-10-23 23:21:55 -0400 (Fri, 23 Oct 2020)
EndedAt: 2020-10-23 23:23:10 -0400 (Fri, 23 Oct 2020)
EllapsedTime: 75.8 seconds
RetCode: 0
Status:  OK  
PackageFile: aCGH_1.67.0.tar.gz
PackageFileSize: 2.116 MiB

Command output

##############################################################################
##############################################################################
###
### Running command:
###
###   chmod a+r aCGH -R && D:\biocbuild\bbs-3.12-bioc\R\bin\R.exe CMD build --keep-empty-dirs --no-resave-data aCGH
###
##############################################################################
##############################################################################


* checking for file 'aCGH/DESCRIPTION' ... OK
* preparing 'aCGH':
* checking DESCRIPTION meta-information ... OK
* cleaning src
* installing the package to build vignettes
* creating vignettes ... OK
* cleaning src
* checking for LF line-endings in source and make files and shell scripts
* checking for empty or unneeded directories
* looking to see if a 'data/datalist' file should be added
* building 'aCGH_1.67.0.tar.gz'