Back to Multiple platform build/check report for BioC 3.12
[A]BCDEFGHIJKLMNOPQRSTUVWXYZ

BUILD report for aCGH on nebbiolo1

This page was generated on 2020-09-19 10:16:17 -0400 (Sat, 19 Sep 2020).

TO THE DEVELOPERS/MAINTAINERS OF THE aCGH PACKAGE: Please make sure to use the following settings in order to reproduce any error or warning you see on this page.
Package 13/1912HostnameOS / ArchINSTALLBUILDCHECKBUILD BIN
aCGH 1.67.0
Peter Dimitrov
Snapshot Date: 2020-09-18 14:43:25 -0400 (Fri, 18 Sep 2020)
URL: https://git.bioconductor.org/packages/aCGH
Branch: master
Last Commit: a8f3d34
Last Changed Date: 2020-04-27 14:09:56 -0400 (Mon, 27 Apr 2020)
malbec1 Linux (Ubuntu 18.04.4 LTS) / x86_64  OK  OK  OK UNNEEDED, same version exists in internal repository
nebbiolo1 Linux (Ubuntu 20.04.1 LTS) / x86_64  OK [ OK ] OK 
tokay1 Windows Server 2012 R2 Standard / x64  OK  OK  OK  OK UNNEEDED, same version exists in internal repository
riesling1 Windows Server 2019 Standard / x64  OK  OK  OK  OK 
merida1 macOS 10.14.6 Mojave / x86_64  OK  OK  OK  OK UNNEEDED, same version exists in internal repository

Summary

Package: aCGH
Version: 1.67.0
Command: /home/biocbuild/bbs-3.12-bioc/R/bin/R CMD build --keep-empty-dirs --no-resave-data aCGH
StartedAt: 2020-09-18 17:31:00 -0400 (Fri, 18 Sep 2020)
EndedAt: 2020-09-18 17:32:38 -0400 (Fri, 18 Sep 2020)
EllapsedTime: 98.0 seconds
RetCode: 0
Status:  OK 
PackageFile: aCGH_1.67.0.tar.gz
PackageFileSize: 2.114 MiB

Command output

##############################################################################
##############################################################################
###
### Running command:
###
###   /home/biocbuild/bbs-3.12-bioc/R/bin/R CMD build --keep-empty-dirs --no-resave-data aCGH
###
##############################################################################
##############################################################################


* checking for file ‘aCGH/DESCRIPTION’ ... OK
* preparing ‘aCGH’:
* checking DESCRIPTION meta-information ... OK
* cleaning src
* installing the package to build vignettes
* creating vignettes ... OK
* cleaning src
* checking for LF line-endings in source and make files and shell scripts
* checking for empty or unneeded directories
* looking to see if a ‘data/datalist’ file should be added
* building ‘aCGH_1.67.0.tar.gz’