Back to Multiple platform build/check report for BioC 3.12
[A]BCDEFGHIJKLMNOPQRSTUVWXYZ

BUILD report for a4Preproc on riesling1

This page was generated on 2020-10-18 12:33:00 -0400 (Sun, 18 Oct 2020).

TO THE DEVELOPERS/MAINTAINERS OF THE a4Preproc PACKAGE: Please make sure to use the following settings in order to reproduce any error or warning you see on this page.
Package 5/1874HostnameOS / ArchINSTALLBUILDCHECKBUILD BIN
a4Preproc 1.37.0
Tobias Verbeke
Snapshot Date: 2020-10-17 14:41:49 -0400 (Sat, 17 Oct 2020)
URL: https://git.bioconductor.org/packages/a4Preproc
Branch: master
Last Commit: 950b2a6
Last Changed Date: 2020-04-27 14:25:20 -0400 (Mon, 27 Apr 2020)
malbec1 Linux (Ubuntu 18.04.4 LTS) / x86_64  OK  OK  OK UNNEEDED, same version exists in internal repository
nebbiolo1 Linux (Ubuntu 20.04.1 LTS) / x86_64  OK  OK  OK 
tokay1 Windows Server 2012 R2 Standard / x64  OK  OK  OK  OK UNNEEDED, same version exists in internal repository
riesling1 Windows Server 2019 Standard / x64  OK [ OK ] OK  OK 
merida1 macOS 10.14.6 Mojave / x86_64  OK  OK  OK  OK UNNEEDED, same version exists in internal repository

Summary

Package: a4Preproc
Version: 1.37.0
Command: chmod a+r a4Preproc -R && D:\biocbuild\bbs-3.12-bioc\R\bin\R.exe CMD build --keep-empty-dirs --no-resave-data a4Preproc
StartedAt: 2020-10-17 17:31:09 -0400 (Sat, 17 Oct 2020)
EndedAt: 2020-10-17 17:31:15 -0400 (Sat, 17 Oct 2020)
EllapsedTime: 5.6 seconds
RetCode: 0
Status:  OK  
PackageFile: a4Preproc_1.37.0.tar.gz
PackageFileSize: 1.864 KiB

Command output

##############################################################################
##############################################################################
###
### Running command:
###
###   chmod a+r a4Preproc -R && D:\biocbuild\bbs-3.12-bioc\R\bin\R.exe CMD build --keep-empty-dirs --no-resave-data a4Preproc
###
##############################################################################
##############################################################################


* checking for file 'a4Preproc/DESCRIPTION' ... OK
* preparing 'a4Preproc':
* checking DESCRIPTION meta-information ... OK
* checking for LF line-endings in source and make files and shell scripts
* checking for empty or unneeded directories
* building 'a4Preproc_1.37.0.tar.gz'