Back to Multiple platform build/check report for BioC 3.12
[A]BCDEFGHIJKLMNOPQRSTUVWXYZ

BUILD BIN report for a4Preproc on riesling1

This page was generated on 2020-10-18 12:33:00 -0400 (Sun, 18 Oct 2020).

TO THE DEVELOPERS/MAINTAINERS OF THE a4Preproc PACKAGE: Please make sure to use the following settings in order to reproduce any error or warning you see on this page.
Package 5/1874HostnameOS / ArchINSTALLBUILDCHECKBUILD BIN
a4Preproc 1.37.0
Tobias Verbeke
Snapshot Date: 2020-10-17 14:41:49 -0400 (Sat, 17 Oct 2020)
URL: https://git.bioconductor.org/packages/a4Preproc
Branch: master
Last Commit: 950b2a6
Last Changed Date: 2020-04-27 14:25:20 -0400 (Mon, 27 Apr 2020)
malbec1 Linux (Ubuntu 18.04.4 LTS) / x86_64  OK  OK  OK UNNEEDED, same version exists in internal repository
nebbiolo1 Linux (Ubuntu 20.04.1 LTS) / x86_64  OK  OK  OK 
tokay1 Windows Server 2012 R2 Standard / x64  OK  OK  OK  OK UNNEEDED, same version exists in internal repository
riesling1 Windows Server 2019 Standard / x64  OK  OK  OK [ OK ]
merida1 macOS 10.14.6 Mojave / x86_64  OK  OK  OK  OK UNNEEDED, same version exists in internal repository

Summary

Package: a4Preproc
Version: 1.37.0
Command: rm -rf a4Preproc.buildbin-libdir && mkdir a4Preproc.buildbin-libdir && D:\biocbuild\bbs-3.12-bioc\R\bin\R.exe CMD INSTALL --merge-multiarch --build --library=a4Preproc.buildbin-libdir a4Preproc_1.37.0.tar.gz
StartedAt: 2020-10-17 22:39:02 -0400 (Sat, 17 Oct 2020)
EndedAt: 2020-10-17 22:39:25 -0400 (Sat, 17 Oct 2020)
EllapsedTime: 22.5 seconds
RetCode: 0
Status:  OK  
PackageFile: a4Preproc_1.37.0.zip
PackageFileSize: 15.27 KiB

Command output

##############################################################################
##############################################################################
###
### Running command:
###
###   rm -rf a4Preproc.buildbin-libdir && mkdir a4Preproc.buildbin-libdir && D:\biocbuild\bbs-3.12-bioc\R\bin\R.exe CMD INSTALL --merge-multiarch --build --library=a4Preproc.buildbin-libdir a4Preproc_1.37.0.tar.gz
###
##############################################################################
##############################################################################



install for i386

* installing *source* package 'a4Preproc' ...
** using staged installation
** R
** inst
** byte-compile and prepare package for lazy loading
** help
*** installing help indices
  converting help for package 'a4Preproc'
    finding HTML links ... done
    addGeneInfo                             html  
** building package indices
** testing if installed package can be loaded from temporary location
** testing if installed package can be loaded from final location
** testing if installed package keeps a record of temporary installation path

install for x64

* installing *source* package 'a4Preproc' ...
** testing if installed package can be loaded
* MD5 sums
packaged installation of 'a4Preproc' as a4Preproc_1.37.0.zip
* DONE (a4Preproc)