Back to Multiple platform build/check report for BioC 3.12
[A]BCDEFGHIJKLMNOPQRSTUVWXYZ

INSTALL report for a4Classif on nebbiolo1

This page was generated on 2020-09-19 10:16:40 -0400 (Sat, 19 Sep 2020).

TO THE DEVELOPERS/MAINTAINERS OF THE a4Classif PACKAGE: Please make sure to use the following settings in order to reproduce any error or warning you see on this page.
Package 3/1912HostnameOS / ArchINSTALLBUILDCHECKBUILD BIN
a4Classif 1.37.0
Tobias Verbeke
Snapshot Date: 2020-09-18 14:43:25 -0400 (Fri, 18 Sep 2020)
URL: https://git.bioconductor.org/packages/a4Classif
Branch: master
Last Commit: a9ae689
Last Changed Date: 2020-04-27 14:25:23 -0400 (Mon, 27 Apr 2020)
malbec1 Linux (Ubuntu 18.04.4 LTS) / x86_64  OK  OK  OK UNNEEDED, same version exists in internal repository
nebbiolo1 Linux (Ubuntu 20.04.1 LTS) / x86_64 [ OK ] OK  OK 
tokay1 Windows Server 2012 R2 Standard / x64  OK  OK  OK  OK UNNEEDED, same version exists in internal repository
riesling1 Windows Server 2019 Standard / x64  OK  OK  OK  OK 
merida1 macOS 10.14.6 Mojave / x86_64  OK  OK  OK  OK UNNEEDED, same version exists in internal repository

Summary

Package: a4Classif
Version: 1.37.0
Command: /home/biocbuild/bbs-3.12-bioc/R/bin/R CMD INSTALL a4Classif
StartedAt: 2020-09-18 17:25:35 -0400 (Fri, 18 Sep 2020)
EndedAt: 2020-09-18 17:26:36 -0400 (Fri, 18 Sep 2020)
EllapsedTime: 61.9 seconds
RetCode: 0
Status:  OK 

Command output

##############################################################################
##############################################################################
###
### Running command:
###
###   /home/biocbuild/bbs-3.12-bioc/R/bin/R CMD INSTALL a4Classif
###
##############################################################################
##############################################################################


* installing to library ‘/home/biocbuild/bbs-3.12-bioc/R/library’
* installing *source* package ‘a4Classif’ ...
** using staged installation
** R
** inst
** byte-compile and prepare package for lazy loading
** help
*** installing help indices
** building package indices
** testing if installed package can be loaded from temporary location
** testing if installed package can be loaded from final location
** testing if installed package keeps a record of temporary installation path
* DONE (a4Classif)