Back to Multiple platform build/check report for BioC 3.12
ABCDEFGHIJKLMNOPQ[R]STUVWXYZ

BUILD BIN report for RTCGAToolbox on riesling1

This page was generated on 2020-10-28 13:32:33 -0400 (Wed, 28 Oct 2020).

TO THE DEVELOPERS/MAINTAINERS OF THE RTCGAToolbox PACKAGE: Please make sure to use the following settings in order to reproduce any error or warning you see on this page.
Package 1592/1974HostnameOS / ArchINSTALLBUILDCHECKBUILD BIN
RTCGAToolbox 2.20.0
Marcel Ramos
Snapshot Date: 2020-10-27 13:12:07 -0400 (Tue, 27 Oct 2020)
URL: https://git.bioconductor.org/packages/RTCGAToolbox
Branch: RELEASE_3_12
Last Commit: 224bf4c
Last Changed Date: 2020-10-27 11:05:35 -0400 (Tue, 27 Oct 2020)
malbec1 Linux (Ubuntu 18.04.4 LTS) / x86_64  OK  OK  OK YES, new version is higher than in internal repository
nebbiolo1 Linux (Ubuntu 20.04.1 LTS) / x86_64  OK  OK  OK 
tokay1 Windows Server 2012 R2 Standard / x64  OK  OK  OK  OK YES, new version is higher than in internal repository
riesling1 Windows Server 2019 Standard / x64  OK  OK  OK [ OK ]
merida1 macOS 10.14.6 Mojave / x86_64  OK  OK  OK  OK YES, new version is higher than in internal repository

Summary

Package: RTCGAToolbox
Version: 2.20.0
Command: rm -rf RTCGAToolbox.buildbin-libdir && mkdir RTCGAToolbox.buildbin-libdir && D:\biocbuild\bbs-3.12-bioc\R\bin\R.exe CMD INSTALL --merge-multiarch --build --library=RTCGAToolbox.buildbin-libdir RTCGAToolbox_2.20.0.tar.gz
StartedAt: 2020-10-28 00:36:38 -0400 (Wed, 28 Oct 2020)
EndedAt: 2020-10-28 00:38:41 -0400 (Wed, 28 Oct 2020)
EllapsedTime: 123.2 seconds
RetCode: 0
Status:  OK  
PackageFile: RTCGAToolbox_2.20.0.zip
PackageFileSize: 3.022 MiB

Command output

##############################################################################
##############################################################################
###
### Running command:
###
###   rm -rf RTCGAToolbox.buildbin-libdir && mkdir RTCGAToolbox.buildbin-libdir && D:\biocbuild\bbs-3.12-bioc\R\bin\R.exe CMD INSTALL --merge-multiarch --build --library=RTCGAToolbox.buildbin-libdir RTCGAToolbox_2.20.0.tar.gz
###
##############################################################################
##############################################################################



install for i386

* installing *source* package 'RTCGAToolbox' ...
** using staged installation
** R
** data
*** moving datasets to lazyload DB
** inst
** byte-compile and prepare package for lazy loading
** help
*** installing help indices
  converting help for package 'RTCGAToolbox'
    finding HTML links ... done
    CorResult-class                         html  
    DGEResult-class                         html  
    FirehoseCGHArray-class                  html  
    FirehoseData-class                      html  
    FirehoseGISTIC-class                    html  
    FirehoseMethylationArray-class          html  
    FirehosemRNAArray-class                 html  
    RTCGAToolbox                            html  
    accmini                                 html  
    biocExtract                             html  
    finding level-2 HTML links ... done

    getBroadSubtypes                        html  
    getCNGECorrelation                      html  
    getData                                 html  
    getDiffExpressedGenes                   html  
    getFirehoseAnalyzeDates                 html  
    getFirehoseData                         html  
    getFirehoseDatasets                     html  
    getFirehoseRunningDates                 html  
    getGISTICPeaks                          html  
    getLinks                                html  
    getMutationRate                         html  
    getReport                               html  
    getSurvival                             html  
    hg19.ucsc.gene.locations                html  
    selectType                              html  
    showResults-CorResult                   html  
    showResults-DGEResult                   html  
    showResults                             html  
** building package indices
** installing vignettes
** testing if installed package can be loaded from temporary location
** testing if installed package can be loaded from final location
** testing if installed package keeps a record of temporary installation path

install for x64

* installing *source* package 'RTCGAToolbox' ...
** testing if installed package can be loaded
* MD5 sums
packaged installation of 'RTCGAToolbox' as RTCGAToolbox_2.20.0.zip
* DONE (RTCGAToolbox)