Back to Multiple platform build/check report for BioC 3.12
ABCDEFGHIJKLMNOPQ[R]STUVWXYZ

BUILD report for RBM on riesling1

This page was generated on 2020-10-28 13:32:13 -0400 (Wed, 28 Oct 2020).

TO THE DEVELOPERS/MAINTAINERS OF THE RBM PACKAGE: Please make sure to use the following settings in order to reproduce any error or warning you see on this page.
Package 1460/1974HostnameOS / ArchINSTALLBUILDCHECKBUILD BIN
RBM 1.22.0
Dongmei Li
Snapshot Date: 2020-10-27 13:12:07 -0400 (Tue, 27 Oct 2020)
URL: https://git.bioconductor.org/packages/RBM
Branch: RELEASE_3_12
Last Commit: f15d3de
Last Changed Date: 2020-10-27 11:04:01 -0400 (Tue, 27 Oct 2020)
malbec1 Linux (Ubuntu 18.04.4 LTS) / x86_64  OK  OK  OK YES, new version is higher than in internal repository
nebbiolo1 Linux (Ubuntu 20.04.1 LTS) / x86_64  OK  OK  OK 
tokay1 Windows Server 2012 R2 Standard / x64  OK  OK  OK  OK YES, new version is higher than in internal repository
riesling1 Windows Server 2019 Standard / x64  OK [ OK ] OK  OK 
merida1 macOS 10.14.6 Mojave / x86_64  OK  OK  OK  OK YES, new version is higher than in internal repository

Summary

Package: RBM
Version: 1.22.0
Command: chmod a+r RBM -R && D:\biocbuild\bbs-3.12-bioc\R\bin\R.exe CMD build --keep-empty-dirs --no-resave-data RBM
StartedAt: 2020-10-27 19:20:29 -0400 (Tue, 27 Oct 2020)
EndedAt: 2020-10-27 19:21:21 -0400 (Tue, 27 Oct 2020)
EllapsedTime: 52.3 seconds
RetCode: 0
Status:  OK  
PackageFile: RBM_1.22.0.tar.gz
PackageFileSize: 278.4 KiB

Command output

##############################################################################
##############################################################################
###
### Running command:
###
###   chmod a+r RBM -R && D:\biocbuild\bbs-3.12-bioc\R\bin\R.exe CMD build --keep-empty-dirs --no-resave-data RBM
###
##############################################################################
##############################################################################


* checking for file 'RBM/DESCRIPTION' ... OK
* preparing 'RBM':
* checking DESCRIPTION meta-information ... OK
* installing the package to build vignettes
* creating vignettes ... OK
* checking for LF line-endings in source and make files and shell scripts
* checking for empty or unneeded directories
* looking to see if a 'data/datalist' file should be added
* building 'RBM_1.22.0.tar.gz'