Back to Multiple platform build/check report for BioC 3.12
ABCDEFGHIJKLMNOPQ[R]STUVWXYZ

CHECK report for RBM on nebbiolo1

This page was generated on 2020-11-23 12:17:50 -0500 (Mon, 23 Nov 2020).

TO THE DEVELOPERS/MAINTAINERS OF THE RBM PACKAGE: Please make sure to use the following settings in order to reproduce any error or warning you see on this page.
Package 1460/1974HostnameOS / ArchINSTALLBUILDCHECKBUILD BIN
RBM 1.22.0
Dongmei Li
Snapshot Date: 2020-11-22 14:42:09 -0500 (Sun, 22 Nov 2020)
URL: https://git.bioconductor.org/packages/RBM
Branch: RELEASE_3_12
Last Commit: f15d3de
Last Changed Date: 2020-10-27 11:04:01 -0500 (Tue, 27 Oct 2020)
malbec1 Linux (Ubuntu 18.04.4 LTS) / x86_64  OK  OK  OK UNNEEDED, same version exists in internal repository
nebbiolo1 Linux (Ubuntu 20.04.1 LTS) / x86_64  OK  OK [ OK ]
tokay1 Windows Server 2012 R2 Standard / x64  OK  OK  OK  OK UNNEEDED, same version exists in internal repository
merida1 macOS 10.14.6 Mojave / x86_64  OK  OK  OK  OK UNNEEDED, same version exists in internal repository

Summary

Package: RBM
Version: 1.22.0
Command: /home/biocbuild/bbs-3.12-bioc/R/bin/R CMD check --install=check:RBM.install-out.txt --library=/home/biocbuild/bbs-3.12-bioc/R/library --no-vignettes --timings RBM_1.22.0.tar.gz
StartedAt: 2020-11-22 22:11:09 -0500 (Sun, 22 Nov 2020)
EndedAt: 2020-11-22 22:11:59 -0500 (Sun, 22 Nov 2020)
EllapsedTime: 50.2 seconds
RetCode: 0
Status:  OK 
CheckDir: RBM.Rcheck
Warnings: 0

Command output

##############################################################################
##############################################################################
###
### Running command:
###
###   /home/biocbuild/bbs-3.12-bioc/R/bin/R CMD check --install=check:RBM.install-out.txt --library=/home/biocbuild/bbs-3.12-bioc/R/library --no-vignettes --timings RBM_1.22.0.tar.gz
###
##############################################################################
##############################################################################


* using log directory ‘/home/biocbuild/bbs-3.12-bioc/meat/RBM.Rcheck’
* using R version 4.0.3 (2020-10-10)
* using platform: x86_64-pc-linux-gnu (64-bit)
* using session charset: UTF-8
* using option ‘--no-vignettes’
* checking for file ‘RBM/DESCRIPTION’ ... OK
* this is package ‘RBM’ version ‘1.22.0’
* checking package namespace information ... OK
* checking package dependencies ... OK
* checking if this is a source package ... OK
* checking if there is a namespace ... OK
* checking for hidden files and directories ... OK
* checking for portable file names ... OK
* checking for sufficient/correct file permissions ... OK
* checking whether package ‘RBM’ can be installed ... OK
* checking installed package size ... OK
* checking package directory ... OK
* checking ‘build’ directory ... OK
* checking DESCRIPTION meta-information ... OK
* checking top-level files ... OK
* checking for left-over files ... OK
* checking index information ... OK
* checking package subdirectories ... OK
* checking R files for non-ASCII characters ... OK
* checking R files for syntax errors ... OK
* checking whether the package can be loaded ... OK
* checking whether the package can be loaded with stated dependencies ... OK
* checking whether the package can be unloaded cleanly ... OK
* checking whether the namespace can be loaded with stated dependencies ... OK
* checking whether the namespace can be unloaded cleanly ... OK
* checking dependencies in R code ... OK
* checking S3 generic/method consistency ... OK
* checking replacement functions ... OK
* checking foreign function calls ... OK
* checking R code for possible problems ... NOTE
RBM_F: no visible global function definition for ‘model.matrix’
Undefined global functions or variables:
  model.matrix
Consider adding
  importFrom("stats", "model.matrix")
to your NAMESPACE file.
* checking Rd files ... OK
* checking Rd metadata ... OK
* checking Rd cross-references ... OK
* checking for missing documentation entries ... OK
* checking for code/documentation mismatches ... OK
* checking Rd \usage sections ... OK
* checking Rd contents ... OK
* checking for unstated dependencies in examples ... OK
* checking contents of ‘data’ directory ... OK
* checking data for non-ASCII characters ... OK
* checking data for ASCII and uncompressed saves ... OK
* checking files in ‘vignettes’ ... OK
* checking examples ... OK
Examples with CPU (user + system) or elapsed time > 5s
             user system elapsed
RBM-package 6.534  0.016   6.551
RBM_F       5.754  0.000   5.757
* checking for unstated dependencies in vignettes ... OK
* checking package vignettes in ‘inst/doc’ ... OK
* checking running R code from vignettes ... SKIPPED
* checking re-building of vignette outputs ... SKIPPED
* checking PDF version of manual ... OK
* DONE

Status: 1 NOTE
See
  ‘/home/biocbuild/bbs-3.12-bioc/meat/RBM.Rcheck/00check.log’
for details.



Installation output

RBM.Rcheck/00install.out

##############################################################################
##############################################################################
###
### Running command:
###
###   /home/biocbuild/bbs-3.12-bioc/R/bin/R CMD INSTALL RBM
###
##############################################################################
##############################################################################


* installing to library ‘/home/biocbuild/bbs-3.12-bioc/R/library’
* installing *source* package ‘RBM’ ...
** using staged installation
** R
** data
** byte-compile and prepare package for lazy loading
** help
*** installing help indices
** building package indices
** installing vignettes
** testing if installed package can be loaded from temporary location
** testing if installed package can be loaded from final location
** testing if installed package keeps a record of temporary installation path
* DONE (RBM)

Tests output


Example timings

RBM.Rcheck/RBM-Ex.timings

nameusersystemelapsed
RBM-package6.5340.0166.551
RBM_F5.7540.0005.757
RBM_T0.6180.0000.618