Back to Multiple platform build/check report for BioC 3.12
ABCDEFGHIJKLMNOP[Q]RSTUVWXYZ

CHECK report for QuaternaryProd on nebbiolo1

This page was generated on 2021-02-22 12:35:22 -0500 (Mon, 22 Feb 2021).

To the developers/maintainers of the QuaternaryProd package:
Please make sure to use the following settings in order to reproduce any error or warning you see on this page.
Package 1437/1974HostnameOS / ArchINSTALLBUILDCHECKBUILD BIN
QuaternaryProd 1.24.0
Carl Tony Fakhry
Snapshot Date: 2021-02-21 14:52:07 -0500 (Sun, 21 Feb 2021)
URL: https://git.bioconductor.org/packages/QuaternaryProd
Branch: RELEASE_3_12
Last Commit: b94d3a2
Last Changed Date: 2020-10-27 11:10:17 -0500 (Tue, 27 Oct 2020)
malbec1Linux (Ubuntu 18.04.5 LTS) / x86_64  OK    OK    OK  UNNEEDED, same version exists in internal repository
nebbiolo1Linux (Ubuntu 20.04.2 LTS) / x86_64  OK    OK    OK  
tokay1Windows Server 2012 R2 Standard / x64  OK    OK    OK    OK  UNNEEDED, same version exists in internal repository
merida1macOS 10.14.6 Mojave / x86_64  OK    OK    OK    OK  UNNEEDED, same version exists in internal repository

Summary

Package: QuaternaryProd
Version: 1.24.0
Command: /home/biocbuild/bbs-3.12-bioc/R/bin/R CMD check --install=check:QuaternaryProd.install-out.txt --library=/home/biocbuild/bbs-3.12-bioc/R/library --no-vignettes --timings QuaternaryProd_1.24.0.tar.gz
StartedAt: 2021-02-21 22:24:10 -0500 (Sun, 21 Feb 2021)
EndedAt: 2021-02-21 22:24:57 -0500 (Sun, 21 Feb 2021)
EllapsedTime: 47.3 seconds
RetCode: 0
Status:   OK  
CheckDir: QuaternaryProd.Rcheck
Warnings: 0

Command output

##############################################################################
##############################################################################
###
### Running command:
###
###   /home/biocbuild/bbs-3.12-bioc/R/bin/R CMD check --install=check:QuaternaryProd.install-out.txt --library=/home/biocbuild/bbs-3.12-bioc/R/library --no-vignettes --timings QuaternaryProd_1.24.0.tar.gz
###
##############################################################################
##############################################################################


* using log directory ‘/home/biocbuild/bbs-3.12-bioc/meat/QuaternaryProd.Rcheck’
* using R version 4.0.3 (2020-10-10)
* using platform: x86_64-pc-linux-gnu (64-bit)
* using session charset: UTF-8
* using option ‘--no-vignettes’
* checking for file ‘QuaternaryProd/DESCRIPTION’ ... OK
* checking extension type ... Package
* this is package ‘QuaternaryProd’ version ‘1.24.0’
* package encoding: UTF-8
* checking package namespace information ... OK
* checking package dependencies ... OK
* checking if this is a source package ... OK
* checking if there is a namespace ... OK
* checking for hidden files and directories ... OK
* checking for portable file names ... OK
* checking for sufficient/correct file permissions ... OK
* checking whether package ‘QuaternaryProd’ can be installed ... OK
* checking installed package size ... NOTE
  installed size is 13.3Mb
  sub-directories of 1Mb or more:
    extdata  11.7Mb
    libs      1.4Mb
* checking package directory ... OK
* checking ‘build’ directory ... OK
* checking DESCRIPTION meta-information ... OK
* checking top-level files ... OK
* checking for left-over files ... OK
* checking index information ... OK
* checking package subdirectories ... OK
* checking R files for non-ASCII characters ... OK
* checking R files for syntax errors ... OK
* checking whether the package can be loaded ... OK
* checking whether the package can be loaded with stated dependencies ... OK
* checking whether the package can be unloaded cleanly ... OK
* checking whether the namespace can be loaded with stated dependencies ... OK
* checking whether the namespace can be unloaded cleanly ... OK
* checking dependencies in R code ... OK
* checking S3 generic/method consistency ... OK
* checking replacement functions ... OK
* checking foreign function calls ... OK
* checking R code for possible problems ... OK
* checking Rd files ... OK
* checking Rd metadata ... OK
* checking Rd cross-references ... OK
* checking for missing documentation entries ... OK
* checking for code/documentation mismatches ... OK
* checking Rd \usage sections ... OK
* checking Rd contents ... OK
* checking for unstated dependencies in examples ... OK
* checking line endings in C/C++/Fortran sources/headers ... OK
* checking compiled code ... NOTE
Note: information on .o files is not available
* checking files in ‘vignettes’ ... OK
* checking examples ... OK
Examples with CPU (user + system) or elapsed time > 5s
                     user system elapsed
RunCRE_HSAStringDB 17.111   0.58  17.703
* checking for unstated dependencies in vignettes ... OK
* checking package vignettes in ‘inst/doc’ ... OK
* checking running R code from vignettes ... SKIPPED
* checking re-building of vignette outputs ... SKIPPED
* checking PDF version of manual ... OK
* DONE

Status: 2 NOTEs
See
  ‘/home/biocbuild/bbs-3.12-bioc/meat/QuaternaryProd.Rcheck/00check.log’
for details.



Installation output

QuaternaryProd.Rcheck/00install.out

##############################################################################
##############################################################################
###
### Running command:
###
###   /home/biocbuild/bbs-3.12-bioc/R/bin/R CMD INSTALL QuaternaryProd
###
##############################################################################
##############################################################################


* installing to library ‘/home/biocbuild/bbs-3.12-bioc/R/library’
* installing *source* package ‘QuaternaryProd’ ...
** using staged installation
** libs
g++ -std=gnu++11 -I"/home/biocbuild/bbs-3.12-bioc/R/include" -DNDEBUG  -I'/home/biocbuild/bbs-3.12-bioc/R/library/Rcpp/include' -I/usr/local/include   -fpic  -g -O2  -Wall -c QuaternaryProd.cpp -o QuaternaryProd.o
g++ -std=gnu++11 -I"/home/biocbuild/bbs-3.12-bioc/R/include" -DNDEBUG  -I'/home/biocbuild/bbs-3.12-bioc/R/library/Rcpp/include' -I/usr/local/include   -fpic  -g -O2  -Wall -c QuaternaryProdUtils.cpp -o QuaternaryProdUtils.o
g++ -std=gnu++11 -I"/home/biocbuild/bbs-3.12-bioc/R/include" -DNDEBUG  -I'/home/biocbuild/bbs-3.12-bioc/R/library/Rcpp/include' -I/usr/local/include   -fpic  -g -O2  -Wall -c RcppExports.cpp -o RcppExports.o
g++ -std=gnu++11 -shared -L/home/biocbuild/bbs-3.12-bioc/R/lib -L/usr/local/lib -o QuaternaryProd.so QuaternaryProd.o QuaternaryProdUtils.o RcppExports.o -L/home/biocbuild/bbs-3.12-bioc/R/lib -lR
installing to /home/biocbuild/bbs-3.12-bioc/R/library/00LOCK-QuaternaryProd/00new/QuaternaryProd/libs
** R
** inst
** byte-compile and prepare package for lazy loading
** help
*** installing help indices
** building package indices
** installing vignettes
** testing if installed package can be loaded from temporary location
** checking absolute paths in shared objects and dynamic libraries
** testing if installed package can be loaded from final location
** testing if installed package keeps a record of temporary installation path
* DONE (QuaternaryProd)

Tests output


Example timings

QuaternaryProd.Rcheck/QuaternaryProd-Ex.timings

nameusersystemelapsed
QP_Pmf0.2810.0120.293
QP_Probability0.0000.0030.004
QP_Pvalue0.0250.0000.026
QP_SigPvalue0.0210.0000.021
QP_Support0.0000.0040.004
RunCRE_HSAStringDB17.111 0.58017.703