Back to Multiple platform build/check report for BioC 3.12
AB[C]DEFGHIJKLMNOPQRSTUVWXYZ

INSTALL report for ChIPseeker on riesling1

This page was generated on 2020-10-18 12:33:27 -0400 (Sun, 18 Oct 2020).

TO THE DEVELOPERS/MAINTAINERS OF THE ChIPseeker PACKAGE: Please make sure to use the following settings in order to reproduce any error or warning you see on this page.
Package 274/1874HostnameOS / ArchINSTALLBUILDCHECKBUILD BIN
ChIPseeker 1.25.0
Guangchuang Yu
Snapshot Date: 2020-10-17 14:41:49 -0400 (Sat, 17 Oct 2020)
URL: https://git.bioconductor.org/packages/ChIPseeker
Branch: master
Last Commit: 3e79cb7
Last Changed Date: 2020-10-07 11:57:14 -0400 (Wed, 07 Oct 2020)
malbec1 Linux (Ubuntu 18.04.4 LTS) / x86_64  OK  OK  OK UNNEEDED, same version exists in internal repository
nebbiolo1 Linux (Ubuntu 20.04.1 LTS) / x86_64  OK  OK  OK 
tokay1 Windows Server 2012 R2 Standard / x64  OK  OK  WARNINGS  OK UNNEEDED, same version exists in internal repository
riesling1 Windows Server 2019 Standard / x64 [ OK ] OK  WARNINGS  OK 
merida1 macOS 10.14.6 Mojave / x86_64  OK  OK  OK  OK UNNEEDED, same version exists in internal repository

Summary

Package: ChIPseeker
Version: 1.25.0
Command: C:\cygwin\bin\curl.exe -O http://172.29.0.3/BBS/3.12/bioc/src/contrib/ChIPseeker_1.25.0.tar.gz && rm -rf ChIPseeker.buildbin-libdir && mkdir ChIPseeker.buildbin-libdir && D:\biocbuild\bbs-3.12-bioc\R\bin\R.exe CMD INSTALL --merge-multiarch --build --library=ChIPseeker.buildbin-libdir ChIPseeker_1.25.0.tar.gz && D:\biocbuild\bbs-3.12-bioc\R\bin\R.exe CMD INSTALL ChIPseeker_1.25.0.zip && rm ChIPseeker_1.25.0.tar.gz ChIPseeker_1.25.0.zip
StartedAt: 2020-10-17 17:17:15 -0400 (Sat, 17 Oct 2020)
EndedAt: 2020-10-17 17:18:39 -0400 (Sat, 17 Oct 2020)
EllapsedTime: 84.1 seconds
RetCode: 0
Status:  OK  

Command output

##############################################################################
##############################################################################
###
### Running command:
###
###   C:\cygwin\bin\curl.exe -O http://172.29.0.3/BBS/3.12/bioc/src/contrib/ChIPseeker_1.25.0.tar.gz && rm -rf ChIPseeker.buildbin-libdir && mkdir ChIPseeker.buildbin-libdir && D:\biocbuild\bbs-3.12-bioc\R\bin\R.exe CMD INSTALL --merge-multiarch --build --library=ChIPseeker.buildbin-libdir ChIPseeker_1.25.0.tar.gz && D:\biocbuild\bbs-3.12-bioc\R\bin\R.exe CMD INSTALL ChIPseeker_1.25.0.zip && rm ChIPseeker_1.25.0.tar.gz ChIPseeker_1.25.0.zip
###
##############################################################################
##############################################################################


  % Total    % Received % Xferd  Average Speed   Time    Time     Time  Current
                                 Dload  Upload   Total   Spent    Left  Speed

  0     0    0     0    0     0      0      0 --:--:-- --:--:-- --:--:--     0
100 4166k  100 4166k    0     0  10.5M      0 --:--:-- --:--:-- --:--:-- 10.5M

install for i386

* installing *source* package 'ChIPseeker' ...
** using staged installation
** R
** data
** inst
** byte-compile and prepare package for lazy loading
** help
*** installing help indices
  converting help for package 'ChIPseeker'
    finding HTML links ... done
    ChIPseeker-package                      html  
    annotatePeak                            html  
    as.GRanges                              html  
    as.data.frame.csAnno                    html  
    covplot                                 html  
    csAnno-class                            html  
    dotFun                                  html  
    downloadGEObedFiles                     html  
    downloadGSMbedFiles                     html  
    dropAnno                                html  
    enrichAnnoOverlap                       html  
    enrichPeakOverlap                       html  
Rd warning: D:/biocbuild/bbs-3.12-bioc/tmpdir/RtmpoLB39d/R.INSTALL41a86da4ee/ChIPseeker/man/enrichPeakOverlap.Rd:34: file link 'mclapply' in package 'parallel' does not exist and so has been treated as a topic
    getBioRegion                            html  
    getGEOInfo                              html  
    getGEOgenomeVersion                     html  
    getGEOspecies                           html  
    getGeneAnno                             html  
    getGenomicAnnotation                    html  
    getNearestFeatureIndicesAndDistances    html  
    getPromoters                            html  
    getSampleFiles                          html  
    getTagMatrix                            html  
    info                                    html  
    overlap                                 html  
    peakHeatmap                             html  
    plotAnnoBar-methods                     html  
    plotAnnoBar.data.frame                  html  
    plotAnnoPie-methods                     html  
    plotAnnoPie.csAnno                      html  
    plotAvgProf                             html  
    plotAvgProf2                            html  
    plotDistToTSS-methods                   html  
    plotDistToTSS.data.frame                html  
    readPeakFile                            html  
    reexports                               html  
Rd warning: D:/biocbuild/bbs-3.12-bioc/tmpdir/RtmpoLB39d/R.INSTALL41a86da4ee/ChIPseeker/man/reexports.Rd:14: file link 'GRangesList' in package 'GenomicRanges' does not exist and so has been treated as a topic
    seq2gene                                html  
    show-methods                            html  
    shuffle                                 html  
    tagHeatmap                              html  
    upsetplot-methods                       html  
    vennpie-methods                         html  
    vennplot                                html  
    vennplot.peakfile                       html  
** building package indices
** installing vignettes
** testing if installed package can be loaded from temporary location
** testing if installed package can be loaded from final location
** testing if installed package keeps a record of temporary installation path

install for x64

* installing *source* package 'ChIPseeker' ...
** testing if installed package can be loaded
* MD5 sums
packaged installation of 'ChIPseeker' as ChIPseeker_1.25.0.zip
* DONE (ChIPseeker)
* installing to library 'D:/biocbuild/bbs-3.12-bioc/R/library'
package 'ChIPseeker' successfully unpacked and MD5 sums checked