Back to Multiple platform build/check report for BioC 3.12
AB[C]DEFGHIJKLMNOPQRSTUVWXYZ

BUILD report for ChIPseeker on nebbiolo1

This page was generated on 2020-09-20 10:13:26 -0400 (Sun, 20 Sep 2020).

TO THE DEVELOPERS/MAINTAINERS OF THE ChIPseeker PACKAGE: Please make sure to use the following settings in order to reproduce any error or warning you see on this page.
Package 278/1912HostnameOS / ArchINSTALLBUILDCHECKBUILD BIN
ChIPseeker 1.25.0
Guangchuang Yu
Snapshot Date: 2020-09-19 14:40:23 -0400 (Sat, 19 Sep 2020)
URL: https://git.bioconductor.org/packages/ChIPseeker
Branch: master
Last Commit: 1a47dba
Last Changed Date: 2020-04-27 23:36:28 -0400 (Mon, 27 Apr 2020)
malbec1 Linux (Ubuntu 18.04.4 LTS) / x86_64  OK  OK  OK UNNEEDED, same version exists in internal repository
nebbiolo1 Linux (Ubuntu 20.04.1 LTS) / x86_64  OK [ OK ] OK 
tokay1 Windows Server 2012 R2 Standard / x64  OK  OK  WARNINGS  OK UNNEEDED, same version exists in internal repository
riesling1 Windows Server 2019 Standard / x64  OK  OK  WARNINGS  OK 
merida1 macOS 10.14.6 Mojave / x86_64  OK  OK  OK  OK UNNEEDED, same version exists in internal repository

Summary

Package: ChIPseeker
Version: 1.25.0
Command: /home/biocbuild/bbs-3.12-bioc/R/bin/R CMD build --keep-empty-dirs --no-resave-data ChIPseeker
StartedAt: 2020-09-19 18:08:52 -0400 (Sat, 19 Sep 2020)
EndedAt: 2020-09-19 18:11:21 -0400 (Sat, 19 Sep 2020)
EllapsedTime: 149.1 seconds
RetCode: 0
Status:  OK 
PackageFile: ChIPseeker_1.25.0.tar.gz
PackageFileSize: 5.176 MiB

Command output

##############################################################################
##############################################################################
###
### Running command:
###
###   /home/biocbuild/bbs-3.12-bioc/R/bin/R CMD build --keep-empty-dirs --no-resave-data ChIPseeker
###
##############################################################################
##############################################################################


* checking for file ‘ChIPseeker/DESCRIPTION’ ... OK
* preparing ‘ChIPseeker’:
* checking DESCRIPTION meta-information ... OK
* installing the package to build vignettes
* creating vignettes ... OK
* checking for LF line-endings in source and make files and shell scripts
* checking for empty or unneeded directories
* looking to see if a ‘data/datalist’ file should be added
* building ‘ChIPseeker_1.25.0.tar.gz’