Back to Multiple platform build/check report for BioC 3.12
AB[C]DEFGHIJKLMNOPQRSTUVWXYZ

BUILD report for ChIPanalyser on nebbiolo1

This page was generated on 2020-09-19 10:17:48 -0400 (Sat, 19 Sep 2020).

TO THE DEVELOPERS/MAINTAINERS OF THE ChIPanalyser PACKAGE: Please make sure to use the following settings in order to reproduce any error or warning you see on this page.
Package 272/1912HostnameOS / ArchINSTALLBUILDCHECKBUILD BIN
ChIPanalyser 1.11.0
Patrick C.N. Martin
Snapshot Date: 2020-09-18 14:43:25 -0400 (Fri, 18 Sep 2020)
URL: https://git.bioconductor.org/packages/ChIPanalyser
Branch: master
Last Commit: b92ef6a
Last Changed Date: 2020-09-12 04:14:48 -0400 (Sat, 12 Sep 2020)
malbec1 Linux (Ubuntu 18.04.4 LTS) / x86_64  OK  OK  OK UNNEEDED, same version exists in internal repository
nebbiolo1 Linux (Ubuntu 20.04.1 LTS) / x86_64  OK [ OK ] OK 
tokay1 Windows Server 2012 R2 Standard / x64  OK  OK  WARNINGS  OK UNNEEDED, same version exists in internal repository
riesling1 Windows Server 2019 Standard / x64  OK  OK  WARNINGS  OK 
merida1 macOS 10.14.6 Mojave / x86_64  OK  OK  OK  OK UNNEEDED, same version exists in internal repository

Summary

Package: ChIPanalyser
Version: 1.11.0
Command: /home/biocbuild/bbs-3.12-bioc/R/bin/R CMD build --keep-empty-dirs --no-resave-data ChIPanalyser
StartedAt: 2020-09-18 18:54:23 -0400 (Fri, 18 Sep 2020)
EndedAt: 2020-09-18 18:58:05 -0400 (Fri, 18 Sep 2020)
EllapsedTime: 222.0 seconds
RetCode: 0
Status:  OK 
PackageFile: ChIPanalyser_1.11.0.tar.gz
PackageFileSize: 557.8 KiB

Command output

##############################################################################
##############################################################################
###
### Running command:
###
###   /home/biocbuild/bbs-3.12-bioc/R/bin/R CMD build --keep-empty-dirs --no-resave-data ChIPanalyser
###
##############################################################################
##############################################################################


* checking for file ‘ChIPanalyser/DESCRIPTION’ ... OK
* preparing ‘ChIPanalyser’:
* checking DESCRIPTION meta-information ... OK
* installing the package to process help pages
* saving partial Rd database
* creating vignettes ... OK
* checking for LF line-endings in source and make files and shell scripts
* checking for empty or unneeded directories
* building ‘ChIPanalyser_1.11.0.tar.gz’