Back to Multiple platform build/check report for BioC 3.12
AB[C]DEFGHIJKLMNOPQRSTUVWXYZ

BUILD report for ChIPComp on nebbiolo1

This page was generated on 2020-09-19 10:17:21 -0400 (Sat, 19 Sep 2020).

TO THE DEVELOPERS/MAINTAINERS OF THE ChIPComp PACKAGE: Please make sure to use the following settings in order to reproduce any error or warning you see on this page.
Package 273/1912HostnameOS / ArchINSTALLBUILDCHECKBUILD BIN
ChIPComp 1.19.0
Li Chen
Snapshot Date: 2020-09-18 14:43:25 -0400 (Fri, 18 Sep 2020)
URL: https://git.bioconductor.org/packages/ChIPComp
Branch: master
Last Commit: 56a85ce
Last Changed Date: 2020-04-27 14:50:44 -0400 (Mon, 27 Apr 2020)
malbec1 Linux (Ubuntu 18.04.4 LTS) / x86_64  OK  OK  OK UNNEEDED, same version exists in internal repository
nebbiolo1 Linux (Ubuntu 20.04.1 LTS) / x86_64  OK [ OK ] OK 
tokay1 Windows Server 2012 R2 Standard / x64  OK  OK  OK  OK UNNEEDED, same version exists in internal repository
riesling1 Windows Server 2019 Standard / x64  OK  OK  OK  OK 
merida1 macOS 10.14.6 Mojave / x86_64  OK  OK  OK  OK UNNEEDED, same version exists in internal repository

Summary

Package: ChIPComp
Version: 1.19.0
Command: /home/biocbuild/bbs-3.12-bioc/R/bin/R CMD build --keep-empty-dirs --no-resave-data ChIPComp
StartedAt: 2020-09-18 18:28:29 -0400 (Fri, 18 Sep 2020)
EndedAt: 2020-09-18 18:29:31 -0400 (Fri, 18 Sep 2020)
EllapsedTime: 62.2 seconds
RetCode: 0
Status:  OK 
PackageFile: ChIPComp_1.19.0.tar.gz
PackageFileSize: 589.3 KiB

Command output

##############################################################################
##############################################################################
###
### Running command:
###
###   /home/biocbuild/bbs-3.12-bioc/R/bin/R CMD build --keep-empty-dirs --no-resave-data ChIPComp
###
##############################################################################
##############################################################################


* checking for file ‘ChIPComp/DESCRIPTION’ ... OK
* preparing ‘ChIPComp’:
* checking DESCRIPTION meta-information ... OK
* cleaning src
* installing the package to build vignettes
* creating vignettes ... OK
* cleaning src
* checking for LF line-endings in source and make files and shell scripts
* checking for empty or unneeded directories
* looking to see if a ‘data/datalist’ file should be added
* building ‘ChIPComp_1.19.0.tar.gz’