Back to Multiple platform build/check report for BioC 3.12
AB[C]DEFGHIJKLMNOPQRSTUVWXYZ

BUILD report for ChIC on nebbiolo1

This page was generated on 2021-01-22 11:53:05 -0500 (Fri, 22 Jan 2021).

TO THE DEVELOPERS/MAINTAINERS OF THE ChIC PACKAGE: Please make sure to use the following settings in order to reproduce any error or warning you see on this page.
Package 278/1974HostnameOS / ArchINSTALLBUILDCHECKBUILD BIN
ChIC 1.10.0
Carmen Maria Livi
Snapshot Date: 2021-01-21 14:42:12 -0500 (Thu, 21 Jan 2021)
URL: https://git.bioconductor.org/packages/ChIC
Branch: RELEASE_3_12
Last Commit: 2676c3d
Last Changed Date: 2020-10-27 11:34:35 -0500 (Tue, 27 Oct 2020)
malbec1 Linux (Ubuntu 18.04.5 LTS) / x86_64  OK  OK  OK UNNEEDED, same version exists in internal repository
nebbiolo1 Linux (Ubuntu 20.04.1 LTS) / x86_64  OK [ OK ] OK 
tokay1 Windows Server 2012 R2 Standard / x64 ...NOT SUPPORTED...
merida1 macOS 10.14.6 Mojave / x86_64  OK  OK  OK  OK UNNEEDED, same version exists in internal repository

Summary

Package: ChIC
Version: 1.10.0
Command: /home/biocbuild/bbs-3.12-bioc/R/bin/R CMD build --keep-empty-dirs --no-resave-data ChIC
StartedAt: 2021-01-21 18:01:53 -0500 (Thu, 21 Jan 2021)
EndedAt: 2021-01-21 18:05:25 -0500 (Thu, 21 Jan 2021)
EllapsedTime: 212.0 seconds
RetCode: 0
Status:  OK 
PackageFile: ChIC_1.10.0.tar.gz
PackageFileSize: 1.021 MiB

Command output

##############################################################################
##############################################################################
###
### Running command:
###
###   /home/biocbuild/bbs-3.12-bioc/R/bin/R CMD build --keep-empty-dirs --no-resave-data ChIC
###
##############################################################################
##############################################################################


* checking for file ‘ChIC/DESCRIPTION’ ... OK
* preparing ‘ChIC’:
* checking DESCRIPTION meta-information ... OK
* installing the package to build vignettes
* creating vignettes ... OK
* checking for LF line-endings in source and make files and shell scripts
* checking for empty or unneeded directories
* building ‘ChIC_1.10.0.tar.gz’