Back to Multiple platform build/check report for BioC 3.12
AB[C]DEFGHIJKLMNOPQRSTUVWXYZ

BUILD BIN report for CellScore on riesling1

This page was generated on 2020-10-18 12:33:25 -0400 (Sun, 18 Oct 2020).

TO THE DEVELOPERS/MAINTAINERS OF THE CellScore PACKAGE: Please make sure to use the following settings in order to reproduce any error or warning you see on this page.
Package 248/1874HostnameOS / ArchINSTALLBUILDCHECKBUILD BIN
CellScore 1.9.0
Nancy Mah
Snapshot Date: 2020-10-17 14:41:49 -0400 (Sat, 17 Oct 2020)
URL: https://git.bioconductor.org/packages/CellScore
Branch: master
Last Commit: c066da8
Last Changed Date: 2020-04-27 15:13:55 -0400 (Mon, 27 Apr 2020)
malbec1 Linux (Ubuntu 18.04.4 LTS) / x86_64  OK  OK  OK UNNEEDED, same version exists in internal repository
nebbiolo1 Linux (Ubuntu 20.04.1 LTS) / x86_64  OK  OK  OK 
tokay1 Windows Server 2012 R2 Standard / x64  OK  OK  OK  OK UNNEEDED, same version exists in internal repository
riesling1 Windows Server 2019 Standard / x64  OK  OK  OK [ OK ]
merida1 macOS 10.14.6 Mojave / x86_64  OK  OK  OK  OK UNNEEDED, same version exists in internal repository

Summary

Package: CellScore
Version: 1.9.0
Command: rm -rf CellScore.buildbin-libdir && mkdir CellScore.buildbin-libdir && D:\biocbuild\bbs-3.12-bioc\R\bin\R.exe CMD INSTALL --merge-multiarch --build --library=CellScore.buildbin-libdir CellScore_1.9.0.tar.gz
StartedAt: 2020-10-17 22:51:22 -0400 (Sat, 17 Oct 2020)
EndedAt: 2020-10-17 22:53:29 -0400 (Sat, 17 Oct 2020)
EllapsedTime: 127.4 seconds
RetCode: 0
Status:  OK  
PackageFile: CellScore_1.9.0.zip
PackageFileSize: 4.272 MiB

Command output

##############################################################################
##############################################################################
###
### Running command:
###
###   rm -rf CellScore.buildbin-libdir && mkdir CellScore.buildbin-libdir && D:\biocbuild\bbs-3.12-bioc\R\bin\R.exe CMD INSTALL --merge-multiarch --build --library=CellScore.buildbin-libdir CellScore_1.9.0.tar.gz
###
##############################################################################
##############################################################################



install for i386

* installing *source* package 'CellScore' ...
** using staged installation
** R
** inst
** byte-compile and prepare package for lazy loading
** help
*** installing help indices
  converting help for package 'CellScore'
    finding HTML links ... done
    BarplotOnOff                            html  
    BoxplotCellScore                        html  
    CellScore                               html  
    CellScoreReport                         html  
    CosineSimScore                          html  
    OnOff                                   html  
    PcaStandards                            html  
    PlotCosineSimHeatmap                    html  
    RugplotCellScore                        html  
    ScatterplotCellScoreComponents          html  
    extractTransitions                      html  
    heatmapOnOffMarkers                     html  
    rugplotDonorTargetTest                  html  
    scatterplotDonorTargetTest              html  
** building package indices
** installing vignettes
** testing if installed package can be loaded from temporary location
** testing if installed package can be loaded from final location
** testing if installed package keeps a record of temporary installation path

install for x64

* installing *source* package 'CellScore' ...
** testing if installed package can be loaded
* MD5 sums
packaged installation of 'CellScore' as CellScore_1.9.0.zip
* DONE (CellScore)