Back to Multiple platform build/check report for BioC 3.12
AB[C]DEFGHIJKLMNOPQRSTUVWXYZ

CHECK report for CellMixS on riesling1

This page was generated on 2020-10-18 12:33:25 -0400 (Sun, 18 Oct 2020).

TO THE DEVELOPERS/MAINTAINERS OF THE CellMixS PACKAGE: Please make sure to use the following settings in order to reproduce any error or warning you see on this page.
Package 245/1874HostnameOS / ArchINSTALLBUILDCHECKBUILD BIN
CellMixS 1.5.2
Almut Lütge
Snapshot Date: 2020-10-17 14:41:49 -0400 (Sat, 17 Oct 2020)
URL: https://git.bioconductor.org/packages/CellMixS
Branch: master
Last Commit: 8bcc521
Last Changed Date: 2020-09-08 02:40:49 -0400 (Tue, 08 Sep 2020)
malbec1 Linux (Ubuntu 18.04.4 LTS) / x86_64  OK  OK  OK UNNEEDED, same version exists in internal repository
nebbiolo1 Linux (Ubuntu 20.04.1 LTS) / x86_64  OK  OK  OK 
tokay1 Windows Server 2012 R2 Standard / x64  OK  OK  OK  OK UNNEEDED, same version exists in internal repository
riesling1 Windows Server 2019 Standard / x64  OK  OK [ OK ] OK 
merida1 macOS 10.14.6 Mojave / x86_64  OK  OK  OK  OK UNNEEDED, same version exists in internal repository

Summary

Package: CellMixS
Version: 1.5.2
Command: D:\biocbuild\bbs-3.12-bioc\R\bin\R.exe CMD check --force-multiarch --install=check:CellMixS.install-out.txt --library=D:\biocbuild\bbs-3.12-bioc\R\library --no-vignettes --timings CellMixS_1.5.2.tar.gz
StartedAt: 2020-10-17 20:02:06 -0400 (Sat, 17 Oct 2020)
EndedAt: 2020-10-17 20:09:35 -0400 (Sat, 17 Oct 2020)
EllapsedTime: 449.0 seconds
RetCode: 0
Status:  OK  
CheckDir: CellMixS.Rcheck
Warnings: 0

Command output

##############################################################################
##############################################################################
###
### Running command:
###
###   D:\biocbuild\bbs-3.12-bioc\R\bin\R.exe CMD check --force-multiarch --install=check:CellMixS.install-out.txt --library=D:\biocbuild\bbs-3.12-bioc\R\library --no-vignettes --timings CellMixS_1.5.2.tar.gz
###
##############################################################################
##############################################################################


* using log directory 'D:/biocbuild/bbs-3.12-bioc/meat/CellMixS.Rcheck'
* using R version 4.0.3 (2020-10-10)
* using platform: x86_64-w64-mingw32 (64-bit)
* using session charset: ISO8859-1
* using option '--no-vignettes'
* checking for file 'CellMixS/DESCRIPTION' ... OK
* checking extension type ... Package
* this is package 'CellMixS' version '1.5.2'
* package encoding: UTF-8
* checking package namespace information ... OK
* checking package dependencies ... OK
* checking if this is a source package ... OK
* checking if there is a namespace ... OK
* checking for hidden files and directories ... OK
* checking for portable file names ... OK
* checking whether package 'CellMixS' can be installed ... OK
* checking installed package size ... OK
* checking package directory ... OK
* checking 'build' directory ... OK
* checking DESCRIPTION meta-information ... OK
* checking top-level files ... OK
* checking for left-over files ... OK
* checking index information ... OK
* checking package subdirectories ... OK
* checking R files for non-ASCII characters ... OK
* checking R files for syntax errors ... OK
* loading checks for arch 'i386'
** checking whether the package can be loaded ... OK
** checking whether the package can be loaded with stated dependencies ... OK
** checking whether the package can be unloaded cleanly ... OK
** checking whether the namespace can be loaded with stated dependencies ... OK
** checking whether the namespace can be unloaded cleanly ... OK
* loading checks for arch 'x64'
** checking whether the package can be loaded ... OK
** checking whether the package can be loaded with stated dependencies ... OK
** checking whether the package can be unloaded cleanly ... OK
** checking whether the namespace can be loaded with stated dependencies ... OK
** checking whether the namespace can be unloaded cleanly ... OK
* checking dependencies in R code ... OK
* checking S3 generic/method consistency ... OK
* checking replacement functions ... OK
* checking foreign function calls ... OK
* checking R code for possible problems ... OK
* checking Rd files ... OK
* checking Rd metadata ... OK
* checking Rd cross-references ... OK
* checking for missing documentation entries ... OK
* checking for code/documentation mismatches ... OK
* checking Rd \usage sections ... OK
* checking Rd contents ... OK
* checking for unstated dependencies in examples ... OK
* checking R/sysdata.rda ... OK
* checking files in 'vignettes' ... OK
* checking examples ...
** running examples for arch 'i386' ... OK
** running examples for arch 'x64' ... OK
* checking for unstated dependencies in 'tests' ... OK
* checking tests ...
** running tests for arch 'i386' ...
  Running 'testthat.R'
 OK
** running tests for arch 'x64' ...
  Running 'testthat.R'
 OK
* checking for unstated dependencies in vignettes ... OK
* checking package vignettes in 'inst/doc' ... OK
* checking running R code from vignettes ... SKIPPED
* checking re-building of vignette outputs ... SKIPPED
* checking PDF version of manual ... OK
* DONE

Status: OK


Installation output

CellMixS.Rcheck/00install.out

##############################################################################
##############################################################################
###
### Running command:
###
###   C:\cygwin\bin\curl.exe -O http://172.29.0.3/BBS/3.12/bioc/src/contrib/CellMixS_1.5.2.tar.gz && rm -rf CellMixS.buildbin-libdir && mkdir CellMixS.buildbin-libdir && D:\biocbuild\bbs-3.12-bioc\R\bin\R.exe CMD INSTALL --merge-multiarch --build --library=CellMixS.buildbin-libdir CellMixS_1.5.2.tar.gz && D:\biocbuild\bbs-3.12-bioc\R\bin\R.exe CMD INSTALL CellMixS_1.5.2.zip && rm CellMixS_1.5.2.tar.gz CellMixS_1.5.2.zip
###
##############################################################################
##############################################################################


  % Total    % Received % Xferd  Average Speed   Time    Time     Time  Current
                                 Dload  Upload   Total   Spent    Left  Speed

  0     0    0     0    0     0      0      0 --:--:-- --:--:-- --:--:--     0
100 1449k  100 1449k    0     0  54.4M      0 --:--:-- --:--:-- --:--:-- 54.4M

install for i386

* installing *source* package 'CellMixS' ...
** using staged installation
** R
** inst
** byte-compile and prepare package for lazy loading
** help
*** installing help indices
  converting help for package 'CellMixS'
    finding HTML links ... done
    CellMixS-package                        html  
    cms                                     html  
    finding level-2 HTML links ... done

    dot-cmsCell                             html  
    dot-defineSubspace                      html  
    dot-filterKnn                           html  
    dot-filterLocMin                        html  
    dot-ldfKnn                              html  
    dot-smoothCms                           html  
    entropy                                 html  
    evalIntegration                         html  
    isi                                     html  
    ldfDiff                                 html  
    ldfSce                                  html  
    locStructure                            html  
    mixMetric                               html  
    visCluster                              html  
    visGroup                                html  
    visHist                                 html  
    visIntegration                          html  
    visMetric                               html  
    visOverview                             html  
** building package indices
** installing vignettes
** testing if installed package can be loaded from temporary location
** testing if installed package can be loaded from final location
** testing if installed package keeps a record of temporary installation path

install for x64

* installing *source* package 'CellMixS' ...
** testing if installed package can be loaded
* MD5 sums
packaged installation of 'CellMixS' as CellMixS_1.5.2.zip
* DONE (CellMixS)
* installing to library 'D:/biocbuild/bbs-3.12-bioc/R/library'
package 'CellMixS' successfully unpacked and MD5 sums checked

Tests output

CellMixS.Rcheck/tests_i386/testthat.Rout


R version 4.0.3 (2020-10-10) -- "Bunny-Wunnies Freak Out"
Copyright (C) 2020 The R Foundation for Statistical Computing
Platform: i386-w64-mingw32/i386 (32-bit)

R is free software and comes with ABSOLUTELY NO WARRANTY.
You are welcome to redistribute it under certain conditions.
Type 'license()' or 'licence()' for distribution details.

R is a collaborative project with many contributors.
Type 'contributors()' for more information and
'citation()' on how to cite R or R packages in publications.

Type 'demo()' for some demos, 'help()' for on-line help, or
'help.start()' for an HTML browser interface to help.
Type 'q()' to quit R.

> library(testthat)
> library(CellMixS)
Loading required package: kSamples
Loading required package: SuppDists
> 
> test_check("CellMixS")
== testthat results  ===========================================================
[ OK: 81 | SKIPPED: 0 | WARNINGS: 0 | FAILED: 0 ]
> 
> proc.time()
   user  system elapsed 
  22.76    0.37   23.11 

CellMixS.Rcheck/tests_x64/testthat.Rout


R version 4.0.3 (2020-10-10) -- "Bunny-Wunnies Freak Out"
Copyright (C) 2020 The R Foundation for Statistical Computing
Platform: x86_64-w64-mingw32/x64 (64-bit)

R is free software and comes with ABSOLUTELY NO WARRANTY.
You are welcome to redistribute it under certain conditions.
Type 'license()' or 'licence()' for distribution details.

R is a collaborative project with many contributors.
Type 'contributors()' for more information and
'citation()' on how to cite R or R packages in publications.

Type 'demo()' for some demos, 'help()' for on-line help, or
'help.start()' for an HTML browser interface to help.
Type 'q()' to quit R.

> library(testthat)
> library(CellMixS)
Loading required package: kSamples
Loading required package: SuppDists
> 
> test_check("CellMixS")
== testthat results  ===========================================================
[ OK: 81 | SKIPPED: 0 | WARNINGS: 0 | FAILED: 0 ]
> 
> proc.time()
   user  system elapsed 
  31.10    0.57   31.67 

Example timings

CellMixS.Rcheck/examples_i386/CellMixS-Ex.timings

nameusersystemelapsed
cms1.420.011.44
entropy0.230.050.28
evalIntegration1.590.021.61
isi0.190.040.23
ldfDiff0.420.020.44
ldfSce0.250.050.30
locStructure0.940.040.99
mixMetric0.190.050.23
visCluster1.060.031.10
visGroup0.250.020.26
visHist1.250.001.27
visIntegration1.420.011.46
visMetric1.070.021.07
visOverview1.850.011.86

CellMixS.Rcheck/examples_x64/CellMixS-Ex.timings

nameusersystemelapsed
cms1.360.021.38
entropy0.230.020.25
evalIntegration1.750.011.76
isi0.230.000.23
ldfDiff0.390.060.46
ldfSce0.250.040.28
locStructure0.540.030.58
mixMetric0.240.010.25
visCluster1.580.021.60
visGroup0.230.030.26
visHist1.280.011.33
visIntegration1.520.041.72
visMetric1.170.011.20
visOverview1.950.052.02