Back to Multiple platform build/check report for BioC 3.12
AB[C]DEFGHIJKLMNOPQRSTUVWXYZ

BUILD BIN report for CellMapper on riesling1

This page was generated on 2020-10-18 12:33:24 -0400 (Sun, 18 Oct 2020).

TO THE DEVELOPERS/MAINTAINERS OF THE CellMapper PACKAGE: Please make sure to use the following settings in order to reproduce any error or warning you see on this page.
Package 244/1874HostnameOS / ArchINSTALLBUILDCHECKBUILD BIN
CellMapper 1.15.0
Brad Nelms
Snapshot Date: 2020-10-17 14:41:49 -0400 (Sat, 17 Oct 2020)
URL: https://git.bioconductor.org/packages/CellMapper
Branch: master
Last Commit: 74e8372
Last Changed Date: 2020-04-27 15:00:27 -0400 (Mon, 27 Apr 2020)
malbec1 Linux (Ubuntu 18.04.4 LTS) / x86_64  OK  OK  WARNINGS UNNEEDED, same version exists in internal repository
nebbiolo1 Linux (Ubuntu 20.04.1 LTS) / x86_64  OK  OK  WARNINGS 
tokay1 Windows Server 2012 R2 Standard / x64  OK  OK  WARNINGS  OK UNNEEDED, same version exists in internal repository
riesling1 Windows Server 2019 Standard / x64  OK  OK  WARNINGS [ OK ]
merida1 macOS 10.14.6 Mojave / x86_64  OK  OK  WARNINGS  OK UNNEEDED, same version exists in internal repository

Summary

Package: CellMapper
Version: 1.15.0
Command: rm -rf CellMapper.buildbin-libdir && mkdir CellMapper.buildbin-libdir && D:\biocbuild\bbs-3.12-bioc\R\bin\R.exe CMD INSTALL --merge-multiarch --build --library=CellMapper.buildbin-libdir CellMapper_1.15.0.tar.gz
StartedAt: 2020-10-17 22:51:07 -0400 (Sat, 17 Oct 2020)
EndedAt: 2020-10-17 22:53:15 -0400 (Sat, 17 Oct 2020)
EllapsedTime: 128.2 seconds
RetCode: 0
Status:  OK  
PackageFile: CellMapper_1.15.0.zip
PackageFileSize: 346.4 KiB

Command output

##############################################################################
##############################################################################
###
### Running command:
###
###   rm -rf CellMapper.buildbin-libdir && mkdir CellMapper.buildbin-libdir && D:\biocbuild\bbs-3.12-bioc\R\bin\R.exe CMD INSTALL --merge-multiarch --build --library=CellMapper.buildbin-libdir CellMapper_1.15.0.tar.gz
###
##############################################################################
##############################################################################



install for i386

* installing *source* package 'CellMapper' ...
** using staged installation
** R
** data
** inst
** byte-compile and prepare package for lazy loading
Warning: replacing previous import 'stats::sd' by 'S4Vectors::sd' when loading 'CellMapper'
Warning: replacing previous import 'stats::var' by 'S4Vectors::var' when loading 'CellMapper'
** help
*** installing help indices
  converting help for package 'CellMapper'
    finding HTML links ... done
    CMprep                                  html  
Rd warning: D:/biocbuild/bbs-3.12-bioc/tmpdir/RtmpuGkvkp/R.INSTALL30544cf3358/CellMapper/man/CMprep.Rd:51: file link 'ExpressionSet' in package 'Biobase' does not exist and so has been treated as a topic
Rd warning: D:/biocbuild/bbs-3.12-bioc/tmpdir/RtmpuGkvkp/R.INSTALL30544cf3358/CellMapper/man/CMprep.Rd:52: file link 'CellMapperData' in package 'CellMapperData' does not exist and so has been treated as a topic
    CMsearch                                html  
Rd warning: D:/biocbuild/bbs-3.12-bioc/tmpdir/RtmpuGkvkp/R.INSTALL30544cf3358/CellMapper/man/CMsearch.Rd:74: file link 'CellMapperData' in package 'CellMapperData' does not exist and so has been treated as a topic
    CellMapperList-class                    html  
    ExampleGeneLists                        html  
Rd warning: D:/biocbuild/bbs-3.12-bioc/tmpdir/RtmpuGkvkp/R.INSTALL30544cf3358/CellMapper/man/ExampleGeneLists.Rd:51: file link 'CellMapperData' in package 'CellMapperData' does not exist and so has been treated as a topic
Rd warning: D:/biocbuild/bbs-3.12-bioc/tmpdir/RtmpuGkvkp/R.INSTALL30544cf3358/CellMapper/man/ExampleGeneLists.Rd:52: file link 'ExperimentHub' in package 'ExperimentHub' does not exist and so has been treated as a topic
    ReplicateManuscript                     html  
Rd warning: D:/biocbuild/bbs-3.12-bioc/tmpdir/RtmpuGkvkp/R.INSTALL30544cf3358/CellMapper/man/ReplicateManuscript.Rd:33: file link 'CellMapperData' in package 'CellMapperData' does not exist and so has been treated as a topic
Rd warning: D:/biocbuild/bbs-3.12-bioc/tmpdir/RtmpuGkvkp/R.INSTALL30544cf3358/CellMapper/man/ReplicateManuscript.Rd:34: file link 'ExperimentHub' in package 'ExperimentHub' does not exist and so has been treated as a topic
** building package indices
** installing vignettes
** testing if installed package can be loaded from temporary location
Warning: replacing previous import 'stats::sd' by 'S4Vectors::sd' when loading 'CellMapper'
Warning: replacing previous import 'stats::var' by 'S4Vectors::var' when loading 'CellMapper'
** testing if installed package can be loaded from final location
Warning: replacing previous import 'stats::sd' by 'S4Vectors::sd' when loading 'CellMapper'
Warning: replacing previous import 'stats::var' by 'S4Vectors::var' when loading 'CellMapper'
** testing if installed package keeps a record of temporary installation path

install for x64

* installing *source* package 'CellMapper' ...
** testing if installed package can be loaded
Warning: replacing previous import 'stats::sd' by 'S4Vectors::sd' when loading 'CellMapper'
Warning: replacing previous import 'stats::var' by 'S4Vectors::var' when loading 'CellMapper'
* MD5 sums
packaged installation of 'CellMapper' as CellMapper_1.15.0.zip
* DONE (CellMapper)