Back to Multiple platform build/check report for BioC 3.12
AB[C]DEFGHIJKLMNOPQRSTUVWXYZ

BUILD report for CellMapper on nebbiolo1

This page was generated on 2020-09-19 10:17:35 -0400 (Sat, 19 Sep 2020).

TO THE DEVELOPERS/MAINTAINERS OF THE CellMapper PACKAGE: Please make sure to use the following settings in order to reproduce any error or warning you see on this page.
Package 245/1912HostnameOS / ArchINSTALLBUILDCHECKBUILD BIN
CellMapper 1.15.0
Brad Nelms
Snapshot Date: 2020-09-18 14:43:25 -0400 (Fri, 18 Sep 2020)
URL: https://git.bioconductor.org/packages/CellMapper
Branch: master
Last Commit: 74e8372
Last Changed Date: 2020-04-27 15:00:27 -0400 (Mon, 27 Apr 2020)
malbec1 Linux (Ubuntu 18.04.4 LTS) / x86_64  OK  OK  WARNINGS UNNEEDED, same version exists in internal repository
nebbiolo1 Linux (Ubuntu 20.04.1 LTS) / x86_64  OK [ OK ] WARNINGS 
tokay1 Windows Server 2012 R2 Standard / x64  OK  OK  WARNINGS  OK UNNEEDED, same version exists in internal repository
riesling1 Windows Server 2019 Standard / x64  OK  OK  WARNINGS  OK 
merida1 macOS 10.14.6 Mojave / x86_64  OK  OK  WARNINGS  OK UNNEEDED, same version exists in internal repository

Summary

Package: CellMapper
Version: 1.15.0
Command: /home/biocbuild/bbs-3.12-bioc/R/bin/R CMD build --keep-empty-dirs --no-resave-data CellMapper
StartedAt: 2020-09-18 18:41:48 -0400 (Fri, 18 Sep 2020)
EndedAt: 2020-09-18 18:43:55 -0400 (Fri, 18 Sep 2020)
EllapsedTime: 126.8 seconds
RetCode: 0
Status:  OK 
PackageFile: CellMapper_1.15.0.tar.gz
PackageFileSize: 199.4 KiB

Command output

##############################################################################
##############################################################################
###
### Running command:
###
###   /home/biocbuild/bbs-3.12-bioc/R/bin/R CMD build --keep-empty-dirs --no-resave-data CellMapper
###
##############################################################################
##############################################################################


* checking for file ‘CellMapper/DESCRIPTION’ ... OK
* preparing ‘CellMapper’:
* checking DESCRIPTION meta-information ... OK
* installing the package to build vignettes
* creating vignettes ... OK
* checking for LF line-endings in source and make files and shell scripts
* checking for empty or unneeded directories
* looking to see if a ‘data/datalist’ file should be added
* building ‘CellMapper_1.15.0.tar.gz’