Back to Multiple platform build/check report for BioC 3.12
AB[C]DEFGHIJKLMNOPQRSTUVWXYZ

BUILD report for CellBench on nebbiolo1

This page was generated on 2021-01-24 11:51:36 -0500 (Sun, 24 Jan 2021).

TO THE DEVELOPERS/MAINTAINERS OF THE CellBench PACKAGE: Please make sure to use the following settings in order to reproduce any error or warning you see on this page.
Package 251/1974HostnameOS / ArchINSTALLBUILDCHECKBUILD BIN
CellBench 1.6.0
Shian Su
Snapshot Date: 2021-01-23 14:40:16 -0500 (Sat, 23 Jan 2021)
URL: https://git.bioconductor.org/packages/CellBench
Branch: RELEASE_3_12
Last Commit: b830843
Last Changed Date: 2020-10-27 11:43:21 -0500 (Tue, 27 Oct 2020)
malbec1 Linux (Ubuntu 18.04.5 LTS) / x86_64  OK  OK  OK UNNEEDED, same version exists in internal repository
nebbiolo1 Linux (Ubuntu 20.04.1 LTS) / x86_64  OK [ OK ] OK 
tokay1 Windows Server 2012 R2 Standard / x64  OK  OK  OK  OK UNNEEDED, same version exists in internal repository
merida1 macOS 10.14.6 Mojave / x86_64  OK  OK  OK  OK UNNEEDED, same version exists in internal repository

Summary

Package: CellBench
Version: 1.6.0
Command: /home/biocbuild/bbs-3.12-bioc/R/bin/R CMD build --keep-empty-dirs --no-resave-data CellBench
StartedAt: 2021-01-23 17:52:01 -0500 (Sat, 23 Jan 2021)
EndedAt: 2021-01-23 17:52:57 -0500 (Sat, 23 Jan 2021)
EllapsedTime: 55.7 seconds
RetCode: 0
Status:  OK 
PackageFile: CellBench_1.6.0.tar.gz
PackageFileSize: 3.757 MiB

Command output

##############################################################################
##############################################################################
###
### Running command:
###
###   /home/biocbuild/bbs-3.12-bioc/R/bin/R CMD build --keep-empty-dirs --no-resave-data CellBench
###
##############################################################################
##############################################################################


* checking for file ‘CellBench/DESCRIPTION’ ... OK
* preparing ‘CellBench’:
* checking DESCRIPTION meta-information ... OK
* installing the package to build vignettes
* creating vignettes ... OK
* checking for LF line-endings in source and make files and shell scripts
* checking for empty or unneeded directories
* building ‘CellBench_1.6.0.tar.gz’