Back to Multiple platform build/check report for BioC 3.12
AB[C]DEFGHIJKLMNOPQRSTUVWXYZ

BUILD BIN report for CancerSubtypes on merida1

This page was generated on 2020-08-13 11:55:15 -0400 (Thu, 13 Aug 2020).

TO THE DEVELOPERS/MAINTAINERS OF THE CancerSubtypes PACKAGE: Please make sure to use the following settings in order to reproduce any error or warning you see on this page.
Package 221/1885HostnameOS / ArchINSTALLBUILDCHECKBUILD BIN
CancerSubtypes 1.15.0
Taosheng Xu
Snapshot Date: 2020-08-12 14:52:00 -0400 (Wed, 12 Aug 2020)
URL: https://git.bioconductor.org/packages/CancerSubtypes
Branch: master
Last Commit: 6859df3
Last Changed Date: 2020-04-27 15:00:39 -0400 (Mon, 27 Apr 2020)
malbec1 Linux (Ubuntu 18.04.4 LTS) / x86_64  OK  OK  OK UNNEEDED, same version exists in internal repository
nebbiolo1 Linux (Ubuntu 20.04.1 LTS) / x86_64  OK  OK  OK 
tokay1 Windows Server 2012 R2 Standard / x64  OK  OK  OK  OK UNNEEDED, same version exists in internal repository
merida1 macOS 10.14.6 Mojave / x86_64  OK  OK  OK [ OK ]UNNEEDED, same version exists in internal repository

Summary

Package: CancerSubtypes
Version: 1.15.0
Command: rm -rf CancerSubtypes.buildbin-libdir && mkdir CancerSubtypes.buildbin-libdir && /Users/biocbuild/BBS/utils/build-universal.sh CancerSubtypes_1.15.0.tar.gz /Library/Frameworks/R.framework/Versions/Current/Resources/bin/R CancerSubtypes.buildbin-libdir
StartedAt: 2020-08-13 07:45:10 -0400 (Thu, 13 Aug 2020)
EndedAt: 2020-08-13 07:46:01 -0400 (Thu, 13 Aug 2020)
EllapsedTime: 51.3 seconds
RetCode: 0
Status:  OK 
PackageFile: CancerSubtypes_1.15.0.tgz
PackageFileSize: 1.611 MiB

Command output

##############################################################################
##############################################################################
###
### Running command:
###
###   rm -rf CancerSubtypes.buildbin-libdir && mkdir CancerSubtypes.buildbin-libdir && /Users/biocbuild/BBS/utils/build-universal.sh CancerSubtypes_1.15.0.tar.gz /Library/Frameworks/R.framework/Versions/Current/Resources/bin/R CancerSubtypes.buildbin-libdir
###
##############################################################################
##############################################################################


>>>>>>> 
>>>>>>> INSTALLATION WITH 'R CMD INSTALL --preclean --no-multiarch --library=CancerSubtypes.buildbin-libdir CancerSubtypes_1.15.0.tar.gz'
>>>>>>> 

* installing *source* package ‘CancerSubtypes’ ...
** using staged installation
** R
** data
** inst
** byte-compile and prepare package for lazy loading
** help
*** installing help indices
** building package indices
** installing vignettes
** testing if installed package can be loaded from temporary location
** testing if installed package can be loaded from final location
** testing if installed package keeps a record of temporary installation path
* DONE (CancerSubtypes)