Back to Multiple platform build/check report for BioC 3.12
AB[C]DEFGHIJKLMNOPQRSTUVWXYZ

BUILD report for CancerInSilico on nebbiolo1

This page was generated on 2021-01-24 11:51:34 -0500 (Sun, 24 Jan 2021).

TO THE DEVELOPERS/MAINTAINERS OF THE CancerInSilico PACKAGE: Please make sure to use the following settings in order to reproduce any error or warning you see on this page.
Package 229/1974HostnameOS / ArchINSTALLBUILDCHECKBUILD BIN
CancerInSilico 2.10.0
Thomas D. Sherman
Snapshot Date: 2021-01-23 14:40:16 -0500 (Sat, 23 Jan 2021)
URL: https://git.bioconductor.org/packages/CancerInSilico
Branch: RELEASE_3_12
Last Commit: 3419b7b
Last Changed Date: 2020-10-27 11:18:15 -0500 (Tue, 27 Oct 2020)
malbec1 Linux (Ubuntu 18.04.5 LTS) / x86_64  OK  OK  OK UNNEEDED, same version exists in internal repository
nebbiolo1 Linux (Ubuntu 20.04.1 LTS) / x86_64  OK [ OK ] OK 
tokay1 Windows Server 2012 R2 Standard / x64  OK  OK  OK  OK UNNEEDED, same version exists in internal repository
merida1 macOS 10.14.6 Mojave / x86_64  OK  OK  OK  OK UNNEEDED, same version exists in internal repository

Summary

Package: CancerInSilico
Version: 2.10.0
Command: /home/biocbuild/bbs-3.12-bioc/R/bin/R CMD build --keep-empty-dirs --no-resave-data CancerInSilico
StartedAt: 2021-01-23 17:50:26 -0500 (Sat, 23 Jan 2021)
EndedAt: 2021-01-23 17:52:38 -0500 (Sat, 23 Jan 2021)
EllapsedTime: 132.9 seconds
RetCode: 0
Status:  OK 
PackageFile: CancerInSilico_2.10.0.tar.gz
PackageFileSize: 2.289 MiB

Command output

##############################################################################
##############################################################################
###
### Running command:
###
###   /home/biocbuild/bbs-3.12-bioc/R/bin/R CMD build --keep-empty-dirs --no-resave-data CancerInSilico
###
##############################################################################
##############################################################################


* checking for file ‘CancerInSilico/DESCRIPTION’ ... OK
* preparing ‘CancerInSilico’:
* checking DESCRIPTION meta-information ... OK
* cleaning src
* installing the package to build vignettes
* creating vignettes ... OK
* cleaning src
* checking for LF line-endings in source and make files and shell scripts
* checking for empty or unneeded directories
WARNING: directory ‘CancerInSilico/inst/scripts’ is empty
* looking to see if a ‘data/datalist’ file should be added
* building ‘CancerInSilico_2.10.0.tar.gz’