Back to Multiple platform build/check report for BioC 3.12
AB[C]DEFGHIJKLMNOPQRSTUVWXYZ

INSTALL report for CHETAH on nebbiolo1

This page was generated on 2021-03-03 12:11:42 -0500 (Wed, 03 Mar 2021).

To the developers/maintainers of the CHETAH package:
Please make sure to use the following settings in order to reproduce any error or warning you see on this page.
Package 277/1974HostnameOS / ArchINSTALLBUILDCHECKBUILD BIN
CHETAH 1.6.0
Jurrian de Kanter
Snapshot Date: 2021-03-02 14:50:31 -0500 (Tue, 02 Mar 2021)
URL: https://git.bioconductor.org/packages/CHETAH
Branch: RELEASE_3_12
Last Commit: cd3dd78
Last Changed Date: 2020-10-27 11:43:50 -0500 (Tue, 27 Oct 2020)
malbec1Linux (Ubuntu 18.04.5 LTS) / x86_64  OK    OK    OK  UNNEEDED, same version exists in internal repository
nebbiolo1Linux (Ubuntu 20.04.2 LTS) / x86_64  OK    OK    OK  
tokay1Windows Server 2012 R2 Standard / x64  OK    OK    OK    OK  UNNEEDED, same version exists in internal repository
merida1macOS 10.14.6 Mojave / x86_64  OK    OK    OK    OK  UNNEEDED, same version exists in internal repository

Summary

Package: CHETAH
Version: 1.6.0
Command: /home/biocbuild/bbs-3.12-bioc/R/bin/R CMD INSTALL CHETAH
StartedAt: 2021-03-02 17:20:42 -0500 (Tue, 02 Mar 2021)
EndedAt: 2021-03-02 17:21:54 -0500 (Tue, 02 Mar 2021)
EllapsedTime: 72.0 seconds
RetCode: 0
Status:   OK  

Command output

##############################################################################
##############################################################################
###
### Running command:
###
###   /home/biocbuild/bbs-3.12-bioc/R/bin/R CMD INSTALL CHETAH
###
##############################################################################
##############################################################################


* installing to library ‘/home/biocbuild/bbs-3.12-bioc/R/library’
* installing *source* package ‘CHETAH’ ...
** using staged installation
** R
** data
*** moving datasets to lazyload DB
** inst
** byte-compile and prepare package for lazy loading
** help
*** installing help indices
** building package indices
** installing vignettes
** testing if installed package can be loaded from temporary location
** testing if installed package can be loaded from final location
** testing if installed package keeps a record of temporary installation path
* DONE (CHETAH)