Back to Multiple platform build/check report for BioC 3.12
A[B]CDEFGHIJKLMNOPQRSTUVWXYZ

BUILD report for BrowserViz on nebbiolo1

This page was generated on 2020-09-21 11:07:09 -0400 (Mon, 21 Sep 2020).

TO THE DEVELOPERS/MAINTAINERS OF THE BrowserViz PACKAGE: Please make sure to use the following settings in order to reproduce any error or warning you see on this page.
Package 203/1912HostnameOS / ArchINSTALLBUILDCHECKBUILD BIN
BrowserViz 2.11.0
Paul Shannon
Snapshot Date: 2020-09-20 14:41:51 -0400 (Sun, 20 Sep 2020)
URL: https://git.bioconductor.org/packages/BrowserViz
Branch: master
Last Commit: c965f73
Last Changed Date: 2020-04-27 14:47:02 -0400 (Mon, 27 Apr 2020)
malbec1 Linux (Ubuntu 18.04.4 LTS) / x86_64  OK  OK  OK UNNEEDED, same version exists in internal repository
nebbiolo1 Linux (Ubuntu 20.04.1 LTS) / x86_64  OK [ OK ] TIMEOUT 
tokay1 Windows Server 2012 R2 Standard / x64  OK  OK  OK  OK UNNEEDED, same version exists in internal repository
riesling1 Windows Server 2019 Standard / x64  OK  OK  OK  OK 
merida1 macOS 10.14.6 Mojave / x86_64  OK  OK  OK  OK UNNEEDED, same version exists in internal repository

Summary

Package: BrowserViz
Version: 2.11.0
Command: /home/biocbuild/bbs-3.12-bioc/R/bin/R CMD build --keep-empty-dirs --no-resave-data BrowserViz
StartedAt: 2020-09-20 18:17:45 -0400 (Sun, 20 Sep 2020)
EndedAt: 2020-09-20 18:18:41 -0400 (Sun, 20 Sep 2020)
EllapsedTime: 55.6 seconds
RetCode: 0
Status:  OK 
PackageFile: BrowserViz_2.11.0.tar.gz
PackageFileSize: 242.7 KiB

Command output

##############################################################################
##############################################################################
###
### Running command:
###
###   /home/biocbuild/bbs-3.12-bioc/R/bin/R CMD build --keep-empty-dirs --no-resave-data BrowserViz
###
##############################################################################
##############################################################################


* checking for file ‘BrowserViz/DESCRIPTION’ ... OK
* preparing ‘BrowserViz’:
* checking DESCRIPTION meta-information ... OK
* installing the package to build vignettes
* creating vignettes ... OK
* checking for LF line-endings in source and make files and shell scripts
* checking for empty or unneeded directories
WARNING: directory ‘BrowserViz/docs’ is empty
* building ‘BrowserViz_2.11.0.tar.gz’