Back to Multiple platform build/check report for BioC 3.12
A[B]CDEFGHIJKLMNOPQRSTUVWXYZ

BUILD BIN report for BrainStars on tokay1

This page was generated on 2020-10-14 11:15:04 -0400 (Wed, 14 Oct 2020).

TO THE DEVELOPERS/MAINTAINERS OF THE BrainStars PACKAGE: Please make sure to use the following settings in order to reproduce any error or warning you see on this page.
Package 197/1930HostnameOS / ArchINSTALLBUILDCHECKBUILD BIN
BrainStars 1.33.0
Itoshi NIKAIDO
Snapshot Date: 2020-10-13 14:40:34 -0400 (Tue, 13 Oct 2020)
URL: https://git.bioconductor.org/packages/BrainStars
Branch: master
Last Commit: e0111ee
Last Changed Date: 2020-04-27 14:29:00 -0400 (Mon, 27 Apr 2020)
malbec1 Linux (Ubuntu 18.04.4 LTS) / x86_64  OK  OK  OK UNNEEDED, same version exists in internal repository
nebbiolo1 Linux (Ubuntu 20.04.1 LTS) / x86_64  OK  OK  OK 
tokay1 Windows Server 2012 R2 Standard / x64  OK  OK  OK [ OK ]UNNEEDED, same version exists in internal repository
riesling1 Windows Server 2019 Standard / x64  OK  OK  OK  OK 
merida1 macOS 10.14.6 Mojave / x86_64  OK  OK  OK  OK UNNEEDED, same version exists in internal repository

Summary

Package: BrainStars
Version: 1.33.0
Command: rm -rf BrainStars.buildbin-libdir && mkdir BrainStars.buildbin-libdir && C:\Users\biocbuild\bbs-3.12-bioc\R\bin\R.exe CMD INSTALL --merge-multiarch --build --library=BrainStars.buildbin-libdir BrainStars_1.33.0.tar.gz
StartedAt: 2020-10-14 10:08:43 -0400 (Wed, 14 Oct 2020)
EndedAt: 2020-10-14 10:09:18 -0400 (Wed, 14 Oct 2020)
EllapsedTime: 34.5 seconds
RetCode: 0
Status:  OK  
PackageFile: BrainStars_1.33.0.zip
PackageFileSize: 350.6 KiB

Command output

##############################################################################
##############################################################################
###
### Running command:
###
###   rm -rf BrainStars.buildbin-libdir && mkdir BrainStars.buildbin-libdir && C:\Users\biocbuild\bbs-3.12-bioc\R\bin\R.exe CMD INSTALL --merge-multiarch --build --library=BrainStars.buildbin-libdir BrainStars_1.33.0.tar.gz
###
##############################################################################
##############################################################################



install for i386

* installing *source* package 'BrainStars' ...
** using staged installation
** R
** inst
** byte-compile and prepare package for lazy loading
** help
*** installing help indices
  converting help for package 'BrainStars'
    finding HTML links ... done
    BrainStars                              html  
    getBrainStars                           html  
    getBrainStarsFigure                     html  
** building package indices
** installing vignettes
** testing if installed package can be loaded from temporary location
** testing if installed package can be loaded from final location
** testing if installed package keeps a record of temporary installation path

install for x64

* installing *source* package 'BrainStars' ...
** testing if installed package can be loaded
* MD5 sums
packaged installation of 'BrainStars' as BrainStars_1.33.0.zip
* DONE (BrainStars)