Back to Multiple platform build/check report for BioC 3.12
A[B]CDEFGHIJKLMNOPQRSTUVWXYZ

BUILD BIN report for BrainStars on merida1

This page was generated on 2020-08-07 12:26:39 -0400 (Fri, 07 Aug 2020).

TO THE DEVELOPERS/MAINTAINERS OF THE BrainStars PACKAGE: Please make sure to use the following settings in order to reproduce any error or warning you see on this page.
Package 194/1882HostnameOS / ArchINSTALLBUILDCHECKBUILD BIN
BrainStars 1.33.0
Itoshi NIKAIDO
Snapshot Date: 2020-08-06 14:50:46 -0400 (Thu, 06 Aug 2020)
URL: https://git.bioconductor.org/packages/BrainStars
Branch: master
Last Commit: e0111ee
Last Changed Date: 2020-04-27 14:29:00 -0400 (Mon, 27 Apr 2020)
malbec1 Linux (Ubuntu 18.04.4 LTS) / x86_64  OK  OK  OK UNNEEDED, same version exists in internal repository
tokay1 Windows Server 2012 R2 Standard / x64  OK  OK  OK  OK UNNEEDED, same version exists in internal repository
merida1 macOS 10.14.6 Mojave / x86_64  OK  OK  OK [ OK ]UNNEEDED, same version exists in internal repository

Summary

Package: BrainStars
Version: 1.33.0
Command: rm -rf BrainStars.buildbin-libdir && mkdir BrainStars.buildbin-libdir && /Users/biocbuild/BBS/utils/build-universal.sh BrainStars_1.33.0.tar.gz /Library/Frameworks/R.framework/Versions/Current/Resources/bin/R BrainStars.buildbin-libdir
StartedAt: 2020-08-07 06:23:51 -0400 (Fri, 07 Aug 2020)
EndedAt: 2020-08-07 06:24:39 -0400 (Fri, 07 Aug 2020)
EllapsedTime: 48.1 seconds
RetCode: 0
Status:  OK 
PackageFile: BrainStars_1.33.0.tgz
PackageFileSize: 378.7 KiB

Command output

##############################################################################
##############################################################################
###
### Running command:
###
###   rm -rf BrainStars.buildbin-libdir && mkdir BrainStars.buildbin-libdir && /Users/biocbuild/BBS/utils/build-universal.sh BrainStars_1.33.0.tar.gz /Library/Frameworks/R.framework/Versions/Current/Resources/bin/R BrainStars.buildbin-libdir
###
##############################################################################
##############################################################################


>>>>>>> 
>>>>>>> INSTALLATION WITH 'R CMD INSTALL --preclean --no-multiarch --library=BrainStars.buildbin-libdir BrainStars_1.33.0.tar.gz'
>>>>>>> 

* installing *source* package ‘BrainStars’ ...
** using staged installation
** R
** inst
** byte-compile and prepare package for lazy loading
** help
*** installing help indices
** building package indices
** installing vignettes
** testing if installed package can be loaded from temporary location
** testing if installed package can be loaded from final location
** testing if installed package keeps a record of temporary installation path
* DONE (BrainStars)