Back to Multiple platform build/check report for BioC 3.12
A[B]CDEFGHIJKLMNOPQRSTUVWXYZ

INSTALL report for BiocSingular on nebbiolo1

This page was generated on 2020-09-19 10:18:09 -0400 (Sat, 19 Sep 2020).

TO THE DEVELOPERS/MAINTAINERS OF THE BiocSingular PACKAGE: Please make sure to use the following settings in order to reproduce any error or warning you see on this page.
Package 162/1912HostnameOS / ArchINSTALLBUILDCHECKBUILD BIN
BiocSingular 1.5.0
Aaron Lun
Snapshot Date: 2020-09-18 14:43:25 -0400 (Fri, 18 Sep 2020)
URL: https://git.bioconductor.org/packages/BiocSingular
Branch: master
Last Commit: 8e5c260
Last Changed Date: 2020-04-27 15:23:30 -0400 (Mon, 27 Apr 2020)
malbec1 Linux (Ubuntu 18.04.4 LTS) / x86_64  OK  OK  OK UNNEEDED, same version exists in internal repository
nebbiolo1 Linux (Ubuntu 20.04.1 LTS) / x86_64 [ OK ] OK  OK 
tokay1 Windows Server 2012 R2 Standard / x64  OK  OK  OK  OK UNNEEDED, same version exists in internal repository
riesling1 Windows Server 2019 Standard / x64  OK  OK  OK  OK 
merida1 macOS 10.14.6 Mojave / x86_64  OK  OK  OK  OK UNNEEDED, same version exists in internal repository

Summary

Package: BiocSingular
Version: 1.5.0
Command: /home/biocbuild/bbs-3.12-bioc/R/bin/R CMD INSTALL BiocSingular
StartedAt: 2020-09-18 16:44:04 -0400 (Fri, 18 Sep 2020)
EndedAt: 2020-09-18 16:45:07 -0400 (Fri, 18 Sep 2020)
EllapsedTime: 62.8 seconds
RetCode: 0
Status:  OK 

Command output

##############################################################################
##############################################################################
###
### Running command:
###
###   /home/biocbuild/bbs-3.12-bioc/R/bin/R CMD INSTALL BiocSingular
###
##############################################################################
##############################################################################


* installing to library ‘/home/biocbuild/bbs-3.12-bioc/R/library’
* installing *source* package ‘BiocSingular’ ...
** using staged installation
** libs
g++ -std=gnu++11 -I"/home/biocbuild/bbs-3.12-bioc/R/include" -DNDEBUG  -I'/home/biocbuild/bbs-3.12-bioc/R/library/Rcpp/include' -I'/home/biocbuild/bbs-3.12-bioc/R/library/beachmat/include' -I/usr/local/include   -fpic  -g -O2  -Wall -c RcppExports.cpp -o RcppExports.o
g++ -std=gnu++11 -I"/home/biocbuild/bbs-3.12-bioc/R/include" -DNDEBUG  -I'/home/biocbuild/bbs-3.12-bioc/R/library/Rcpp/include' -I'/home/biocbuild/bbs-3.12-bioc/R/library/beachmat/include' -I/usr/local/include   -fpic  -g -O2  -Wall -c compute_scale.cpp -o compute_scale.o
compute_scale.cpp: In instantiation of ‘Rcpp::NumericVector compute_scale_internal(Rcpp::RObject, Rcpp::RObject) [with M = beachmat::lin_matrix<int, Rcpp::Vector<13> >; Rcpp::NumericVector = Rcpp::Vector<14, Rcpp::PreserveStorage>; Rcpp::RObject = Rcpp::RObject_Impl<Rcpp::PreserveStorage>]’:
compute_scale.cpp:60:79:   required from here
compute_scale.cpp:21:35: warning: comparison of integer expressions of different signedness: ‘R_xlen_t’ {aka ‘long int’} and ‘size_t’ {aka ‘long unsigned int’} [-Wsign-compare]
   21 |         if (numeric_centers.size()!=ncols) {
      |             ~~~~~~~~~~~~~~~~~~~~~~^~~~~~~
compute_scale.cpp: In instantiation of ‘Rcpp::NumericVector compute_scale_internal(Rcpp::RObject, Rcpp::RObject) [with M = beachmat::lin_matrix<double, Rcpp::Vector<14, Rcpp::PreserveStorage> >; Rcpp::NumericVector = Rcpp::Vector<14, Rcpp::PreserveStorage>; Rcpp::RObject = Rcpp::RObject_Impl<Rcpp::PreserveStorage>]’:
compute_scale.cpp:62:79:   required from here
compute_scale.cpp:21:35: warning: comparison of integer expressions of different signedness: ‘R_xlen_t’ {aka ‘long int’} and ‘size_t’ {aka ‘long unsigned int’} [-Wsign-compare]
g++ -std=gnu++11 -shared -L/home/biocbuild/bbs-3.12-bioc/R/lib -L/usr/local/lib -o BiocSingular.so RcppExports.o compute_scale.o -L/home/biocbuild/bbs-3.12-bioc/R/lib -lR
installing to /home/biocbuild/bbs-3.12-bioc/R/library/00LOCK-BiocSingular/00new/BiocSingular/libs
** R
** inst
** byte-compile and prepare package for lazy loading
** help
*** installing help indices
** building package indices
** installing vignettes
** testing if installed package can be loaded from temporary location
** checking absolute paths in shared objects and dynamic libraries
** testing if installed package can be loaded from final location
** testing if installed package keeps a record of temporary installation path
* DONE (BiocSingular)