Back to Multiple platform build/check report for BioC 3.12
A[B]CDEFGHIJKLMNOPQRSTUVWXYZ

INSTALL report for BiocIO on nebbiolo1

This page was generated on 2021-01-19 11:53:05 -0500 (Tue, 19 Jan 2021).

TO THE DEVELOPERS/MAINTAINERS OF THE BiocIO PACKAGE: Please make sure to use the following settings in order to reproduce any error or warning you see on this page.
Package 162/1974HostnameOS / ArchINSTALLBUILDCHECKBUILD BIN
BiocIO 1.0.1
Bioconductor Package Maintainer
Snapshot Date: 2021-01-18 14:42:24 -0500 (Mon, 18 Jan 2021)
URL: https://git.bioconductor.org/packages/BiocIO
Branch: RELEASE_3_12
Last Commit: 724abe7
Last Changed Date: 2020-11-09 08:42:03 -0500 (Mon, 09 Nov 2020)
malbec1 Linux (Ubuntu 18.04.5 LTS) / x86_64  OK  OK  OK UNNEEDED, same version exists in internal repository
nebbiolo1 Linux (Ubuntu 20.04.1 LTS) / x86_64 [ OK ] OK  OK 
tokay1 Windows Server 2012 R2 Standard / x64  OK  OK  WARNINGS  OK UNNEEDED, same version exists in internal repository
merida1 macOS 10.14.6 Mojave / x86_64  OK  OK  OK  OK UNNEEDED, same version exists in internal repository

Summary

Package: BiocIO
Version: 1.0.1
Command: /home/biocbuild/bbs-3.12-bioc/R/bin/R CMD INSTALL BiocIO
StartedAt: 2021-01-18 17:11:13 -0500 (Mon, 18 Jan 2021)
EndedAt: 2021-01-18 17:12:27 -0500 (Mon, 18 Jan 2021)
EllapsedTime: 73.4 seconds
RetCode: 0
Status:  OK 

Command output

##############################################################################
##############################################################################
###
### Running command:
###
###   /home/biocbuild/bbs-3.12-bioc/R/bin/R CMD INSTALL BiocIO
###
##############################################################################
##############################################################################


* installing to library ‘/home/biocbuild/bbs-3.12-bioc/R/library’
* installing *source* package ‘BiocIO’ ...
** using staged installation
** R
** byte-compile and prepare package for lazy loading
** help
*** installing help indices
** building package indices
** installing vignettes
** testing if installed package can be loaded from temporary location
** testing if installed package can be loaded from final location
** testing if installed package keeps a record of temporary installation path
* DONE (BiocIO)