Back to Multiple platform build/check report for BioC 3.12
A[B]CDEFGHIJKLMNOPQRSTUVWXYZ

BUILD report for BioTIP on nebbiolo1

This page was generated on 2021-03-03 12:11:38 -0500 (Wed, 03 Mar 2021).

To the developers/maintainers of the BioTIP package:
Please make sure to use the following settings in order to reproduce any error or warning you see on this page.
Package 188/1974HostnameOS / ArchINSTALLBUILDCHECKBUILD BIN
BioTIP 1.4.0
Yuxi (Jennifer) Sun , Zhezhen Wang , and X Holly Yang
Snapshot Date: 2021-03-02 14:50:31 -0500 (Tue, 02 Mar 2021)
URL: https://git.bioconductor.org/packages/BioTIP
Branch: RELEASE_3_12
Last Commit: 7fbbf0f
Last Changed Date: 2020-10-27 11:49:44 -0500 (Tue, 27 Oct 2020)
malbec1Linux (Ubuntu 18.04.5 LTS) / x86_64  OK    OK    WARNINGS  UNNEEDED, same version exists in internal repository
nebbiolo1Linux (Ubuntu 20.04.2 LTS) / x86_64  OK    OK    WARNINGS  
tokay1Windows Server 2012 R2 Standard / x64  OK    OK    WARNINGS    OK  UNNEEDED, same version exists in internal repository
merida1macOS 10.14.6 Mojave / x86_64  OK    OK    WARNINGS    OK  UNNEEDED, same version exists in internal repository

Summary

Package: BioTIP
Version: 1.4.0
Command: /home/biocbuild/bbs-3.12-bioc/R/bin/R CMD build --keep-empty-dirs --no-resave-data BioTIP
StartedAt: 2021-03-02 17:46:38 -0500 (Tue, 02 Mar 2021)
EndedAt: 2021-03-02 17:48:11 -0500 (Tue, 02 Mar 2021)
EllapsedTime: 92.6 seconds
RetCode: 0
Status:   OK  
PackageFile: BioTIP_1.4.0.tar.gz
PackageFileSize: 9.152 MiB

Command output

##############################################################################
##############################################################################
###
### Running command:
###
###   /home/biocbuild/bbs-3.12-bioc/R/bin/R CMD build --keep-empty-dirs --no-resave-data BioTIP
###
##############################################################################
##############################################################################


* checking for file ‘BioTIP/DESCRIPTION’ ... OK
* preparing ‘BioTIP’:
* checking DESCRIPTION meta-information ... OK
* installing the package to build vignettes
* creating vignettes ... OK
* checking for LF line-endings in source and make files and shell scripts
* checking for empty or unneeded directories
* building ‘BioTIP_1.4.0.tar.gz’